BEGIN:VCALENDAR
VERSION:2.0
PRODID:-//Everett, MA - Official Website - ECPv6.15.14//NONSGML v1.0//EN
CALSCALE:GREGORIAN
METHOD:PUBLISH
X-WR-CALNAME:Everett, MA - Official Website
X-ORIGINAL-URL:https://cityofeverett.com
X-WR-CALDESC:Events for Everett, MA - Official Website
REFRESH-INTERVAL;VALUE=DURATION:PT1H
X-Robots-Tag:noindex
X-PUBLISHED-TTL:PT1H
BEGIN:VTIMEZONE
TZID:America/New_York
BEGIN:DAYLIGHT
TZOFFSETFROM:-0500
TZOFFSETTO:-0400
TZNAME:EDT
DTSTART:20220313T070000
END:DAYLIGHT
BEGIN:STANDARD
TZOFFSETFROM:-0400
TZOFFSETTO:-0500
TZNAME:EST
DTSTART:20221106T060000
END:STANDARD
BEGIN:DAYLIGHT
TZOFFSETFROM:-0500
TZOFFSETTO:-0400
TZNAME:EDT
DTSTART:20230312T070000
END:DAYLIGHT
BEGIN:STANDARD
TZOFFSETFROM:-0400
TZOFFSETTO:-0500
TZNAME:EST
DTSTART:20231105T060000
END:STANDARD
BEGIN:DAYLIGHT
TZOFFSETFROM:-0500
TZOFFSETTO:-0400
TZNAME:EDT
DTSTART:20240310T070000
END:DAYLIGHT
BEGIN:STANDARD
TZOFFSETFROM:-0400
TZOFFSETTO:-0500
TZNAME:EST
DTSTART:20241103T060000
END:STANDARD
END:VTIMEZONE
BEGIN:VEVENT
DTSTART;TZID=America/New_York:20230314T180000
DTEND;TZID=America/New_York:20230314T210000
DTSTAMP:20260419T211051
CREATED:20230215T131812Z
LAST-MODIFIED:20230313T201552Z
UID:10001227-1678816800-1678827600@cityofeverett.com
SUMMARY:Friendly Sons of Saint Patrick Dinner
DESCRIPTION:Join us as we celebrate St. Patrick’s Day with Irish banter\, live music and comedy at the annual Friendly Sons of Saint Patrick Dinner!\nMayor Carlo DeMaria\, in partnership with State Representative Joe McGonagle\, are pleased to present the annual Friendly Sons of Saint Patrick Dinner. \nThe event will feature performances from Devri\, comedian Dave Russo\, Singing Trooper Dan Clark\, Mary Heavey-Quinn’s Irish step dancers and the Boston Police Gaelic Column of Pipes and Drums.In addition to entertainment\, there will be awards presented to those who serve the community. The honorees will receive the traditional shillelagh as a token of gratitude for their dedication to community service. The dinner is a light-hearted evening filled with laughter and camaraderie in the true Irish tradition. \n\nTickets are $100 per person or $900 per table.\nTo purchase tickets\, please RSVP: everettfsosp@gmail.com\n\nAll proceeds from the event will be donated to the Everett Fire Victims Fund\, For Kids Only Afterschool and Orange Rose Foundation. \nThe Friendly Sons of Saint Patrick is a non-profit organization founded in 1941 to increase awareness of the cultural achievements of people of Irish descent in America. The organization has been serving the Everett Community since 1954 and has had such distinguished guests as then-Senator John F. Kennedy in 1958\, as well as a wide array of governors\, senators and other distinguished public servants. \nFor any questions or additional information\, please contact everettfsosp@gmail.com.
URL:https://cityofeverett.com/events/friendly-sons-of-saint-patrick-dinner/
LOCATION:Encore Boston Harbor – Picasso Ballroom\, 1 Broadway\, Everett\, MA\, 02149\, United States
CATEGORIES:Events
ATTACH;FMTTYPE=image/png:https://cityofeverett.com/wp-content/uploads/2023/02/Friendly-Sons-of-Saint-Patrick-Banner-Dave-Russo-e1677690921969.png
END:VEVENT
END:VCALENDAR