BEGIN:VCALENDAR
VERSION:2.0
PRODID:-//Everett, MA - Official Website - ECPv6.15.14//NONSGML v1.0//EN
CALSCALE:GREGORIAN
METHOD:PUBLISH
X-ORIGINAL-URL:https://cityofeverett.com
X-WR-CALDESC:Events for Everett, MA - Official Website
REFRESH-INTERVAL;VALUE=DURATION:PT1H
X-Robots-Tag:noindex
X-PUBLISHED-TTL:PT1H
BEGIN:VTIMEZONE
TZID:America/New_York
BEGIN:DAYLIGHT
TZOFFSETFROM:-0500
TZOFFSETTO:-0400
TZNAME:EDT
DTSTART:20220313T070000
END:DAYLIGHT
BEGIN:STANDARD
TZOFFSETFROM:-0400
TZOFFSETTO:-0500
TZNAME:EST
DTSTART:20221106T060000
END:STANDARD
BEGIN:DAYLIGHT
TZOFFSETFROM:-0500
TZOFFSETTO:-0400
TZNAME:EDT
DTSTART:20230312T070000
END:DAYLIGHT
BEGIN:STANDARD
TZOFFSETFROM:-0400
TZOFFSETTO:-0500
TZNAME:EST
DTSTART:20231105T060000
END:STANDARD
BEGIN:DAYLIGHT
TZOFFSETFROM:-0500
TZOFFSETTO:-0400
TZNAME:EDT
DTSTART:20240310T070000
END:DAYLIGHT
BEGIN:STANDARD
TZOFFSETFROM:-0400
TZOFFSETTO:-0500
TZNAME:EST
DTSTART:20241103T060000
END:STANDARD
END:VTIMEZONE
BEGIN:VEVENT
DTSTART;TZID=America/New_York:20230403T180000
DTEND;TZID=America/New_York:20230403T190000
DTSTAMP:20260421T102416
CREATED:20230327T155441Z
LAST-MODIFIED:20230327T155441Z
UID:10001327-1680544800-1680548400@cityofeverett.com
SUMMARY:Board of Health 04-03-23
DESCRIPTION:Everett Board of Health Meeting \nMonday April 3\, 2023 6:00 PM\nMayor’s Conference Room\, Third Floor City Hall \n  \nClick here to download Agenda PDF
URL:https://cityofeverett.com/events/board-of-health-04-03-23/
LOCATION:Everett City Hall\, 484 Broadway\, Everett\, MA\, 02149\, United States
CATEGORIES:Agendas
END:VEVENT
BEGIN:VEVENT
DTSTART;TZID=America/New_York:20230403T180000
DTEND;TZID=America/New_York:20230403T190000
DTSTAMP:20260421T102416
CREATED:20230330T145438Z
LAST-MODIFIED:20230403T155248Z
UID:10001330-1680544800-1680548400@cityofeverett.com
SUMMARY:Committee on Government Operations\, Public Safety\, and Public Service 04-03-23 Postponed: Rescheduled Thursday\, April 13 at 6:00 PM
DESCRIPTION:CITY COUNCIL’S COMMITTEE ON GOVERNMENT OPERATIONS\, PUBLIC SAFETY \nPostponed: Rescheduled Thursday\, April 13 at 6:00 PM \nMONDAY\, APRIL 03\, 2023 6:00 PM\nEVERETT CITY HALL\, 484 BROADWAY\,\nCITY COUNCIL CHAMBERS\, 3RD FLOOR\nEVERETT\, MA 02149 \n  \nClick here to download Agenda PDF
URL:https://cityofeverett.com/events/committee-on-government-operations-public-safety-and-public-service-04-03-23/
LOCATION:Everett City Hall\, 484 Broadway\, Everett\, MA\, 02149\, United States
CATEGORIES:Agendas
END:VEVENT
BEGIN:VEVENT
DTSTART;TZID=America/New_York:20230403T180000
DTEND;TZID=America/New_York:20230403T190000
DTSTAMP:20260421T102416
CREATED:20230330T171133Z
LAST-MODIFIED:20230330T171133Z
UID:10001331-1680544800-1680548400@cityofeverett.com
SUMMARY:Special School Committee Meeting 04-03-23
DESCRIPTION:SPECIAL MEETING OF THE EVERETT SCHOOL COMMITTEE Public Hearings \nMonday\, April 3\, 2023\, 6:00 p.m. \nEVERETT HICH SCHOOL LIBRARY\n100 Elm St.\, Everett\, MA 02149 \nOPEN SESSIONS MAY BE VIEWED LIVE \nON THE EVERETT PUBLIC SCHOOLS WEBSITE:  \nwww.everettpublicschools.org \n  \nClick here to download Agenda PDF
URL:https://cityofeverett.com/events/special-school-committee-meeting-04-03-23/
LOCATION:Everett High School Library\, 100 Elm St.\, Everett\, 02749\, United States
CATEGORIES:Agendas
END:VEVENT
BEGIN:VEVENT
DTSTART;TZID=America/New_York:20230403T180000
DTEND;TZID=America/New_York:20230403T190000
DTSTAMP:20260421T102416
CREATED:20230330T172552Z
LAST-MODIFIED:20230330T172604Z
UID:10001332-1680544800-1680548400@cityofeverett.com
SUMMARY:School Committee Meeting 04-03-23
DESCRIPTION:EVERETT SCHOOL COMMITTEE\nRegular Meeting \nMonday\, April 3\, 2023\nMeeting will begin after the Budget and School Choice Public Hearing which are scheduled to begin at 6:00 p.m. on Monday\, April 3\, 2023 \nEVERETT HIGH SCHOOL LIBRARY\n100 Elm St.\, Everett\, MA 02149 \nOPEN SESSIONS MAY BE VIEWED LIVE\nON THE EVERETT PUBLIC SCHOOLS WEBSITE:\nwww.everettpublicschools.org \n  \nClick here to download Agenda PDF
URL:https://cityofeverett.com/events/school-committee-meeting-04-03-23/
LOCATION:Everett High School Library\, 100 Elm St.\, Everett\, 02749\, United States
CATEGORIES:Agendas
END:VEVENT
BEGIN:VEVENT
DTSTART;TZID=America/New_York:20230403T180000
DTEND;TZID=America/New_York:20230403T190000
DTSTAMP:20260421T102416
CREATED:20230330T174111Z
LAST-MODIFIED:20230330T203438Z
UID:10001334-1680544800-1680548400@cityofeverett.com
SUMMARY:Planning Board 04-03-23
DESCRIPTION: Meeting of the Everett Planning Board \nEverett City Hall\, 3rd Floor\, Speaker George Keverian Room\non Monday\, April 3rd\, 2023 at 6:00 pm \n  \nClick here to download Agenda PDF
URL:https://cityofeverett.com/events/planning-board-04-03-23/
LOCATION:Everett City Hall\, 484 Broadway\, Everett\, MA\, 02149\, United States
CATEGORIES:Agendas
END:VEVENT
END:VCALENDAR