BEGIN:VCALENDAR
VERSION:2.0
PRODID:-//Everett, MA - Official Website - ECPv6.15.14//NONSGML v1.0//EN
CALSCALE:GREGORIAN
METHOD:PUBLISH
X-WR-CALNAME:Everett, MA - Official Website
X-ORIGINAL-URL:https://cityofeverett.com
X-WR-CALDESC:Events for Everett, MA - Official Website
REFRESH-INTERVAL;VALUE=DURATION:PT1H
X-Robots-Tag:noindex
X-PUBLISHED-TTL:PT1H
BEGIN:VTIMEZONE
TZID:America/New_York
BEGIN:DAYLIGHT
TZOFFSETFROM:-0500
TZOFFSETTO:-0400
TZNAME:EDT
DTSTART:20220313T070000
END:DAYLIGHT
BEGIN:STANDARD
TZOFFSETFROM:-0400
TZOFFSETTO:-0500
TZNAME:EST
DTSTART:20221106T060000
END:STANDARD
BEGIN:DAYLIGHT
TZOFFSETFROM:-0500
TZOFFSETTO:-0400
TZNAME:EDT
DTSTART:20230312T070000
END:DAYLIGHT
BEGIN:STANDARD
TZOFFSETFROM:-0400
TZOFFSETTO:-0500
TZNAME:EST
DTSTART:20231105T060000
END:STANDARD
BEGIN:DAYLIGHT
TZOFFSETFROM:-0500
TZOFFSETTO:-0400
TZNAME:EDT
DTSTART:20240310T070000
END:DAYLIGHT
BEGIN:STANDARD
TZOFFSETFROM:-0400
TZOFFSETTO:-0500
TZNAME:EST
DTSTART:20241103T060000
END:STANDARD
END:VTIMEZONE
BEGIN:VEVENT
DTSTART;TZID=America/New_York:20230509T080000
DTEND;TZID=America/New_York:20230509T110000
DTSTAMP:20260420T183909
CREATED:20230425T164424Z
LAST-MODIFIED:20230425T164551Z
UID:10001359-1683619200-1683630000@cityofeverett.com
SUMMARY:Memorial Day Flag Placing - Glenwood Cemetery
DESCRIPTION:City of Everett Hosting Annual Memorial Day Flag Placement\nMayor Asks Residents to Help Place Flags on Veterans’ Graves\n \nMayor Carlo DeMaria\, in collaboration with Antoine Coleman\, the City of Everett’s Director of Veterans’ Affairs\, is pleased to announce the City of Everett will be hosting the annual event to place U.S. flags on veteran marked graves at Glenwood and Woodlawn Cemeteries. \nMayor DeMaria is asking residents to take part in the special task of honoring those who served our country and are now laid to rest by helping place flags on the graves of veterans. Many of these heroes gave their lives for our freedom while on active duty and it’s important to never forget their sacrifice. \n“If you haven’t had the opportunity to join us for this effort before\, it is a truly humbling experience to be reminded of the sacrifices that the men and women from our very own community were willing to make to defend our country and our freedom\,” said Mayor DeMaria. “Placing flags is a small\, but important way for us to thank and remember the individuals who have gone before us for their service.” \nVolunteers are asked to meet at the following locations and times: \nGlenwood Cemetery (Washington Ave.\, Everett\, MA 02149): \n\nTuesday\, May 9: 8 a.m. – 11 a.m.\n\nWoodlawn Cemetery (302 Elm St.\, Everett\, MA 02149): \n\nTuesday\, May 16: 8 a.m. – 11 a.m.\nWednesday\, May 17: – 8 a.m. to 11 a.m.\n\nIf you are able to participate\, please contact Antoine Coleman\, Director of Veterans’ Affairs\, at Antoine.Coleman@ci.everett.ma.us. If you have any questions\, please contact Antoine Coleman or Gerri Miranda in our Veterans Services Office at 617-394-2320.
URL:https://cityofeverett.com/events/memorial-day-flag-placing-glenwood-cemetery/
LOCATION:Glenwood Cemetery\, Washington Ave.\, Everett\, MA\, 02149\, United States
CATEGORIES:Events
ATTACH;FMTTYPE=image/png:https://cityofeverett.com/wp-content/uploads/2023/04/Memorial-Day-Flag-Placing-Banner-e1682439877785.png
END:VEVENT
BEGIN:VEVENT
DTSTART;TZID=America/New_York:20230509T190000
DTEND;TZID=America/New_York:20230509T200000
DTSTAMP:20260420T183910
CREATED:20230503T170937Z
LAST-MODIFIED:20230510T145329Z
UID:10001372-1683658800-1683662400@cityofeverett.com
SUMMARY:Everett Youth Commission 05-09-23 Cancelled - Reschedule TBD
DESCRIPTION:EVERETT YOUTH COMMISSION\nCancelled – Reschedule TBD \nMeeting 3: May 9\, 2023 at 7:00pm\, Rec Center\n(Rescheduled from May 2\, 2023 meeting which was cancelled) \n  \nClick here to download Agenda PDF
URL:https://cityofeverett.com/events/everett-youth-commission-05-09-23/
LOCATION:Everett Recreation Center\, 47 Elm St.\, Everett\, MA\, 02149\, United States
CATEGORIES:Agendas
END:VEVENT
END:VCALENDAR