BEGIN:VCALENDAR
VERSION:2.0
PRODID:-//Everett, MA - Official Website - ECPv6.15.14//NONSGML v1.0//EN
CALSCALE:GREGORIAN
METHOD:PUBLISH
X-WR-CALNAME:Everett, MA - Official Website
X-ORIGINAL-URL:https://cityofeverett.com
X-WR-CALDESC:Events for Everett, MA - Official Website
REFRESH-INTERVAL;VALUE=DURATION:PT1H
X-Robots-Tag:noindex
X-PUBLISHED-TTL:PT1H
BEGIN:VTIMEZONE
TZID:America/New_York
BEGIN:DAYLIGHT
TZOFFSETFROM:-0500
TZOFFSETTO:-0400
TZNAME:EDT
DTSTART:20220313T070000
END:DAYLIGHT
BEGIN:STANDARD
TZOFFSETFROM:-0400
TZOFFSETTO:-0500
TZNAME:EST
DTSTART:20221106T060000
END:STANDARD
BEGIN:DAYLIGHT
TZOFFSETFROM:-0500
TZOFFSETTO:-0400
TZNAME:EDT
DTSTART:20230312T070000
END:DAYLIGHT
BEGIN:STANDARD
TZOFFSETFROM:-0400
TZOFFSETTO:-0500
TZNAME:EST
DTSTART:20231105T060000
END:STANDARD
BEGIN:DAYLIGHT
TZOFFSETFROM:-0500
TZOFFSETTO:-0400
TZNAME:EDT
DTSTART:20240310T070000
END:DAYLIGHT
BEGIN:STANDARD
TZOFFSETFROM:-0400
TZOFFSETTO:-0500
TZNAME:EST
DTSTART:20241103T060000
END:STANDARD
END:VTIMEZONE
BEGIN:VEVENT
DTSTART;TZID=America/New_York:20230517T080000
DTEND;TZID=America/New_York:20230517T110000
DTSTAMP:20260419T084730
CREATED:20230425T164525Z
LAST-MODIFIED:20230516T140511Z
UID:10001362-1684310400-1684321200@cityofeverett.com
SUMMARY:Memorial Day Flag Placing - Woodlawn Cemetery 2
DESCRIPTION:City of Everett Hosting Annual Memorial Day Flag Placement\nMayor Asks Residents to Help Place Flags on Veterans’ Graves\n \nMayor Carlo DeMaria\, in collaboration with Antoine Coleman\, the City of Everett’s Director of Veterans’ Affairs\, is pleased to announce the City of Everett will be hosting the annual event to place U.S. flags on veteran marked graves at Glenwood and Woodlawn Cemeteries. \nMayor DeMaria is asking residents to take part in the special task of honoring those who served our country and are now laid to rest by helping place flags on the graves of veterans. Many of these heroes gave their lives for our freedom while on active duty and it’s important to never forget their sacrifice. \n“If you haven’t had the opportunity to join us for this effort before\, it is a truly humbling experience to be reminded of the sacrifices that the men and women from our very own community were willing to make to defend our country and our freedom\,” said Mayor DeMaria. “Placing flags is a small\, but important way for us to thank and remember the individuals who have gone before us for their service.” \nVolunteers are asked to meet at the following locations and times: \nWoodlawn Cemetery (302 Elm St.\, Everett\, MA 02149): \n\nWednesday\, May 17: – 8 a.m. to 11 a.m.\n\nIf you are able to participate\, please contact Antoine Coleman\, Director of Veterans’ Affairs\, at Antoine.Coleman@ci.everett.ma.us. If you have any questions\, please contact Antoine Coleman or Gerri Miranda in our Veterans Services Office at 617-394-2320.
URL:https://cityofeverett.com/events/memorial-day-flag-placing-woodlawn-cemetery-2/
LOCATION:Woodlawn Cemetery\, 302 Elm St.\, Everett\, MA\, 02149\, United States
CATEGORIES:Events
ATTACH;FMTTYPE=image/png:https://cityofeverett.com/wp-content/uploads/2023/04/Memorial-Day-Flag-Placing-Banner-e1682439877785.png
END:VEVENT
BEGIN:VEVENT
DTSTART;TZID=America/New_York:20230517T180000
DTEND;TZID=America/New_York:20230517T190000
DTSTAMP:20260419T084730
CREATED:20230511T201322Z
LAST-MODIFIED:20230511T201322Z
UID:10001387-1684346400-1684350000@cityofeverett.com
SUMMARY:Budget Hearings 05-17-23
DESCRIPTION:CITY COUNCIL’S COMMITTEE ON THE BUDGET \nWEDNESDAY\, MAY 17\, 2023 6:00 PM\nEVERETT CITY HALL\, 484 BROADWAY\, EVERETT\, MA 02149\nCITY COUNCIL CHAMBERS\, 3RD FLOOR \n  \nClick here to download Agenda PDF
URL:https://cityofeverett.com/events/budget-hearings-05-17-23/
LOCATION:Everett City Hall\, 484 Broadway\, Everett\, MA\, 02149\, United States
CATEGORIES:Agendas
END:VEVENT
BEGIN:VEVENT
DTSTART;TZID=America/New_York:20230517T180000
DTEND;TZID=America/New_York:20230517T190000
DTSTAMP:20260419T084730
CREATED:20230515T152447Z
LAST-MODIFIED:20230515T152447Z
UID:10001391-1684346400-1684350000@cityofeverett.com
SUMMARY:Traffic Commission 05-17-23
DESCRIPTION:Traffic Commission Meeting \nMay 17\, 2023\nWednesday at 6:00 P.M.\nKeverian Room\, 3rd Fl. Everett City Hall \n  \nClick here to download Agenda PDF
URL:https://cityofeverett.com/events/traffic-commission-05-17-23/
LOCATION:Everett City Hall\, 484 Broadway\, Everett\, MA\, 02149\, United States
CATEGORIES:Agendas
END:VEVENT
END:VCALENDAR