BEGIN:VCALENDAR
VERSION:2.0
PRODID:-//Everett, MA - Official Website - ECPv6.15.14//NONSGML v1.0//EN
CALSCALE:GREGORIAN
METHOD:PUBLISH
X-WR-CALNAME:Everett, MA - Official Website
X-ORIGINAL-URL:https://cityofeverett.com
X-WR-CALDESC:Events for Everett, MA - Official Website
REFRESH-INTERVAL;VALUE=DURATION:PT1H
X-Robots-Tag:noindex
X-PUBLISHED-TTL:PT1H
BEGIN:VTIMEZONE
TZID:America/New_York
BEGIN:DAYLIGHT
TZOFFSETFROM:-0500
TZOFFSETTO:-0400
TZNAME:EDT
DTSTART:20220313T070000
END:DAYLIGHT
BEGIN:STANDARD
TZOFFSETFROM:-0400
TZOFFSETTO:-0500
TZNAME:EST
DTSTART:20221106T060000
END:STANDARD
BEGIN:DAYLIGHT
TZOFFSETFROM:-0500
TZOFFSETTO:-0400
TZNAME:EDT
DTSTART:20230312T070000
END:DAYLIGHT
BEGIN:STANDARD
TZOFFSETFROM:-0400
TZOFFSETTO:-0500
TZNAME:EST
DTSTART:20231105T060000
END:STANDARD
BEGIN:DAYLIGHT
TZOFFSETFROM:-0500
TZOFFSETTO:-0400
TZNAME:EDT
DTSTART:20240310T070000
END:DAYLIGHT
BEGIN:STANDARD
TZOFFSETFROM:-0400
TZOFFSETTO:-0500
TZNAME:EST
DTSTART:20241103T060000
END:STANDARD
END:VTIMEZONE
BEGIN:VEVENT
DTSTART;TZID=America/New_York:20230912T180000
DTEND;TZID=America/New_York:20230912T190000
DTSTAMP:20260424T175649
CREATED:20230907T140547Z
LAST-MODIFIED:20230907T172559Z
UID:10001485-1694541600-1694545200@cityofeverett.com
SUMMARY:Library Board of Trustees 09-12-23
DESCRIPTION:REGULAR MEETING OF THE EVERETT PUBLIC LIBRARIES BOARD OF TRUSTEES \nTUESDAY SEPTEMBER 12\nMEETING at PARLIN MEMORIAL LIBRARY CONFERENCE ROOM\n6:00 PM \n  \nClick here to download Agenda Doc
URL:https://cityofeverett.com/events/library-board-of-trustees-09-12-23/
LOCATION:Parlin Memorial Library Conference Room\, 410 Broadway\, Everett\, MA\, 02149\, United States
CATEGORIES:Agendas
END:VEVENT
BEGIN:VEVENT
DTSTART;TZID=America/New_York:20230912T190000
DTEND;TZID=America/New_York:20230912T200000
DTSTAMP:20260424T175649
CREATED:20230907T172040Z
LAST-MODIFIED:20230907T172124Z
UID:10001486-1694545200-1694548800@cityofeverett.com
SUMMARY:Everett Youth Commission 09-12-23
DESCRIPTION:EVERETT YOUTH COMMISSION \nMeeting 4: September 12\, 2023 at 7:00pm\, Rec Center \n  \nClick here to download Agenda Doc
URL:https://cityofeverett.com/events/everett-youth-commission-09-12-23/
LOCATION:Everett Recreation Center\, 47 Elm St.\, Everett\, MA\, 02149\, United States
CATEGORIES:Agendas
END:VEVENT
BEGIN:VEVENT
DTSTART;TZID=America/New_York:20230912T200000
DTEND;TZID=America/New_York:20230912T210000
DTSTAMP:20260424T175649
CREATED:20230908T160801Z
LAST-MODIFIED:20230908T161136Z
UID:10001487-1694548800-1694552400@cityofeverett.com
SUMMARY:Superintendent Search Committee 09-12-23
DESCRIPTION:EVERETT SCHOOL COMMITTEE SUPERINTENDENT SEARCH PRE-SCREENING COMMITTEE \nTuesday\, September 12\, 2023\, at 8:00 PM \nRemote Only Open and Executive Session \nZoom Info: in Zoom Meeting\nhttps://us02web.zoom.us/j/87994325300?pwd=czA3ZFk2ZDF0bWx3WWlEYUd1SFBYZz09\npasscode: 948671 \nClick here to download Agenda Doc
URL:https://cityofeverett.com/events/superintendent-search-committee-09-12-23/
LOCATION:MA
CATEGORIES:Agendas
END:VEVENT
END:VCALENDAR