BEGIN:VCALENDAR
VERSION:2.0
PRODID:-//Everett, MA - Official Website - ECPv6.15.14//NONSGML v1.0//EN
CALSCALE:GREGORIAN
METHOD:PUBLISH
X-WR-CALNAME:Everett, MA - Official Website
X-ORIGINAL-URL:https://cityofeverett.com
X-WR-CALDESC:Events for Everett, MA - Official Website
REFRESH-INTERVAL;VALUE=DURATION:PT1H
X-Robots-Tag:noindex
X-PUBLISHED-TTL:PT1H
BEGIN:VTIMEZONE
TZID:America/New_York
BEGIN:DAYLIGHT
TZOFFSETFROM:-0500
TZOFFSETTO:-0400
TZNAME:EDT
DTSTART:20220313T070000
END:DAYLIGHT
BEGIN:STANDARD
TZOFFSETFROM:-0400
TZOFFSETTO:-0500
TZNAME:EST
DTSTART:20221106T060000
END:STANDARD
BEGIN:DAYLIGHT
TZOFFSETFROM:-0500
TZOFFSETTO:-0400
TZNAME:EDT
DTSTART:20230312T070000
END:DAYLIGHT
BEGIN:STANDARD
TZOFFSETFROM:-0400
TZOFFSETTO:-0500
TZNAME:EST
DTSTART:20231105T060000
END:STANDARD
BEGIN:DAYLIGHT
TZOFFSETFROM:-0500
TZOFFSETTO:-0400
TZNAME:EDT
DTSTART:20240310T070000
END:DAYLIGHT
BEGIN:STANDARD
TZOFFSETFROM:-0400
TZOFFSETTO:-0500
TZNAME:EST
DTSTART:20241103T060000
END:STANDARD
END:VTIMEZONE
BEGIN:VEVENT
DTSTART;TZID=America/New_York:20231107T110000
DTEND;TZID=America/New_York:20231107T120000
DTSTAMP:20260422T072659
CREATED:20231025T002534Z
LAST-MODIFIED:20231025T002602Z
UID:10001544-1699354800-1699358400@cityofeverett.com
SUMMARY:Metro Boston Homeland Security – Critical Infrastructure Subcommittee 11-14-23
DESCRIPTION:METRO BOSTON HOMELAND SECURITY REGION \nCRITICAL INFRASTRUCTURE SUBCOMMITTEE MEETING \nTUESDAY\, NOVEMBER 14\, 2023 11:00 AM-12:00 PM\n20 VINE ST\, BOSTON\, MA 02129 \nREMOTE PARTICIPATION VIA:  \nGoogle Meet ID:\nhttps://meet.google.com/ayy-nyvy-ztq \nPhone Number:\nOr dial: (US) + 1 458-888-1103\nPIN: 998 136 298# \n  \nClick here to download Agenda PDF
URL:https://cityofeverett.com/events/metro-boston-homeland-security-critical-infrastructure-subcommittee-11-14-23/
LOCATION:MA
CATEGORIES:Agendas
END:VEVENT
BEGIN:VEVENT
DTSTART;TZID=America/New_York:20231107T110000
DTEND;TZID=America/New_York:20231107T143000
DTSTAMP:20260422T072659
CREATED:20231024T004424Z
LAST-MODIFIED:20231024T005344Z
UID:10001540-1699354800-1699367400@cityofeverett.com
SUMMARY:Metro Boston Homeland Security – Communications Interoperability Sub 11-11-23
DESCRIPTION:METRO BOSTON HOMELAND SECURITY REGION \nCOMMUNICATIONS INTEROPERABILITY SUBCOMMITTEE MEETING  \nTUESDAY\, NOVEMBER 7\, 2023 1:00AM-2:30PM\n350 WASHINGTON ST\, BROOKLINE\, MA 02445\nREMOTE PARTICIPATION VIA: \nMeeting ID:\nhttps://meet.google.com/vzn-zert-kes \nPhone Number:\n(US) + 1 929-324-9363\nPIN: 567 317 786# \n  \nClick here to download Agenda PDF
URL:https://cityofeverett.com/events/metro-boston-homeland-security-communications-interoperability-sub-11-11-23/
LOCATION:MA
CATEGORIES:Agendas
END:VEVENT
END:VCALENDAR