BEGIN:VCALENDAR
VERSION:2.0
PRODID:-//Everett, MA - Official Website - ECPv6.15.14//NONSGML v1.0//EN
CALSCALE:GREGORIAN
METHOD:PUBLISH
X-ORIGINAL-URL:https://cityofeverett.com
X-WR-CALDESC:Events for Everett, MA - Official Website
REFRESH-INTERVAL;VALUE=DURATION:PT1H
X-Robots-Tag:noindex
X-PUBLISHED-TTL:PT1H
BEGIN:VTIMEZONE
TZID:America/New_York
BEGIN:DAYLIGHT
TZOFFSETFROM:-0500
TZOFFSETTO:-0400
TZNAME:EDT
DTSTART:20220313T070000
END:DAYLIGHT
BEGIN:STANDARD
TZOFFSETFROM:-0400
TZOFFSETTO:-0500
TZNAME:EST
DTSTART:20221106T060000
END:STANDARD
BEGIN:DAYLIGHT
TZOFFSETFROM:-0500
TZOFFSETTO:-0400
TZNAME:EDT
DTSTART:20230312T070000
END:DAYLIGHT
BEGIN:STANDARD
TZOFFSETFROM:-0400
TZOFFSETTO:-0500
TZNAME:EST
DTSTART:20231105T060000
END:STANDARD
BEGIN:DAYLIGHT
TZOFFSETFROM:-0500
TZOFFSETTO:-0400
TZNAME:EDT
DTSTART:20240310T070000
END:DAYLIGHT
BEGIN:STANDARD
TZOFFSETFROM:-0400
TZOFFSETTO:-0500
TZNAME:EST
DTSTART:20241103T060000
END:STANDARD
END:VTIMEZONE
BEGIN:VEVENT
DTSTART;TZID=America/New_York:20231120T170000
DTEND;TZID=America/New_York:20231120T200000
DTSTAMP:20260422T162021
CREATED:20231031T155504Z
LAST-MODIFIED:20231115T141916Z
UID:10001554-1700499600-1700510400@cityofeverett.com
SUMMARY:12th Annual Community Thanksgiving Complimentary Dinner
DESCRIPTION:In keeping with the traditions of the Thanksgiving season\, Mass Badge\, in partnership with Zion Church Ministries and Mayor Carlo DeMaria\, is proud to once again host the 12th annual Community Thanksgiving Complimentary Dinner. The spirit of giving is alive and well in Everett. All are invited.
URL:https://cityofeverett.com/events/thanksgiving-dinner-2023/
LOCATION:Edward G Connolly Center\, 90 Chelsea St.\, Everett\, MA\, 02149\, United States
CATEGORIES:Events
ATTACH;FMTTYPE=image/png:https://cityofeverett.com/wp-content/uploads/2023/10/MassBadge.Zion_.City_.12th-Annual-Thanksgiving-DinnerEnglish.png
END:VEVENT
BEGIN:VEVENT
DTSTART;TZID=America/New_York:20231120T180000
DTEND;TZID=America/New_York:20231120T190000
DTSTAMP:20260422T162021
CREATED:20231113T173449Z
LAST-MODIFIED:20231113T173449Z
UID:10001574-1700503200-1700506800@cityofeverett.com
SUMMARY:Zoning Board of Appeals 11-20-23
DESCRIPTION:Zoning Board of Appeals \nMeeting Monday November 20\, 2023\nKeverian Room 3rd Floor\nEverett City Hall 6:00 P.M \n  \nClick here to download Agenda PDF
URL:https://cityofeverett.com/events/zoning-board-of-appeals-11-20-23/
LOCATION:Everett City Hall\, 484 Broadway\, Everett\, MA\, 02149\, United States
CATEGORIES:Agendas
END:VEVENT
BEGIN:VEVENT
DTSTART;TZID=America/New_York:20231120T180000
DTEND;TZID=America/New_York:20231120T190000
DTSTAMP:20260422T162021
CREATED:20231116T143418Z
LAST-MODIFIED:20231116T143618Z
UID:10001579-1700503200-1700506800@cityofeverett.com
SUMMARY:Legislative Affairs & Elections 11-20-23
DESCRIPTION:CITY COUNCIL’S COMMITTEE ON LEGISLATIVE AFFAIRS & ELECTIONS  \nMONDAY\, NOVEMBER 20\, 2023 6:00 PM\nEVERETT CITY HALL\, 484 BROADWAY\,\nCITY COUNCIL CHAMBERS\, 3RD FLOOR EVERETT\, MA 02149 \n  \nClick here to download Agenda PDF
URL:https://cityofeverett.com/events/legislative-affairs-elections-11-20-23/
LOCATION:Everett City Hall\, 484 Broadway\, Everett\, MA\, 02149\, United States
CATEGORIES:Agendas
END:VEVENT
BEGIN:VEVENT
DTSTART;TZID=America/New_York:20231120T183000
DTEND;TZID=America/New_York:20231120T193000
DTSTAMP:20260422T162021
CREATED:20231114T213026Z
LAST-MODIFIED:20231114T213026Z
UID:10001577-1700505000-1700508600@cityofeverett.com
SUMMARY:Board of License Commission 11-20-23
DESCRIPTION:License Meeting \nMonday\, November 20\, 2023\nEverett City Hall\, Room 27 @6:30 PM\n484 Broadway\nEverett\, MA 02149 \n  \nClick here to download Agenda PDF
URL:https://cityofeverett.com/events/board-of-license-commission-11-20-23/
LOCATION:Everett City Hall\, 484 Broadway\, Everett\, MA\, 02149\, United States
CATEGORIES:Agendas
END:VEVENT
BEGIN:VEVENT
DTSTART;TZID=America/New_York:20231120T183000
DTEND;TZID=America/New_York:20231120T193000
DTSTAMP:20260422T162021
CREATED:20231116T174109Z
LAST-MODIFIED:20231116T174509Z
UID:10001581-1700505000-1700508600@cityofeverett.com
SUMMARY:School Committee Meeting 11-20-23
DESCRIPTION:EVERETT SCHOOL COMMITTEE\nRegular Meeting  \nMonday\, November 20\, 2023\, at 6:30 p.m.\nEVERETT HIGH SCHOOL LIBRARY 100 Elm St.\, Everett\, MA 02149 \nOPEN SESSIONS MAY BE VIEWED LIVE\nON THE EVERETT PUBLIC SCHOOLS WEBSITE:\nwww.everettpublicschools.org \nClick here to download Agenda PDF
URL:https://cityofeverett.com/events/school-committee-meeting-11-20-23/
LOCATION:Everett High School Library\, 100 Elm St.\, Everett\, 02749\, United States
CATEGORIES:Agendas
END:VEVENT
END:VCALENDAR