BEGIN:VCALENDAR
VERSION:2.0
PRODID:-//Everett, MA - Official Website - ECPv6.15.14//NONSGML v1.0//EN
CALSCALE:GREGORIAN
METHOD:PUBLISH
X-WR-CALNAME:Everett, MA - Official Website
X-ORIGINAL-URL:https://cityofeverett.com
X-WR-CALDESC:Events for Everett, MA - Official Website
REFRESH-INTERVAL;VALUE=DURATION:PT1H
X-Robots-Tag:noindex
X-PUBLISHED-TTL:PT1H
BEGIN:VTIMEZONE
TZID:America/New_York
BEGIN:DAYLIGHT
TZOFFSETFROM:-0500
TZOFFSETTO:-0400
TZNAME:EDT
DTSTART:20220313T070000
END:DAYLIGHT
BEGIN:STANDARD
TZOFFSETFROM:-0400
TZOFFSETTO:-0500
TZNAME:EST
DTSTART:20221106T060000
END:STANDARD
BEGIN:DAYLIGHT
TZOFFSETFROM:-0500
TZOFFSETTO:-0400
TZNAME:EDT
DTSTART:20230312T070000
END:DAYLIGHT
BEGIN:STANDARD
TZOFFSETFROM:-0400
TZOFFSETTO:-0500
TZNAME:EST
DTSTART:20231105T060000
END:STANDARD
BEGIN:DAYLIGHT
TZOFFSETFROM:-0500
TZOFFSETTO:-0400
TZNAME:EDT
DTSTART:20240310T070000
END:DAYLIGHT
BEGIN:STANDARD
TZOFFSETFROM:-0400
TZOFFSETTO:-0500
TZNAME:EST
DTSTART:20241103T060000
END:STANDARD
END:VTIMEZONE
BEGIN:VEVENT
DTSTART;TZID=America/New_York:20231210T090000
DTEND;TZID=America/New_York:20231210T090000
DTSTAMP:20260423T185957
CREATED:20231207T205704Z
LAST-MODIFIED:20231207T213851Z
UID:10001597-1702198800-1702198800@cityofeverett.com
SUMMARY:Polar Plunge
DESCRIPTION:LETR Everett Polar Plunge 2023\nEverett Recreation Center \n47 Elm St. \nEverett\, MA 02149 \n9:00 a.m. registration \n11:00 a.m. plunging \nFor more information\, please email: polarplunge@specialolympicsma.org or the Special Olympics Massachusetts website.
URL:https://cityofeverett.com/events/polar-plunge/
LOCATION:Everett Recreation Center\, 47 Elm St.\, Everett\, MA\, 02149\, United States
CATEGORIES:Events
ATTACH;FMTTYPE=image/jpeg:https://cityofeverett.com/wp-content/uploads/2023/12/Polar-Plunge-e1701982253706.jpg
END:VEVENT
END:VCALENDAR