BEGIN:VCALENDAR
VERSION:2.0
PRODID:-//Everett, MA - Official Website - ECPv6.15.14//NONSGML v1.0//EN
CALSCALE:GREGORIAN
METHOD:PUBLISH
X-ORIGINAL-URL:https://cityofeverett.com
X-WR-CALDESC:Events for Everett, MA - Official Website
REFRESH-INTERVAL;VALUE=DURATION:PT1H
X-Robots-Tag:noindex
X-PUBLISHED-TTL:PT1H
BEGIN:VTIMEZONE
TZID:America/New_York
BEGIN:DAYLIGHT
TZOFFSETFROM:-0500
TZOFFSETTO:-0400
TZNAME:EDT
DTSTART:20220313T070000
END:DAYLIGHT
BEGIN:STANDARD
TZOFFSETFROM:-0400
TZOFFSETTO:-0500
TZNAME:EST
DTSTART:20221106T060000
END:STANDARD
BEGIN:DAYLIGHT
TZOFFSETFROM:-0500
TZOFFSETTO:-0400
TZNAME:EDT
DTSTART:20230312T070000
END:DAYLIGHT
BEGIN:STANDARD
TZOFFSETFROM:-0400
TZOFFSETTO:-0500
TZNAME:EST
DTSTART:20231105T060000
END:STANDARD
BEGIN:DAYLIGHT
TZOFFSETFROM:-0500
TZOFFSETTO:-0400
TZNAME:EDT
DTSTART:20240310T070000
END:DAYLIGHT
BEGIN:STANDARD
TZOFFSETFROM:-0400
TZOFFSETTO:-0500
TZNAME:EST
DTSTART:20241103T060000
END:STANDARD
END:VTIMEZONE
BEGIN:VEVENT
DTSTART;TZID=America/New_York:20231211T180000
DTEND;TZID=America/New_York:20231211T190000
DTSTAMP:20260423T185828
CREATED:20231206T195248Z
LAST-MODIFIED:20231206T195248Z
UID:10001594-1702317600-1702321200@cityofeverett.com
SUMMARY:Community & Business Development Committee 12-11-23
DESCRIPTION:CITY COUNCIL’S COMMITTEE ON COMMUNITY & BUSINESS DEVELOPMENT  \nMONDAY\, DECEMBER 11\, 2023 6:00 PM\nEVERETT CITY HALL\, 484 BROADWAY\, MA 02149\nCITY COUNCIL CHAMBERS\, 3RD FLOOR EVERETT \n  \nClick here to download Agenda PDF
URL:https://cityofeverett.com/events/community-business-development-committee-12-11-23/
LOCATION:Everett City Hall\, 484 Broadway\, Everett\, MA\, 02149\, United States
CATEGORIES:Agendas
END:VEVENT
BEGIN:VEVENT
DTSTART;TZID=America/New_York:20231211T190000
DTEND;TZID=America/New_York:20231211T200000
DTSTAMP:20260423T185828
CREATED:20231207T151233Z
LAST-MODIFIED:20231207T151233Z
UID:10001596-1702321200-1702324800@cityofeverett.com
SUMMARY:City Council Meeting 12-11-23
DESCRIPTION:REGULAR MEETING OF THE CITY COUNCIL \nMONDAY\, DECEMBER 11\, 2023 7:00 PM\nEVERETT CITY HALL\, 484 BROADWAY\, MA 02149\nCITY COUNCIL CHAMBERS\, 3RD FLOOR EVERETT \n  \nClick here to download Agenda PDF
URL:https://cityofeverett.com/events/city-council-meeting-12-11-23/
LOCATION:Everett City Hall\, 484 Broadway\, Everett\, MA\, 02149\, United States
CATEGORIES:Agendas
END:VEVENT
END:VCALENDAR