BEGIN:VCALENDAR
VERSION:2.0
PRODID:-//Everett, MA - Official Website - ECPv6.15.14//NONSGML v1.0//EN
CALSCALE:GREGORIAN
METHOD:PUBLISH
X-ORIGINAL-URL:https://cityofeverett.com
X-WR-CALDESC:Events for Everett, MA - Official Website
REFRESH-INTERVAL;VALUE=DURATION:PT1H
X-Robots-Tag:noindex
X-PUBLISHED-TTL:PT1H
BEGIN:VTIMEZONE
TZID:America/New_York
BEGIN:DAYLIGHT
TZOFFSETFROM:-0500
TZOFFSETTO:-0400
TZNAME:EDT
DTSTART:20230312T070000
END:DAYLIGHT
BEGIN:STANDARD
TZOFFSETFROM:-0400
TZOFFSETTO:-0500
TZNAME:EST
DTSTART:20231105T060000
END:STANDARD
BEGIN:DAYLIGHT
TZOFFSETFROM:-0500
TZOFFSETTO:-0400
TZNAME:EDT
DTSTART:20240310T070000
END:DAYLIGHT
BEGIN:STANDARD
TZOFFSETFROM:-0400
TZOFFSETTO:-0500
TZNAME:EST
DTSTART:20241103T060000
END:STANDARD
BEGIN:DAYLIGHT
TZOFFSETFROM:-0500
TZOFFSETTO:-0400
TZNAME:EDT
DTSTART:20250309T070000
END:DAYLIGHT
BEGIN:STANDARD
TZOFFSETFROM:-0400
TZOFFSETTO:-0500
TZNAME:EST
DTSTART:20251102T060000
END:STANDARD
END:VTIMEZONE
BEGIN:VEVENT
DTSTART;TZID=America/New_York:20240116T180000
DTEND;TZID=America/New_York:20240116T190000
DTSTAMP:20260424T104554
CREATED:20240109T151207Z
LAST-MODIFIED:20240109T151207Z
UID:10001625-1705428000-1705431600@cityofeverett.com
SUMMARY:Zoning Board of Appeals 01-16-24
DESCRIPTION:Zoning Board of Appeals Meeting  \nTuesday January 16\, 2024\nKeverian Room 3rd Floor\nEverett City Hall 6:00 P.M. \n  \nClick here to download Agenda PDF
URL:https://cityofeverett.com/events/zoning-board-of-appeals-01-16-24/
LOCATION:Everett City Hall\, 484 Broadway\, Everett\, MA\, 02149\, United States
CATEGORIES:Agendas
END:VEVENT
BEGIN:VEVENT
DTSTART;TZID=America/New_York:20240116T183000
DTEND;TZID=America/New_York:20240116T193000
DTSTAMP:20260424T104554
CREATED:20240109T184944Z
LAST-MODIFIED:20240109T184944Z
UID:10001626-1705429800-1705433400@cityofeverett.com
SUMMARY:Board of License Commission 01-16-24
DESCRIPTION:License Meeting \nTuesday\, January 16\, 2024\nEverett City Hall\, Room 27 @ 6:30 PM\n484 Broadway Everett\, MA 02149 \n  \nClick here to download Agenda PDF \n  \n 
URL:https://cityofeverett.com/events/board-of-license-commission-01-16-24/
LOCATION:Everett City Hall\, 484 Broadway\, Everett\, MA\, 02149\, United States
CATEGORIES:Agendas
END:VEVENT
BEGIN:VEVENT
DTSTART;TZID=America/New_York:20240116T183000
DTEND;TZID=America/New_York:20240116T193000
DTSTAMP:20260424T104554
CREATED:20240111T174812Z
LAST-MODIFIED:20240116T192958Z
UID:10001630-1705429800-1705433400@cityofeverett.com
SUMMARY:School Committee Meeting 01-16-24 CANCELLED
DESCRIPTION:EVERETT SCHOOL COMMITTEE \nREGULAR MEETING\nCANCELLED \nTuesday\, January 16\, 2024\, at 6:30 p.m. \nEVERETT HIGH SCHOOL LIBRARY\n100 Elm St.\, Everett\, MA 02149 \nOPEN SESSIONS MAY BE VIEWED LIVE\nON THE EVERETT PUBLIC SCHOOLS WEBSITE:\nwww.everettpublicschools.org \n  \nClick here to download Agenda PDF
URL:https://cityofeverett.com/events/school-committee-meeting-01-16-24/
LOCATION:Everett High School Library\, 100 Elm St.\, Everett\, 02749\, United States
CATEGORIES:Agendas
END:VEVENT
BEGIN:VEVENT
DTSTART;TZID=America/New_York:20240116T190000
DTEND;TZID=America/New_York:20240116T200000
DTSTAMP:20260424T104554
CREATED:20240111T204540Z
LAST-MODIFIED:20240111T204540Z
UID:10001631-1705431600-1705435200@cityofeverett.com
SUMMARY:Mystic Valley Regional Charter School 01-16-24
DESCRIPTION:MEETING OF THE TRUSTEES OF THE MYSTIC VALLEY REGIONAL CHARTER SCHOOL BOARD  \nTuesday\, January 16\, 2024\n4 Laurel Street\, MALDEN\,\n7 PM \n  \nClick here to download Agenda PDF
URL:https://cityofeverett.com/events/mystic-valley-regional-charter-school-01-16-24/
LOCATION:Mystic Valley Reg Charter School\, 4 Laurel Street\, Malden\, MA\, United States
CATEGORIES:Agendas
END:VEVENT
END:VCALENDAR