BEGIN:VCALENDAR
VERSION:2.0
PRODID:-//Everett, MA - Official Website - ECPv6.15.14//NONSGML v1.0//EN
CALSCALE:GREGORIAN
METHOD:PUBLISH
X-WR-CALNAME:Everett, MA - Official Website
X-ORIGINAL-URL:https://cityofeverett.com
X-WR-CALDESC:Events for Everett, MA - Official Website
REFRESH-INTERVAL;VALUE=DURATION:PT1H
X-Robots-Tag:noindex
X-PUBLISHED-TTL:PT1H
BEGIN:VTIMEZONE
TZID:America/New_York
BEGIN:DAYLIGHT
TZOFFSETFROM:-0500
TZOFFSETTO:-0400
TZNAME:EDT
DTSTART:20230312T070000
END:DAYLIGHT
BEGIN:STANDARD
TZOFFSETFROM:-0400
TZOFFSETTO:-0500
TZNAME:EST
DTSTART:20231105T060000
END:STANDARD
BEGIN:DAYLIGHT
TZOFFSETFROM:-0500
TZOFFSETTO:-0400
TZNAME:EDT
DTSTART:20240310T070000
END:DAYLIGHT
BEGIN:STANDARD
TZOFFSETFROM:-0400
TZOFFSETTO:-0500
TZNAME:EST
DTSTART:20241103T060000
END:STANDARD
BEGIN:DAYLIGHT
TZOFFSETFROM:-0500
TZOFFSETTO:-0400
TZNAME:EDT
DTSTART:20250309T070000
END:DAYLIGHT
BEGIN:STANDARD
TZOFFSETFROM:-0400
TZOFFSETTO:-0500
TZNAME:EST
DTSTART:20251102T060000
END:STANDARD
END:VTIMEZONE
BEGIN:VEVENT
DTSTART;TZID=America/New_York:20240123T170000
DTEND;TZID=America/New_York:20240123T180000
DTSTAMP:20260423T023928
CREATED:20240116T183042Z
LAST-MODIFIED:20240116T183042Z
UID:10001633-1706029200-1706032800@cityofeverett.com
SUMMARY:Zoning Board of Appeals 01-23-24
DESCRIPTION:Zoning Board of Appeals \nTuesday\, January 23\, 2024 at 5:00PM\nSpeaker George Keverian Room\n(Room 37\, Everett City Hall) \n  \nClick here to download Agenda PDF
URL:https://cityofeverett.com/events/zoning-board-of-appeals-01-23-24/
LOCATION:Everett City Hall\, 484 Broadway\, Everett\, MA\, 02149\, United States
CATEGORIES:Agendas
END:VEVENT
BEGIN:VEVENT
DTSTART;TZID=America/New_York:20240123T170000
DTEND;TZID=America/New_York:20240123T180000
DTSTAMP:20260423T023928
CREATED:20240118T144553Z
LAST-MODIFIED:20240118T144553Z
UID:10001638-1706029200-1706032800@cityofeverett.com
SUMMARY:Everett Housing Authority 01-23-24
DESCRIPTION:Everett Housing Authority  \n5:00 PM on Tuesday January 23\, 2024\nOffices of the Authority\, 393 Ferry Street\,\nCity of Everett\, Massachusetts \n  \nClick here to download Agenda PDF
URL:https://cityofeverett.com/events/everett-housing-authority-01-23-24/
LOCATION:Offices of the Authority\, 393 Ferry Street\, Everett\, MA\, United States
CATEGORIES:Agendas
END:VEVENT
END:VCALENDAR