BEGIN:VCALENDAR
VERSION:2.0
PRODID:-//Everett, MA - Official Website - ECPv6.15.14//NONSGML v1.0//EN
CALSCALE:GREGORIAN
METHOD:PUBLISH
X-WR-CALNAME:Everett, MA - Official Website
X-ORIGINAL-URL:https://cityofeverett.com
X-WR-CALDESC:Events for Everett, MA - Official Website
REFRESH-INTERVAL;VALUE=DURATION:PT1H
X-Robots-Tag:noindex
X-PUBLISHED-TTL:PT1H
BEGIN:VTIMEZONE
TZID:America/New_York
BEGIN:DAYLIGHT
TZOFFSETFROM:-0500
TZOFFSETTO:-0400
TZNAME:EDT
DTSTART:20230312T070000
END:DAYLIGHT
BEGIN:STANDARD
TZOFFSETFROM:-0400
TZOFFSETTO:-0500
TZNAME:EST
DTSTART:20231105T060000
END:STANDARD
BEGIN:DAYLIGHT
TZOFFSETFROM:-0500
TZOFFSETTO:-0400
TZNAME:EDT
DTSTART:20240310T070000
END:DAYLIGHT
BEGIN:STANDARD
TZOFFSETFROM:-0400
TZOFFSETTO:-0500
TZNAME:EST
DTSTART:20241103T060000
END:STANDARD
BEGIN:DAYLIGHT
TZOFFSETFROM:-0500
TZOFFSETTO:-0400
TZNAME:EDT
DTSTART:20250309T070000
END:DAYLIGHT
BEGIN:STANDARD
TZOFFSETFROM:-0400
TZOFFSETTO:-0500
TZNAME:EST
DTSTART:20251102T060000
END:STANDARD
END:VTIMEZONE
BEGIN:VEVENT
DTSTART;TZID=America/New_York:20240523T103000
DTEND;TZID=America/New_York:20240523T113000
DTSTAMP:20260419T150527
CREATED:20240514T214220Z
LAST-MODIFIED:20240514T214220Z
UID:10001819-1716460200-1716463800@cityofeverett.com
SUMMARY:Metro Boston Homeland Security – JPOC Meeting 05-23-24
DESCRIPTION:METRO BOSTON HOMELAND SECURITY REGION \nJPOC Meeting \nThursday\, May 23rd\, 2024\n10:30AM \nRemote participation only via Google Meet:\nmeet.google.com/nqv-sxqb-fpy \n(US) +1 570-671-0078\nPIN: 142 541 134# \n  \nClick here to download Agenda PDF
URL:https://cityofeverett.com/events/metro-boston-homeland-security-jpoc-meeting-05-23-24/
LOCATION:MA
CATEGORIES:Agendas
END:VEVENT
END:VCALENDAR