BEGIN:VCALENDAR
VERSION:2.0
PRODID:-//Everett, MA - Official Website - ECPv6.15.14//NONSGML v1.0//EN
CALSCALE:GREGORIAN
METHOD:PUBLISH
X-ORIGINAL-URL:https://cityofeverett.com
X-WR-CALDESC:Events for Everett, MA - Official Website
REFRESH-INTERVAL;VALUE=DURATION:PT1H
X-Robots-Tag:noindex
X-PUBLISHED-TTL:PT1H
BEGIN:VTIMEZONE
TZID:America/New_York
BEGIN:DAYLIGHT
TZOFFSETFROM:-0500
TZOFFSETTO:-0400
TZNAME:EDT
DTSTART:20230312T070000
END:DAYLIGHT
BEGIN:STANDARD
TZOFFSETFROM:-0400
TZOFFSETTO:-0500
TZNAME:EST
DTSTART:20231105T060000
END:STANDARD
BEGIN:DAYLIGHT
TZOFFSETFROM:-0500
TZOFFSETTO:-0400
TZNAME:EDT
DTSTART:20240310T070000
END:DAYLIGHT
BEGIN:STANDARD
TZOFFSETFROM:-0400
TZOFFSETTO:-0500
TZNAME:EST
DTSTART:20241103T060000
END:STANDARD
BEGIN:DAYLIGHT
TZOFFSETFROM:-0500
TZOFFSETTO:-0400
TZNAME:EDT
DTSTART:20250309T070000
END:DAYLIGHT
BEGIN:STANDARD
TZOFFSETFROM:-0400
TZOFFSETTO:-0500
TZNAME:EST
DTSTART:20251102T060000
END:STANDARD
END:VTIMEZONE
BEGIN:VEVENT
DTSTART;TZID=America/New_York:20240530T110000
DTEND;TZID=America/New_York:20240530T114500
DTSTAMP:20260420T071827
CREATED:20240521T193526Z
LAST-MODIFIED:20240521T193526Z
UID:10001829-1717066800-1717069500@cityofeverett.com
SUMMARY:Metro Boston Homeland Security – Planning & Community Preparedness Subcommittee Meeting 05-30-24
DESCRIPTION:METRO BOSTON HOMELAND SECURITY REGION \nPlanning and Community Preparedness Subcommittee \nThursday\, May 30th 2024\n11am-11:45am \nRemote participation only via Google Meet:\nMeeting ID\nmeet.google.com/ezw-irzz-owa \nPhone Numbers\n(US) +1 507-881-0299\nPIN: 326 632 256 # \n  \nClick here to download Agenda PDF
URL:https://cityofeverett.com/events/metro-boston-homeland-security-planning-community-preparedness-subcommittee-meeting-05-30-24/
LOCATION:MA
CATEGORIES:Agendas
END:VEVENT
BEGIN:VEVENT
DTSTART;TZID=America/New_York:20240530T173000
DTEND;TZID=America/New_York:20240530T183000
DTSTAMP:20260420T071827
CREATED:20240522T173147Z
LAST-MODIFIED:20240522T173147Z
UID:10001837-1717090200-1717093800@cityofeverett.com
SUMMARY:Election Commission 05-30-24
DESCRIPTION:Election Commission Regular Meeting \nThursday\, May 30\, 2024 5:30 PM\nCity Clerk’s Office Room 10 \n  \nClick here to download Agenda Doc
URL:https://cityofeverett.com/events/election-commission-05-30-24/
LOCATION:Everett City Hall\, 484 Broadway\, Everett\, MA\, 02149\, United States
CATEGORIES:Agendas
END:VEVENT
BEGIN:VEVENT
DTSTART;TZID=America/New_York:20240530T180000
DTEND;TZID=America/New_York:20240530T190000
DTSTAMP:20260420T071827
CREATED:20240522T133006Z
LAST-MODIFIED:20240522T133006Z
UID:10001832-1717092000-1717095600@cityofeverett.com
SUMMARY:Community & Business Development Committee 05-30-24
DESCRIPTION:CITY COUNCIL’S COMMITTEE ON COMMUNITY & BUSINESS DEVELOPMENT \nTHURSDAY\, MAY 30\, 2024 6:00 PM\nEVERETT CITY HALL\, 484 BROADWAY\, MA 02149\nCITY COUNCIL CHAMBERS\, 3RD FLOOR EVERETT \n  \nClick here to download Agenda PDF
URL:https://cityofeverett.com/events/community-business-development-committee-05-30-24/
LOCATION:Everett City Hall\, 484 Broadway\, Everett\, MA\, 02149\, United States
CATEGORIES:Agendas
END:VEVENT
END:VCALENDAR