BEGIN:VCALENDAR
VERSION:2.0
PRODID:-//Everett, MA - Official Website - ECPv6.15.14//NONSGML v1.0//EN
CALSCALE:GREGORIAN
METHOD:PUBLISH
X-ORIGINAL-URL:https://cityofeverett.com
X-WR-CALDESC:Events for Everett, MA - Official Website
REFRESH-INTERVAL;VALUE=DURATION:PT1H
X-Robots-Tag:noindex
X-PUBLISHED-TTL:PT1H
BEGIN:VTIMEZONE
TZID:America/New_York
BEGIN:DAYLIGHT
TZOFFSETFROM:-0500
TZOFFSETTO:-0400
TZNAME:EDT
DTSTART:20230312T070000
END:DAYLIGHT
BEGIN:STANDARD
TZOFFSETFROM:-0400
TZOFFSETTO:-0500
TZNAME:EST
DTSTART:20231105T060000
END:STANDARD
BEGIN:DAYLIGHT
TZOFFSETFROM:-0500
TZOFFSETTO:-0400
TZNAME:EDT
DTSTART:20240310T070000
END:DAYLIGHT
BEGIN:STANDARD
TZOFFSETFROM:-0400
TZOFFSETTO:-0500
TZNAME:EST
DTSTART:20241103T060000
END:STANDARD
BEGIN:DAYLIGHT
TZOFFSETFROM:-0500
TZOFFSETTO:-0400
TZNAME:EDT
DTSTART:20250309T070000
END:DAYLIGHT
BEGIN:STANDARD
TZOFFSETFROM:-0400
TZOFFSETTO:-0500
TZNAME:EST
DTSTART:20251102T060000
END:STANDARD
END:VTIMEZONE
BEGIN:VEVENT
DTSTART;TZID=America/New_York:20240625T120000
DTEND;TZID=America/New_York:20240625T130000
DTSTAMP:20260420T020518
CREATED:20240620T205828Z
LAST-MODIFIED:20240620T205828Z
UID:10001884-1719316800-1719320400@cityofeverett.com
SUMMARY:Mystic Valley Development Commission 06-25-24
DESCRIPTION:Mystic Valley Development Commission \nTUESDAY\, JUNE 25\, 2024 AT 12:00 PM\nIN THE CONFERENCE ROOM\nAT 200 RIVER’S EDGE DRIVE\, MEDFORD\, MA. \n  \nClick here to download Agenda PDF
URL:https://cityofeverett.com/events/mystic-valley-development-commission-06-25-24/
LOCATION:MA
CATEGORIES:Agendas
END:VEVENT
BEGIN:VEVENT
DTSTART;TZID=America/New_York:20240625T170000
DTEND;TZID=America/New_York:20240625T180000
DTSTAMP:20260420T020518
CREATED:20240508T160309Z
LAST-MODIFIED:20240508T160309Z
UID:10001809-1719334800-1719338400@cityofeverett.com
SUMMARY:Everett Housing Authority Annual Plan 2025 06-25-24
DESCRIPTION:Annual Plan Hearing – Board Meeting \nHearing time and date:\n5:00 PM on 06/25/2024 \nHearing location:\n393 Ferry Street – Everett\, MA 02149 \n  \nClick here to download Agenda PDF
URL:https://cityofeverett.com/events/everett-housing-authority-annual-plan-2025-06-25-24/
LOCATION:EVERETT HOUSING AUTHORITY\, 393 FERRY STREET\, Everett\, MA\, 02149\, United States
CATEGORIES:Agendas
END:VEVENT
BEGIN:VEVENT
DTSTART;TZID=America/New_York:20240625T170000
DTEND;TZID=America/New_York:20240625T180000
DTSTAMP:20260420T020518
CREATED:20240620T143608Z
LAST-MODIFIED:20240620T143608Z
UID:10001881-1719334800-1719338400@cityofeverett.com
SUMMARY:Everett Housing Authority 06-25-24
DESCRIPTION:Regular Meeting of the Everett Housing Authority  \nHeld at 5:00 PM on Tuesday June 25\, 2024\nAt the offices of the Authority\, 393 Ferry Street\nIn the City of Everett\, Massachusetts \n  \nClick here to download Agenda PDF
URL:https://cityofeverett.com/events/everett-housing-authority-06-25-24/
LOCATION:EVERETT HOUSING AUTHORITY\, 393 FERRY STREET\, Everett\, MA\, 02149\, United States
CATEGORIES:Agendas
END:VEVENT
END:VCALENDAR