BEGIN:VCALENDAR
VERSION:2.0
PRODID:-//Everett, MA - Official Website - ECPv6.15.14//NONSGML v1.0//EN
CALSCALE:GREGORIAN
METHOD:PUBLISH
X-WR-CALNAME:Everett, MA - Official Website
X-ORIGINAL-URL:https://cityofeverett.com
X-WR-CALDESC:Events for Everett, MA - Official Website
REFRESH-INTERVAL;VALUE=DURATION:PT1H
X-Robots-Tag:noindex
X-PUBLISHED-TTL:PT1H
BEGIN:VTIMEZONE
TZID:America/New_York
BEGIN:DAYLIGHT
TZOFFSETFROM:-0500
TZOFFSETTO:-0400
TZNAME:EDT
DTSTART:20230312T070000
END:DAYLIGHT
BEGIN:STANDARD
TZOFFSETFROM:-0400
TZOFFSETTO:-0500
TZNAME:EST
DTSTART:20231105T060000
END:STANDARD
BEGIN:DAYLIGHT
TZOFFSETFROM:-0500
TZOFFSETTO:-0400
TZNAME:EDT
DTSTART:20240310T070000
END:DAYLIGHT
BEGIN:STANDARD
TZOFFSETFROM:-0400
TZOFFSETTO:-0500
TZNAME:EST
DTSTART:20241103T060000
END:STANDARD
BEGIN:DAYLIGHT
TZOFFSETFROM:-0500
TZOFFSETTO:-0400
TZNAME:EDT
DTSTART:20250309T070000
END:DAYLIGHT
BEGIN:STANDARD
TZOFFSETFROM:-0400
TZOFFSETTO:-0500
TZNAME:EST
DTSTART:20251102T060000
END:STANDARD
END:VTIMEZONE
BEGIN:VEVENT
DTSTART;TZID=America/New_York:20240911T083000
DTEND;TZID=America/New_York:20240911T083000
DTSTAMP:20260425T170305
CREATED:20240903T172418Z
LAST-MODIFIED:20240903T172914Z
UID:10001928-1726043400-1726043400@cityofeverett.com
SUMMARY:9/11 Remembrance Ceremony
DESCRIPTION:Mayor Carlo DeMaria invites all residents to join the City of Everett for a 9/11 Remembrance Ceremony at Central Fire Station to honor the memory of the 2\,977 people who were killed due to the Sept. 11 attacks on the United States in 2001. \nThe event will begin with a moment of silence at 8:46 a.m. in remembrance of the time American Airlines Flight 11 was hijacked by terrorists and crashed into the North Tower of the World Trade Center in lower Manhattan. Following the moment of silence\, a bell will be rung in sequence of 3-4-3 in memory of the 343 firefighters that were killed on that day. \n“We must never forget the thousands of innocent lives that were taken on that terrible day\,” said Mayor DeMaria. “I encourage everyone in our community to gather with us in remembrance of all those we lost on 9/11.” \nOn the morning of Sept. 11\, 2001\, terrorists hijacked four commercial planes\, deliberately crashing two of the planes into the upper floors of the North and South Towers of the World Trade Center and a third plane into the Pentagon in Arlington\, Virginia. The fourth plane crashed into an empty field in western Pennsylvania due to passengers fighting back and stopping the plane from reaching the intended target of the hijacker. The attacks killed 2\,977 people. Since then\, the day is remembered annually to honor and never forget the victims and their families along with the heroes who put their lives on the line to help others.
URL:https://cityofeverett.com/events/9-11-remembrance-ceremony-2024/
LOCATION:Central Fire Station\, 384 Broadway\, Everett\, MA\, 02149\, United States
CATEGORIES:Events
ATTACH;FMTTYPE=image/png:https://cityofeverett.com/wp-content/uploads/2024/09/9.11-Remembrance-Ceremony-2024-TV-e1725383753725.png
END:VEVENT
BEGIN:VEVENT
DTSTART;TZID=America/New_York:20240911T193000
DTEND;TZID=America/New_York:20240911T203000
DTSTAMP:20260425T170305
CREATED:20240909T172735Z
LAST-MODIFIED:20240909T172735Z
UID:10001943-1726083000-1726086600@cityofeverett.com
SUMMARY:Everett Cultural Council 09-11-24
DESCRIPTION:Everett Cultural Council Agenda \nLocation: Council Meets on Zoom\nPublic can view meeting on the ECC Facebook Page\nDate: Wednesday\, September 11\, 2024\nTime: 7:30 pm \n  \nClick here to download Agenda PDF
URL:https://cityofeverett.com/events/everett-cultural-council-09-11-24/
LOCATION:MA
CATEGORIES:Agendas
END:VEVENT
END:VCALENDAR