BEGIN:VCALENDAR
VERSION:2.0
PRODID:-//Everett, MA - Official Website - ECPv6.15.14//NONSGML v1.0//EN
CALSCALE:GREGORIAN
METHOD:PUBLISH
X-ORIGINAL-URL:https://cityofeverett.com
X-WR-CALDESC:Events for Everett, MA - Official Website
REFRESH-INTERVAL;VALUE=DURATION:PT1H
X-Robots-Tag:noindex
X-PUBLISHED-TTL:PT1H
BEGIN:VTIMEZONE
TZID:America/New_York
BEGIN:DAYLIGHT
TZOFFSETFROM:-0500
TZOFFSETTO:-0400
TZNAME:EDT
DTSTART:20240310T070000
END:DAYLIGHT
BEGIN:STANDARD
TZOFFSETFROM:-0400
TZOFFSETTO:-0500
TZNAME:EST
DTSTART:20241103T060000
END:STANDARD
BEGIN:DAYLIGHT
TZOFFSETFROM:-0500
TZOFFSETTO:-0400
TZNAME:EDT
DTSTART:20250309T070000
END:DAYLIGHT
BEGIN:STANDARD
TZOFFSETFROM:-0400
TZOFFSETTO:-0500
TZNAME:EST
DTSTART:20251102T060000
END:STANDARD
BEGIN:DAYLIGHT
TZOFFSETFROM:-0500
TZOFFSETTO:-0400
TZNAME:EDT
DTSTART:20260308T070000
END:DAYLIGHT
BEGIN:STANDARD
TZOFFSETFROM:-0400
TZOFFSETTO:-0500
TZNAME:EST
DTSTART:20261101T060000
END:STANDARD
END:VTIMEZONE
BEGIN:VEVENT
DTSTART;TZID=America/New_York:20250225T140000
DTEND;TZID=America/New_York:20250225T150000
DTSTAMP:20260425T090944
CREATED:20250218T200521Z
LAST-MODIFIED:20250218T200521Z
UID:10002174-1740492000-1740495600@cityofeverett.com
SUMMARY:Webster School Council 02-25-25
DESCRIPTION:WEBSTER SCHOOL \nSchool Council Agenda \nDate: February 25\, 2025\nTime: 2:00 PM\nLocation: Webster School All-Purpose Room \n  \nClick here to download Agenda PDF
URL:https://cityofeverett.com/events/webster-school-council-02-25-25/
LOCATION:Webster School\, 77 Poland Street\, Webster\, MA\, 01570\, United States
CATEGORIES:Agendas
END:VEVENT
BEGIN:VEVENT
DTSTART;TZID=America/New_York:20250225T170000
DTEND;TZID=America/New_York:20250225T180000
DTSTAMP:20260425T090944
CREATED:20250220T183225Z
LAST-MODIFIED:20250220T220933Z
UID:10002180-1740502800-1740506400@cityofeverett.com
SUMMARY:Sub-Committee on Finance & Negotiations 02-25-25
DESCRIPTION:EVERETT SCHOOL COMMITTEE\nFinance and Negotiations Subcommittee \nTuesday\, February 25\, 2025\, at 5:00 p.m.\nEVERETT HIGH SCHOOL LIBRARY\n100 Elm St.\, Everett\, MA 02149 \n  \nClick here to download Agenda PDF
URL:https://cityofeverett.com/events/sub-committee-on-finance-negotiations-02-25-25/
LOCATION:Everett High School Library\, 100 Elm St.\, Everett\, 02749\, United States
CATEGORIES:Agendas
END:VEVENT
BEGIN:VEVENT
DTSTART;TZID=America/New_York:20250225T183000
DTEND;TZID=America/New_York:20250225T193000
DTSTAMP:20260425T090944
CREATED:20250220T182843Z
LAST-MODIFIED:20250220T194001Z
UID:10002179-1740508200-1740511800@cityofeverett.com
SUMMARY:School Committee Meeting 02-25-25
DESCRIPTION:EVERETT SCHOOL COMMITTEE\nREGULAR MEETING \nTuesday\, February 25\, 2025\, at 6:30 p.m.\nEVERETT HIGH SCHOOL LIBRARY\n100 Elm St.\, Everett\, MA 02149 \nOPEN SESSIONS MAY BE VIEWED LIVE\nON THE EVERETT PUBLIC SCHOOLS WEBSITE:\nwww.everettpublicschools.org \n  \nClick here to download Agenda PDF
URL:https://cityofeverett.com/events/school-committee-meeting-02-25-25/
LOCATION:Everett High School Library\, 100 Elm St.\, Everett\, 02749\, United States
CATEGORIES:Agendas
END:VEVENT
BEGIN:VEVENT
DTSTART;TZID=America/New_York:20250225T193000
DTEND;TZID=America/New_York:20250225T203000
DTSTAMP:20260425T090944
CREATED:20250219T201952Z
LAST-MODIFIED:20250219T201952Z
UID:10002176-1740511800-1740515400@cityofeverett.com
SUMMARY:Everett Cultural Council 02-25-25
DESCRIPTION:Everett Cultural Council Agenda \nLocation: Council Meets on Zoom\nPublic can view meeting on the ECC Facebook Page\nDate: Wednesday\, February 25\, 2125\nTime: 7:30 pm \n  \nClick here to download Agenda PDF
URL:https://cityofeverett.com/events/everett-cultural-council-02-25-25/
LOCATION:MA
CATEGORIES:Agendas
END:VEVENT
END:VCALENDAR