BEGIN:VCALENDAR
VERSION:2.0
PRODID:-//Everett, MA - Official Website - ECPv6.15.14//NONSGML v1.0//EN
CALSCALE:GREGORIAN
METHOD:PUBLISH
X-WR-CALNAME:Everett, MA - Official Website
X-ORIGINAL-URL:https://cityofeverett.com
X-WR-CALDESC:Events for Everett, MA - Official Website
REFRESH-INTERVAL;VALUE=DURATION:PT1H
X-Robots-Tag:noindex
X-PUBLISHED-TTL:PT1H
BEGIN:VTIMEZONE
TZID:America/New_York
BEGIN:DAYLIGHT
TZOFFSETFROM:-0500
TZOFFSETTO:-0400
TZNAME:EDT
DTSTART:20240310T070000
END:DAYLIGHT
BEGIN:STANDARD
TZOFFSETFROM:-0400
TZOFFSETTO:-0500
TZNAME:EST
DTSTART:20241103T060000
END:STANDARD
BEGIN:DAYLIGHT
TZOFFSETFROM:-0500
TZOFFSETTO:-0400
TZNAME:EDT
DTSTART:20250309T070000
END:DAYLIGHT
BEGIN:STANDARD
TZOFFSETFROM:-0400
TZOFFSETTO:-0500
TZNAME:EST
DTSTART:20251102T060000
END:STANDARD
BEGIN:DAYLIGHT
TZOFFSETFROM:-0500
TZOFFSETTO:-0400
TZNAME:EDT
DTSTART:20260308T070000
END:DAYLIGHT
BEGIN:STANDARD
TZOFFSETFROM:-0400
TZOFFSETTO:-0500
TZNAME:EST
DTSTART:20261101T060000
END:STANDARD
END:VTIMEZONE
BEGIN:VEVENT
DTSTART;TZID=America/New_York:20250320T103000
DTEND;TZID=America/New_York:20250320T113000
DTSTAMP:20260425T193309
CREATED:20250312T195116Z
LAST-MODIFIED:20250312T195129Z
UID:10002206-1742466600-1742470200@cityofeverett.com
SUMMARY:Metro Boston Homeland Security Region JPOC Meeting 03-20-25
DESCRIPTION:METRO BOSTON HOMELAND SECURITY REGION\nJPOC Meeting \nThursday\, March 20th\, 2025\n10:30AM \nRemote participation only via Google Meet:\nmeet.google.com/nqv-sxqb-fpy\n(US) +1 570-671-0078\nPIN: 142 541 134# \n  \nClick here to download Agenda PDF
URL:https://cityofeverett.com/events/metro-boston-homeland-security-region-jpoc-meeting-03-20-25/
LOCATION:MA
CATEGORIES:Agendas
END:VEVENT
BEGIN:VEVENT
DTSTART;TZID=America/New_York:20250320T170000
DTEND;TZID=America/New_York:20250320T180000
DTSTAMP:20260425T193309
CREATED:20250318T182150Z
LAST-MODIFIED:20250318T182150Z
UID:10002215-1742490000-1742493600@cityofeverett.com
SUMMARY:Food Policy Council 03-20-25
DESCRIPTION:Meeting of the Everett Food Policy Council \nHeld via Zoom: https://ci-everett-­ma.zoom.us/j/84879939536?pwd=fw9qsW9nLK0MJ516Q31ZnvGj7dFgoc.1 \nThursday\, March 20th at 5:00PM \n  \nClick here to download Agenda PDF
URL:https://cityofeverett.com/events/food-policy-council-03-20-25/
LOCATION:MA
CATEGORIES:Agendas
END:VEVENT
BEGIN:VEVENT
DTSTART;TZID=America/New_York:20250320T180000
DTEND;TZID=America/New_York:20250320T190000
DTSTAMP:20260425T193309
CREATED:20250317T204621Z
LAST-MODIFIED:20250317T204621Z
UID:10002212-1742493600-1742497200@cityofeverett.com
SUMMARY:Ways and Means 03-20-25
DESCRIPTION:COMMITTEE ON WAYS & MEANS \nTHURSDAY\, MARCH 20\, 2025 6:00 PM\nEVERETT CITY HALL\, 484 BROADWAY\,\nCITY COUNCIL CHAMBERS\, 3RD FLOOR EVERETT\, MA 02149 \n  \nClick here to download Agenda PDF
URL:https://cityofeverett.com/events/ways-and-means-03-20-25/
LOCATION:Everett City Hall\, 484 Broadway\, Everett\, MA\, 02149\, United States
CATEGORIES:Agendas
END:VEVENT
BEGIN:VEVENT
DTSTART;TZID=America/New_York:20250320T183000
DTEND;TZID=America/New_York:20250320T193000
DTSTAMP:20260425T193309
CREATED:20250318T191206Z
LAST-MODIFIED:20250318T191206Z
UID:10002216-1742495400-1742499000@cityofeverett.com
SUMMARY:Charter Review Committee 03-20-25
DESCRIPTION:CHARTER REVIEW COMMITTEE MEETING \nTHURSDAY\, MARCH 20\, 2025 6:30 PM\nEVERETT CITY HALL\, 484 BROADWAY\,\nMAYOR’S CONFERENCE ROOM\, 3RD FLOOR EVERETT\, MA 02149 \n  \nClick here to download Agenda PDF
URL:https://cityofeverett.com/events/charter-review-committee-03-20-25/
LOCATION:Everett City Hall\, 484 Broadway\, Everett\, MA\, 02149\, United States
CATEGORIES:Agendas
END:VEVENT
END:VCALENDAR