BEGIN:VCALENDAR
VERSION:2.0
PRODID:-//Everett, MA - Official Website - ECPv6.15.14//NONSGML v1.0//EN
CALSCALE:GREGORIAN
METHOD:PUBLISH
X-WR-CALNAME:Everett, MA - Official Website
X-ORIGINAL-URL:https://cityofeverett.com
X-WR-CALDESC:Events for Everett, MA - Official Website
REFRESH-INTERVAL;VALUE=DURATION:PT1H
X-Robots-Tag:noindex
X-PUBLISHED-TTL:PT1H
BEGIN:VTIMEZONE
TZID:America/New_York
BEGIN:DAYLIGHT
TZOFFSETFROM:-0500
TZOFFSETTO:-0400
TZNAME:EDT
DTSTART:20240310T070000
END:DAYLIGHT
BEGIN:STANDARD
TZOFFSETFROM:-0400
TZOFFSETTO:-0500
TZNAME:EST
DTSTART:20241103T060000
END:STANDARD
BEGIN:DAYLIGHT
TZOFFSETFROM:-0500
TZOFFSETTO:-0400
TZNAME:EDT
DTSTART:20250309T070000
END:DAYLIGHT
BEGIN:STANDARD
TZOFFSETFROM:-0400
TZOFFSETTO:-0500
TZNAME:EST
DTSTART:20251102T060000
END:STANDARD
BEGIN:DAYLIGHT
TZOFFSETFROM:-0500
TZOFFSETTO:-0400
TZNAME:EDT
DTSTART:20260308T070000
END:DAYLIGHT
BEGIN:STANDARD
TZOFFSETFROM:-0400
TZOFFSETTO:-0500
TZNAME:EST
DTSTART:20261101T060000
END:STANDARD
END:VTIMEZONE
BEGIN:VEVENT
DTSTART;TZID=America/New_York:20250321T130000
DTEND;TZID=America/New_York:20250321T140000
DTSTAMP:20260425T193433
CREATED:20250318T133655Z
LAST-MODIFIED:20250318T133655Z
UID:10002213-1742562000-1742565600@cityofeverett.com
SUMMARY:Keverian School Council 03-21-25
DESCRIPTION:Keverian School \nSchool Council Agenda \nMarch 21\, 2025\n1:00 PM Keverian School Conference Room\nZoom (LINK BELOW)\nhttps://us02web.zoom.us/j/89762653802?pwd=VWNqbGttc3czYmNiWU40RFpsNGZOZz09 \n  \nClick here to download Agenda PDF
URL:https://cityofeverett.com/events/keverian-school-council-03-21-25/
LOCATION:George Keverian School\, 20 Nichols Street\, Everett\, MA\, 02149\, United States
CATEGORIES:Agendas
END:VEVENT
BEGIN:VEVENT
DTSTART;TZID=America/New_York:20250321T150000
DTEND;TZID=America/New_York:20250321T150000
DTSTAMP:20260425T193433
CREATED:20250310T172512Z
LAST-MODIFIED:20250310T172512Z
UID:10002197-1742569200-1742569200@cityofeverett.com
SUMMARY:Rosie the Riveter Day
DESCRIPTION:As part of the City’s celebration of Women’s History Month\, which is celebrated during the month of March in recognition of the contributions and achievements of women throughout history\, all are welcome to attend this event that will honor women who have served in the United States military. In addition\, there will be a free public showing of the film “Six Triple Eight.” The film features the 6888th Central Postal Directory Battalion\, which is an all-Black and all-female battalion during World War II. \nThe Department of Veterans’ Affairs is also seeking community submissions of women veterans during active duty to be featured at the event. All submissions can be sent to Director of Veterans’ Affairs Antoine Coleman at Antoine.Coleman@ci.everett.ma.us for inclusion. \nFor more information about the event\, please email Antoine.Coleman@ci.everett.ma.us or Gerri.Miranda@ci.everett.ma.us. Alternatively\, please contact the Department of Veterans’ Affairs by dialing 617-394-2321 or 617-394-2320.
URL:https://cityofeverett.com/events/rosie-the-riveter-day-2025/
LOCATION:Edward G Connolly Center\, 90 Chelsea St.\, Everett\, MA\, 02149\, United States
CATEGORIES:Events
ATTACH;FMTTYPE=image/png:https://cityofeverett.com/wp-content/uploads/2025/03/RosietheRiveterDay_1920x1080-e1741627466242.png
ORGANIZER;CN="Department of Veterans Services":MAILTO:Erika.Corbeli@ci.everett.ma.us
END:VEVENT
END:VCALENDAR