BEGIN:VCALENDAR
VERSION:2.0
PRODID:-//Everett, MA - Official Website - ECPv6.15.14//NONSGML v1.0//EN
CALSCALE:GREGORIAN
METHOD:PUBLISH
X-ORIGINAL-URL:https://cityofeverett.com
X-WR-CALDESC:Events for Everett, MA - Official Website
REFRESH-INTERVAL;VALUE=DURATION:PT1H
X-Robots-Tag:noindex
X-PUBLISHED-TTL:PT1H
BEGIN:VTIMEZONE
TZID:America/New_York
BEGIN:DAYLIGHT
TZOFFSETFROM:-0500
TZOFFSETTO:-0400
TZNAME:EDT
DTSTART:20240310T070000
END:DAYLIGHT
BEGIN:STANDARD
TZOFFSETFROM:-0400
TZOFFSETTO:-0500
TZNAME:EST
DTSTART:20241103T060000
END:STANDARD
BEGIN:DAYLIGHT
TZOFFSETFROM:-0500
TZOFFSETTO:-0400
TZNAME:EDT
DTSTART:20250309T070000
END:DAYLIGHT
BEGIN:STANDARD
TZOFFSETFROM:-0400
TZOFFSETTO:-0500
TZNAME:EST
DTSTART:20251102T060000
END:STANDARD
BEGIN:DAYLIGHT
TZOFFSETFROM:-0500
TZOFFSETTO:-0400
TZNAME:EDT
DTSTART:20260308T070000
END:DAYLIGHT
BEGIN:STANDARD
TZOFFSETFROM:-0400
TZOFFSETTO:-0500
TZNAME:EST
DTSTART:20261101T060000
END:STANDARD
END:VTIMEZONE
BEGIN:VEVENT
DTSTART;VALUE=DATE:20250425
DTEND;VALUE=DATE:20250510
DTSTAMP:20260420T114440
CREATED:20250424T173111Z
LAST-MODIFIED:20250424T173111Z
UID:10002268-1745539200-1746835199@cityofeverett.com
SUMMARY:Energy Facilities Board Extended comment period for Trimount LLC - 04-25-25 - 05-09-25
DESCRIPTION:Click here to download Agenda PDF
URL:https://cityofeverett.com/events/energy-facilities-board-extended-comment-period-for-trimount-llc-04-25-25-05-09-25/
LOCATION:MA
CATEGORIES:Agendas
END:VEVENT
BEGIN:VEVENT
DTSTART;TZID=America/New_York:20250428T173000
DTEND;TZID=America/New_York:20250428T183000
DTSTAMP:20260420T114440
CREATED:20250424T163533Z
LAST-MODIFIED:20250424T163533Z
UID:10002262-1745861400-1745865000@cityofeverett.com
SUMMARY:Ways and Means 04-28-25
DESCRIPTION:COMMITTEE ON WAYS & MEANS \nMONDAY\, APRIL 28\, 2025 5:30 PM\nEVERETT CITY HALL\, 484 BROADWAY\,\nCITY COUNCIL CHAMBERS\, 3RD FLOOR\nEVERETT\, MA 02149 \n  \nClick here to download Agenda Doc \nClick here to download Agenda PDF
URL:https://cityofeverett.com/events/ways-and-means-04-28-25/
LOCATION:Everett City Hall\, 484 Broadway\, Everett\, MA\, 02149\, United States
CATEGORIES:Agendas
END:VEVENT
BEGIN:VEVENT
DTSTART;TZID=America/New_York:20250428T180000
DTEND;TZID=America/New_York:20250428T190000
DTSTAMP:20260420T114440
CREATED:20250424T171255Z
LAST-MODIFIED:20250424T171255Z
UID:10002266-1745863200-1745866800@cityofeverett.com
SUMMARY:Legislative Affairs & Elections 04-28-25
DESCRIPTION:COMMITTEE ON LEGISLATIVE AFFAIRS & ELECTIONS \nMONDAY\, APRIL 28\, 2025 6:00 PM\nEVERETT CITY HALL\, 484 BROADWAY\,\nCITY COUNCIL CHAMBERS\, 3RD FLOOR\nEVERETT\, MA 02149 \n  \nClick here to download Agenda PDF
URL:https://cityofeverett.com/events/legislative-affairs-elections-04-28-25/
LOCATION:Everett City Hall\, 484 Broadway\, Everett\, MA\, 02149\, United States
CATEGORIES:Agendas
END:VEVENT
BEGIN:VEVENT
DTSTART;TZID=America/New_York:20250428T183000
DTEND;TZID=America/New_York:20250428T193000
DTSTAMP:20260420T114440
CREATED:20250424T145305Z
LAST-MODIFIED:20250424T145305Z
UID:10002261-1745865000-1745868600@cityofeverett.com
SUMMARY:Board of License Commission 04-28-25
DESCRIPTION:License Meeting \nMonday\, April 28\, 2025\nEverett City Hall\, Room 27 @ 6:30 PM\n484 Broadway\nEverett\, MA 02149 \n  \nClick here to download Agenda Doc
URL:https://cityofeverett.com/events/board-of-license-commission-04-28-25/
LOCATION:MA
CATEGORIES:Agendas
END:VEVENT
BEGIN:VEVENT
DTSTART;TZID=America/New_York:20250428T190000
DTEND;TZID=America/New_York:20250428T200000
DTSTAMP:20260420T114440
CREATED:20250424T172117Z
LAST-MODIFIED:20250424T172117Z
UID:10002267-1745866800-1745870400@cityofeverett.com
SUMMARY:City Council Meeting 04-28-25
DESCRIPTION:REGULAR MEETING OF THE CITY COUNCIL \nMONDAY\, APRIL 28\, 2025 7:00 PM\nEVERETT CITY HALL\, 484 BROADWAY\,\nCITY COUNCIL CHAMBERS\, 3RD FLOOR\nEVERETT\, MA 02149 \n  \nClick here to download Agenda PDF
URL:https://cityofeverett.com/events/city-council-meeting-04-28-25/
LOCATION:Everett City Hall\, 484 Broadway\, Everett\, MA\, 02149\, United States
CATEGORIES:Agendas
END:VEVENT
END:VCALENDAR