BEGIN:VCALENDAR
VERSION:2.0
PRODID:-//Everett, MA - Official Website - ECPv6.15.14//NONSGML v1.0//EN
CALSCALE:GREGORIAN
METHOD:PUBLISH
X-WR-CALNAME:Everett, MA - Official Website
X-ORIGINAL-URL:https://cityofeverett.com
X-WR-CALDESC:Events for Everett, MA - Official Website
REFRESH-INTERVAL;VALUE=DURATION:PT1H
X-Robots-Tag:noindex
X-PUBLISHED-TTL:PT1H
BEGIN:VTIMEZONE
TZID:America/New_York
BEGIN:DAYLIGHT
TZOFFSETFROM:-0500
TZOFFSETTO:-0400
TZNAME:EDT
DTSTART:20240310T070000
END:DAYLIGHT
BEGIN:STANDARD
TZOFFSETFROM:-0400
TZOFFSETTO:-0500
TZNAME:EST
DTSTART:20241103T060000
END:STANDARD
BEGIN:DAYLIGHT
TZOFFSETFROM:-0500
TZOFFSETTO:-0400
TZNAME:EDT
DTSTART:20250309T070000
END:DAYLIGHT
BEGIN:STANDARD
TZOFFSETFROM:-0400
TZOFFSETTO:-0500
TZNAME:EST
DTSTART:20251102T060000
END:STANDARD
BEGIN:DAYLIGHT
TZOFFSETFROM:-0500
TZOFFSETTO:-0400
TZNAME:EDT
DTSTART:20260308T070000
END:DAYLIGHT
BEGIN:STANDARD
TZOFFSETFROM:-0400
TZOFFSETTO:-0500
TZNAME:EST
DTSTART:20261101T060000
END:STANDARD
END:VTIMEZONE
BEGIN:VEVENT
DTSTART;TZID=America/New_York:20250624T120000
DTEND;TZID=America/New_York:20250624T140000
DTSTAMP:20260424T104408
CREATED:20250611T215312Z
LAST-MODIFIED:20250714T123646Z
UID:10002355-1750766400-1750773600@cityofeverett.com
SUMMARY:Faith in Action Everett
DESCRIPTION:CLICK HERE TO REGISTER \nMayor Carlo DeMaria is pleased to announce that the City of Everett is seeking clergy and faith leaders to join the Mayor and key City staff members for a discussion and informational event on Tuesday\, June 24\, from 12 p.m. to 2 p.m. at Everett City Hall (484 Broadway). \nThis informational event will provide an opportunity for clergy and faith leaders who serve in Everett to discuss the needs of their parishioners with Mayor DeMaria and key City of Everett staff members. Additionally\, this event will provide an opportunity for attendees to learn about City resources that are available. \n“It’s important that all Everett residents are aware of the resources available to them\,” said Mayor Carlo DeMaria. “By connecting with our city’s faith and clergy leaders\, we can expand our outreach and better meet people where they are. We also look forward to hearing directly from the leaders\, whose insights will help shape services that truly reflect the needs of our community.” \nThe discussion will also include a complimentary lunch for those who attend. Registration in advance is required. Those who would like to attend must register by Friday\, June 20 by completing and submitting the registration form that can be found here.
URL:https://cityofeverett.com/events/faith-in-action-2025/
LOCATION:Everett City Hall\, 484 Broadway\, Everett\, MA\, 02149\, United States
CATEGORIES:Events
ATTACH;FMTTYPE=image/png:https://cityofeverett.com/wp-content/uploads/2025/06/FaithInActionEverett_1920x1080-e1749673865483.png
ORGANIZER;CN="Diversity%2C Equity and Inclusion":MAILTO:cathy.draine@ci.everett.ma.us
END:VEVENT
BEGIN:VEVENT
DTSTART;TZID=America/New_York:20250624T170000
DTEND;TZID=America/New_York:20250624T180000
DTSTAMP:20260424T104408
CREATED:20250505T171043Z
LAST-MODIFIED:20250623T180133Z
UID:10002280-1750784400-1750788000@cityofeverett.com
SUMMARY:Everett Housing Authority 06-24-25 CANCELLED
DESCRIPTION:Everett Housing Authority \n5:00 PM on 6/24/2025\nOffice Conference Room\n393 Ferry Street\nEverett\, MA 02149 \n  \nClick here to download Agenda PDF
URL:https://cityofeverett.com/events/everett-housing-authority-06-24-25/
LOCATION:EVERETT HOUSING AUTHORITY\, 393 FERRY STREET\, Everett\, MA\, 02149\, United States
CATEGORIES:Agendas
END:VEVENT
BEGIN:VEVENT
DTSTART;TZID=America/New_York:20250624T183000
DTEND;TZID=America/New_York:20250624T200000
DTSTAMP:20260424T104408
CREATED:20250522T171439Z
LAST-MODIFIED:20250623T224303Z
UID:10002324-1750789800-1750795200@cityofeverett.com
SUMMARY:Everett-Somerville – Mystic River bicycle pedestrian bridge Public Meeting
DESCRIPTION:On 6/24\, at 6:30PM\, the Massachusetts Department of Transportation (MassDOT) will hold an online public information meeting to discuss the Everett – Somerville – Mystic River bicycle pedestrian bridge.\n\n\n\nVirtual: https://us02web.zoom.us/webinar/register/WN_pZQRKL2XTcqrrvVeWLr7BQ\n\nPlease visit the MassDOT website to learn more by clicking here.
URL:https://cityofeverett.com/events/everett-somerville-mystic-river-bicycle-pedestrian-bridge-public-meeting-06-24-25/
LOCATION:Zoom
CATEGORIES:Community Meeting
ATTACH;FMTTYPE=image/png:https://cityofeverett.com/wp-content/uploads/2025/05/MysticPedFlyer-English-Moved-to-Virtual-e1750718577667.png
END:VEVENT
END:VCALENDAR