BEGIN:VCALENDAR
VERSION:2.0
PRODID:-//Everett, MA - Official Website - ECPv6.15.14//NONSGML v1.0//EN
CALSCALE:GREGORIAN
METHOD:PUBLISH
X-WR-CALNAME:Everett, MA - Official Website
X-ORIGINAL-URL:https://cityofeverett.com
X-WR-CALDESC:Events for Everett, MA - Official Website
REFRESH-INTERVAL;VALUE=DURATION:PT1H
X-Robots-Tag:noindex
X-PUBLISHED-TTL:PT1H
BEGIN:VTIMEZONE
TZID:America/New_York
BEGIN:DAYLIGHT
TZOFFSETFROM:-0500
TZOFFSETTO:-0400
TZNAME:EDT
DTSTART:20240310T070000
END:DAYLIGHT
BEGIN:STANDARD
TZOFFSETFROM:-0400
TZOFFSETTO:-0500
TZNAME:EST
DTSTART:20241103T060000
END:STANDARD
BEGIN:DAYLIGHT
TZOFFSETFROM:-0500
TZOFFSETTO:-0400
TZNAME:EDT
DTSTART:20250309T070000
END:DAYLIGHT
BEGIN:STANDARD
TZOFFSETFROM:-0400
TZOFFSETTO:-0500
TZNAME:EST
DTSTART:20251102T060000
END:STANDARD
BEGIN:DAYLIGHT
TZOFFSETFROM:-0500
TZOFFSETTO:-0400
TZNAME:EDT
DTSTART:20260308T070000
END:DAYLIGHT
BEGIN:STANDARD
TZOFFSETFROM:-0400
TZOFFSETTO:-0500
TZNAME:EST
DTSTART:20261101T060000
END:STANDARD
END:VTIMEZONE
BEGIN:VEVENT
DTSTART;TZID=America/New_York:20250908T130000
DTEND;TZID=America/New_York:20250908T140000
DTSTAMP:20260421T072517
CREATED:20250903T003522Z
LAST-MODIFIED:20250903T003522Z
UID:10002977-1757336400-1757340000@cityofeverett.com
SUMMARY:Historical Commission 09-08-25
DESCRIPTION:EVERETT HISTORICAL COMMISSION \nSeptember 8\, 2025\nMayor’s Conference Room\nEverett City Hall\n1:00 P.M. \nClick here to download Agenda PDF
URL:https://cityofeverett.com/events/historical-commission-09-08-25/
LOCATION:Everett City Hall\, 484 Broadway\, Everett\, MA\, 02149\, United States
CATEGORIES:Agendas
END:VEVENT
BEGIN:VEVENT
DTSTART;TZID=America/New_York:20250908T170000
DTEND;TZID=America/New_York:20250908T180000
DTSTAMP:20260421T072517
CREATED:20250825T195051Z
LAST-MODIFIED:20250825T195051Z
UID:10002970-1757350800-1757354400@cityofeverett.com
SUMMARY:Tree Removal Hearing	09-08-25
DESCRIPTION:Tree Removal Hearing \nMonday\, September 8th at 5:00 PM\nAt\nEverett\, City Hall Planning Conference Room\, 2nd Floor\, room 27 \n  \nClick here to download Agenda PDF
URL:https://cityofeverett.com/events/tree-removal-hearing09-08-25/
LOCATION:Everett City Hall\, 484 Broadway\, Everett\, MA\, 02149\, United States
CATEGORIES:Agendas
END:VEVENT
BEGIN:VEVENT
DTSTART;TZID=America/New_York:20250908T180000
DTEND;TZID=America/New_York:20250908T190000
DTSTAMP:20260421T072517
CREATED:20250825T133831Z
LAST-MODIFIED:20250825T133844Z
UID:10002966-1757354400-1757358000@cityofeverett.com
SUMMARY:Legislative Affairs & Elections 09-08-25
DESCRIPTION:CITY COUNCIL’S COMMITTEE ON LEGISLATIVE AFFAIRS & ELECTIONS \nMONDAY\, SEPTEMBER 08\, 2025 6:00 PM\nEVERETT CITY HALL\, 484 BROADWAY\,\nCITY COUNCIL CHAMBERS\, 3RD FLOOR EVERETT\, MA 02149 \n  \nClick here to download Agenda PDF
URL:https://cityofeverett.com/events/legislative-affairs-elections-09-08-25/
LOCATION:Everett City Hall\, 484 Broadway\, Everett\, MA\, 02149\, United States
CATEGORIES:Agendas
END:VEVENT
BEGIN:VEVENT
DTSTART;TZID=America/New_York:20250908T190000
DTEND;TZID=America/New_York:20250908T200000
DTSTAMP:20260421T072517
CREATED:20250903T222226Z
LAST-MODIFIED:20250903T222226Z
UID:10002982-1757358000-1757361600@cityofeverett.com
SUMMARY:Mystic Valley Regional Charter School 09-08-25
DESCRIPTION:MEETING OF THE TRUSTEES OF THE MYSTIC VALLEY REGIONAL CHARTER SCHOOL BOARD  \nON: Monday\, September 8\, 2025 \nAT: 4 Laurel Street\, MALDEN\, at 7 PM \n  \nClick here to download Agenda PDF
URL:https://cityofeverett.com/events/mystic-valley-regional-charter-school-09-08-25/
LOCATION:MA
CATEGORIES:Agendas
END:VEVENT
BEGIN:VEVENT
DTSTART;TZID=America/New_York:20250908T190000
DTEND;TZID=America/New_York:20250908T200000
DTSTAMP:20260421T072517
CREATED:20250904T124825Z
LAST-MODIFIED:20250904T124825Z
UID:10002983-1757358000-1757361600@cityofeverett.com
SUMMARY:City Council Meeting 09-08-25
DESCRIPTION:REGULAR MEETING OF THE CITY COUNCIL \nMONDAY\, SEPTEMBER 08\, 2025 7:00 PM\nEVERETT CITY HALL\, 484 BROADWAY\nCITY COUNCIL CHAMBERS\, 3RD FLOOR\nEVERETT\, MA 02149 \n  \nClick here to download Agenda PDF
URL:https://cityofeverett.com/events/city-council-meeting-09-08-25/
LOCATION:Everett City Hall\, 484 Broadway\, Everett\, MA\, 02149\, United States
CATEGORIES:Agendas
END:VEVENT
END:VCALENDAR