BEGIN:VCALENDAR
VERSION:2.0
PRODID:-//Everett, MA - Official Website - ECPv6.15.14//NONSGML v1.0//EN
CALSCALE:GREGORIAN
METHOD:PUBLISH
X-ORIGINAL-URL:https://cityofeverett.com
X-WR-CALDESC:Events for Everett, MA - Official Website
REFRESH-INTERVAL;VALUE=DURATION:PT1H
X-Robots-Tag:noindex
X-PUBLISHED-TTL:PT1H
BEGIN:VTIMEZONE
TZID:America/New_York
BEGIN:DAYLIGHT
TZOFFSETFROM:-0500
TZOFFSETTO:-0400
TZNAME:EDT
DTSTART:20240310T070000
END:DAYLIGHT
BEGIN:STANDARD
TZOFFSETFROM:-0400
TZOFFSETTO:-0500
TZNAME:EST
DTSTART:20241103T060000
END:STANDARD
BEGIN:DAYLIGHT
TZOFFSETFROM:-0500
TZOFFSETTO:-0400
TZNAME:EDT
DTSTART:20250309T070000
END:DAYLIGHT
BEGIN:STANDARD
TZOFFSETFROM:-0400
TZOFFSETTO:-0500
TZNAME:EST
DTSTART:20251102T060000
END:STANDARD
BEGIN:DAYLIGHT
TZOFFSETFROM:-0500
TZOFFSETTO:-0400
TZNAME:EDT
DTSTART:20260308T070000
END:DAYLIGHT
BEGIN:STANDARD
TZOFFSETFROM:-0400
TZOFFSETTO:-0500
TZNAME:EST
DTSTART:20261101T060000
END:STANDARD
END:VTIMEZONE
BEGIN:VEVENT
DTSTART;TZID=America/New_York:20250911T083000
DTEND;TZID=America/New_York:20250911T083000
DTSTAMP:20260421T084413
CREATED:20250903T202050Z
LAST-MODIFIED:20250903T202050Z
UID:10002981-1757579400-1757579400@cityofeverett.com
SUMMARY:9/11 Remembrance Ceremony
DESCRIPTION:The City of Everett invites residents to join us in honoring and remembering the lives lost on September 11\, 2001. The ceremony will take place at the Central Fire Station and will include moments of reflection and silence to pay tribute to the victims\, their families and the heroic first responders who answered the call that day. \nThis annual gathering provides our community an opportunity to come together in unity\, reflect on the resilience of our nation and reaffirm our commitment to never forget. All are welcome to attend.
URL:https://cityofeverett.com/events/9-11-remembrance-ceremony-2025/
LOCATION:Central Fire Station\, 384 Broadway\, Everett\, MA\, 02149\, United States
CATEGORIES:Events
ATTACH;FMTTYPE=image/png:https://cityofeverett.com/wp-content/uploads/2025/09/9.11-Remembrance-Ceremony-e1756930575621.png
END:VEVENT
BEGIN:VEVENT
DTSTART;TZID=America/New_York:20250911T150000
DTEND;TZID=America/New_York:20250911T190000
DTSTAMP:20260421T084413
CREATED:20250722T180749Z
LAST-MODIFIED:20260226T192507Z
UID:10002436-1757602800-1757617200@cityofeverett.com
SUMMARY:Housing and Utility Assistance
DESCRIPTION:Need help with housing or utility bills? The City of Everett and The Neighborhood Developers are here for you! If you’re dealing with a tough housing situation or facing a utility shutoff\, stop by our weekly office hours. No appointment needed. \nWe can help if:✔️ You’ve been told you need to leave your home✔️ You’ve gotten a utility shutoff notice✔️ You need to move quickly due to a housing emergency \nWhen: Thursdays\, 3:00 p.m. – 7:00 p.m.Where: Everett City Hall\, 484 Broadway — Room 27 (2nd floor\, next to Room 25) \nCome by and speak with someone who can help connect you to the resources you need.
URL:https://cityofeverett.com/events/housing-and-utility-assistance/2025-09-11/
LOCATION:Everett City Hall\, 484 Broadway\, Everett\, MA\, 02149\, United States
CATEGORIES:Events
ATTACH;FMTTYPE=image/png:https://cityofeverett.com/wp-content/uploads/2025/07/TND-Housing-and-Utility-Assistance-Web-e1771506229409.png
END:VEVENT
BEGIN:VEVENT
DTSTART;TZID=America/New_York:20250911T180000
DTEND;TZID=America/New_York:20250911T190000
DTSTAMP:20260421T084413
CREATED:20250903T174001Z
LAST-MODIFIED:20250903T174001Z
UID:10002980-1757613600-1757617200@cityofeverett.com
SUMMARY:DPW Commission 09-11-25
DESCRIPTION:Department of Public Works Commission \nThursday\, September 11th 2025 at 6:00 p.m.\nKeverian Conference Room on the third floor of City Hall \n  \nClick here to download Agenda PDF
URL:https://cityofeverett.com/events/dpw-commission-09-11-25/
LOCATION:Everett City Hall\, 484 Broadway\, Everett\, MA\, 02149\, United States
CATEGORIES:Agendas
END:VEVENT
BEGIN:VEVENT
DTSTART;TZID=America/New_York:20250911T190000
DTEND;TZID=America/New_York:20250911T200000
DTSTAMP:20260421T084413
CREATED:20250908T124346Z
LAST-MODIFIED:20250908T124346Z
UID:10002986-1757617200-1757620800@cityofeverett.com
SUMMARY:Pioneer Charter School Agenda 09-11-25
DESCRIPTION:Trustees of the Pioneer Charter School of Science \nRegular Meeting \nDate: September 11\, 2025\nTime: 7:00 PM\nLocation: Please visit the PCSS website at\nhttps://fpioneercss.org/apps/pages/index.jsp?uREC_ID=281022&type=d\nto access the meeting link. \n  \nClick here to download Agenda PDF
URL:https://cityofeverett.com/events/pioneer-charter-school-agenda-09-11-25/
LOCATION:MA
CATEGORIES:Agendas
END:VEVENT
END:VCALENDAR