BEGIN:VCALENDAR
VERSION:2.0
PRODID:-//Everett, MA - Official Website - ECPv6.15.14//NONSGML v1.0//EN
CALSCALE:GREGORIAN
METHOD:PUBLISH
X-ORIGINAL-URL:https://cityofeverett.com
X-WR-CALDESC:Events for Everett, MA - Official Website
REFRESH-INTERVAL;VALUE=DURATION:PT1H
X-Robots-Tag:noindex
X-PUBLISHED-TTL:PT1H
BEGIN:VTIMEZONE
TZID:America/New_York
BEGIN:DAYLIGHT
TZOFFSETFROM:-0500
TZOFFSETTO:-0400
TZNAME:EDT
DTSTART:20240310T070000
END:DAYLIGHT
BEGIN:STANDARD
TZOFFSETFROM:-0400
TZOFFSETTO:-0500
TZNAME:EST
DTSTART:20241103T060000
END:STANDARD
BEGIN:DAYLIGHT
TZOFFSETFROM:-0500
TZOFFSETTO:-0400
TZNAME:EDT
DTSTART:20250309T070000
END:DAYLIGHT
BEGIN:STANDARD
TZOFFSETFROM:-0400
TZOFFSETTO:-0500
TZNAME:EST
DTSTART:20251102T060000
END:STANDARD
BEGIN:DAYLIGHT
TZOFFSETFROM:-0500
TZOFFSETTO:-0400
TZNAME:EDT
DTSTART:20260308T070000
END:DAYLIGHT
BEGIN:STANDARD
TZOFFSETFROM:-0400
TZOFFSETTO:-0500
TZNAME:EST
DTSTART:20261101T060000
END:STANDARD
END:VTIMEZONE
BEGIN:VEVENT
DTSTART;TZID=America/New_York:20250917T120000
DTEND;TZID=America/New_York:20250917T120000
DTSTAMP:20260420T000651
CREATED:20250825T185638Z
LAST-MODIFIED:20250827T193001Z
UID:10002968-1758110400-1758110400@cityofeverett.com
SUMMARY:Luncheon for Veterans
DESCRIPTION:Mayor Carlo DeMaria and the Department of Veterans’ Affairs invite all military veterans to a special luncheon honoring your service. \nThis complimentary event is a chance to: \n\n\nConnect with fellow veterans \n\n\nEnjoy lunch together \n\n\nLearn about programs and services available through the City’s Veterans’ Affairs Office \n\n\nStaff will be on hand to answer questions and share resources. \nAdvance registration is required.To reserve your spot\, please contact:📧 Gerri Miranda\, Veterans Agent – Gerri.Miranda@ci.everett.ma.us📞 Or call 617-394-2321 or 617-394-2320 \nWe look forward to connecting with you!
URL:https://cityofeverett.com/events/luncheon-for-veterans-9-17-2025/
LOCATION:Edward G Connolly Center\, 90 Chelsea St.\, Everett\, MA\, 02149\, United States
CATEGORIES:Events
ATTACH;FMTTYPE=image/png:https://cityofeverett.com/wp-content/uploads/2025/08/Veterans-Luncheon-9-17-25-e1756322913946.png
ORGANIZER;CN="Department of Veterans Services":MAILTO:Erika.Corbeli@ci.everett.ma.us
END:VEVENT
BEGIN:VEVENT
DTSTART;TZID=America/New_York:20250917T130000
DTEND;TZID=America/New_York:20250917T140000
DTSTAMP:20260420T000651
CREATED:20250917T125002Z
LAST-MODIFIED:20250917T125002Z
UID:10003015-1758114000-1758117600@cityofeverett.com
SUMMARY:Keverian School Council	09-17-25
DESCRIPTION:Keverian School\nSchool Council Agenda Friday\, September 19\, 2025\n1:00 PM Keverian School Conference Room\nZoom (LINK BELOW)\nhttps://us02web.zoom.us/j/89762653802?pwd=VWNqbGttc3czYmNiWU40RFpsNGZ0Zz09 \n  \nClick here to download Agenda PDF
URL:https://cityofeverett.com/events/keverian-school-council09-17-25/
LOCATION:George Keverian School\, 20 Nichols Street\, Everett\, MA\, 02149\, United States
CATEGORIES:Agendas
END:VEVENT
BEGIN:VEVENT
DTSTART;TZID=America/New_York:20250917T150000
DTEND;TZID=America/New_York:20250917T160000
DTSTAMP:20260420T000651
CREATED:20250915T131401Z
LAST-MODIFIED:20250915T131401Z
UID:10003009-1758121200-1758124800@cityofeverett.com
SUMMARY:Whittier School Council 09-17-25
DESCRIPTION:Whittier School Council Meeting \nWednesday\, September 17\,\n2025 at 3:00 PM. \n  \nClick here to download Agenda PDF
URL:https://cityofeverett.com/events/whittier-school-council-09-17-25/
LOCATION:Sumner G. Whittier School\, 337 Broadway\, Everett\, MA\, 02109\, United States
CATEGORIES:Agendas
END:VEVENT
BEGIN:VEVENT
DTSTART;TZID=America/New_York:20250917T180000
DTEND;TZID=America/New_York:20250917T190000
DTSTAMP:20260420T000651
CREATED:20250910T191102Z
LAST-MODIFIED:20250910T191102Z
UID:10003000-1758132000-1758135600@cityofeverett.com
SUMMARY:Traffic Commission 09-17-25
DESCRIPTION:September 17\, 2025\nWednesday at 6:00 P.M. for Traffic Commission Meeting\nKeverian Room\, 3rd Fl. Everett City Hall \n  \nClick here to download Agenda PDF
URL:https://cityofeverett.com/events/traffic-commission-09-17-25/
LOCATION:Everett City Hall\, 484 Broadway\, Everett\, MA\, 02149\, United States
CATEGORIES:Agendas
END:VEVENT
BEGIN:VEVENT
DTSTART;TZID=America/New_York:20250917T180000
DTEND;TZID=America/New_York:20250917T190000
DTSTAMP:20260420T000651
CREATED:20250915T221827Z
LAST-MODIFIED:20250915T222239Z
UID:10003013-1758132000-1758135600@cityofeverett.com
SUMMARY:School Building Committee 09-17-25
DESCRIPTION:MEETING OF THE CITY OF EVERETT HIGH SCHOOL BUILDING COMMITTEE \nWEDNESDAY\, SEPTEMBER 17\, 2025 6:00 PM\nREMOTE VIA ZOOM\nJOIN ZOOM MEETING\nMEETING 10: 853 3986 0547 PASSCODE: 799281\nOPTION 1: BEST FOR COMPUTER/MOBILE APP USE:\nHTTPS://CI-EVERETT-MA.ZOOM.US/J/8533986054 7?PWD=JZ40LBGB7W1 0K65WJ MIJAXNTB9VGLS.1\nOPTION 2: BEST FOR LANDLINE USE – NO VIDEO CAPABILITIES\nFIND YOUR LOCAL NUMBER:\nHTTPS ://CI-EVERETT-MA.ZOOM.US/MEETINGS/85339860547/INVIT ATIONS?SIG NA TURE=SG­TTHN4PZTHRBTHQCMWCOFSMJR83RV6F1 DQMNQ8OM0 \n  \nClick here to download Agenda PDF
URL:https://cityofeverett.com/events/school-building-committee-09-17-25/
LOCATION:MA
CATEGORIES:Agendas
END:VEVENT
END:VCALENDAR