BEGIN:VCALENDAR
VERSION:2.0
PRODID:-//Everett, MA - Official Website - ECPv6.15.14//NONSGML v1.0//EN
CALSCALE:GREGORIAN
METHOD:PUBLISH
X-ORIGINAL-URL:https://cityofeverett.com
X-WR-CALDESC:Events for Everett, MA - Official Website
REFRESH-INTERVAL;VALUE=DURATION:PT1H
X-Robots-Tag:noindex
X-PUBLISHED-TTL:PT1H
BEGIN:VTIMEZONE
TZID:America/New_York
BEGIN:DAYLIGHT
TZOFFSETFROM:-0500
TZOFFSETTO:-0400
TZNAME:EDT
DTSTART:20240310T070000
END:DAYLIGHT
BEGIN:STANDARD
TZOFFSETFROM:-0400
TZOFFSETTO:-0500
TZNAME:EST
DTSTART:20241103T060000
END:STANDARD
BEGIN:DAYLIGHT
TZOFFSETFROM:-0500
TZOFFSETTO:-0400
TZNAME:EDT
DTSTART:20250309T070000
END:DAYLIGHT
BEGIN:STANDARD
TZOFFSETFROM:-0400
TZOFFSETTO:-0500
TZNAME:EST
DTSTART:20251102T060000
END:STANDARD
BEGIN:DAYLIGHT
TZOFFSETFROM:-0500
TZOFFSETTO:-0400
TZNAME:EDT
DTSTART:20260308T070000
END:DAYLIGHT
BEGIN:STANDARD
TZOFFSETFROM:-0400
TZOFFSETTO:-0500
TZNAME:EST
DTSTART:20261101T060000
END:STANDARD
END:VTIMEZONE
BEGIN:VEVENT
DTSTART;TZID=America/New_York:20251008T070000
DTEND;TZID=America/New_York:20251028T140000
DTSTAMP:20260422T060523
CREATED:20251008T155235Z
LAST-MODIFIED:20251008T155251Z
UID:10003695-1759906800-1761660000@cityofeverett.com
SUMMARY:Request for Proposals 10-28-25
DESCRIPTION:Click here to download Agenda PDF
URL:https://cityofeverett.com/events/request-for-proposals-10-28-25/
LOCATION:MA
CATEGORIES:Agendas
END:VEVENT
BEGIN:VEVENT
DTSTART;TZID=America/New_York:20251023T103000
DTEND;TZID=America/New_York:20251023T113000
DTSTAMP:20260422T060523
CREATED:20251016T171633Z
LAST-MODIFIED:20251016T171700Z
UID:10003714-1761215400-1761219000@cityofeverett.com
SUMMARY:Metro Boston Homeland Security Region JPOC Meeting 10-23-25
DESCRIPTION:Remote participation only via Google Meet:\nmeet.google.com/nqv-sxqb-fpy\n(US)+1 570-671-0078\nPIN: 142 541 134# \n  \nClick here to download Agenda PDF
URL:https://cityofeverett.com/events/metro-boston-homeland-security-region-jpoc-meeting-10-23-25/
LOCATION:MA
CATEGORIES:Agendas
END:VEVENT
BEGIN:VEVENT
DTSTART;TZID=America/New_York:20251023T150000
DTEND;TZID=America/New_York:20251023T190000
DTSTAMP:20260422T060523
CREATED:20250722T180749Z
LAST-MODIFIED:20260226T192507Z
UID:10003648-1761231600-1761246000@cityofeverett.com
SUMMARY:Housing and Utility Assistance
DESCRIPTION:Need help with housing or utility bills? The City of Everett and The Neighborhood Developers are here for you! If you’re dealing with a tough housing situation or facing a utility shutoff\, stop by our weekly office hours. No appointment needed. \nWe can help if:✔️ You’ve been told you need to leave your home✔️ You’ve gotten a utility shutoff notice✔️ You need to move quickly due to a housing emergency \nWhen: Thursdays\, 3:00 p.m. – 7:00 p.m.Where: Everett City Hall\, 484 Broadway — Room 27 (2nd floor\, next to Room 25) \nCome by and speak with someone who can help connect you to the resources you need.
URL:https://cityofeverett.com/events/housing-and-utility-assistance/2025-10-23/
LOCATION:Everett City Hall\, 484 Broadway\, Everett\, MA\, 02149\, United States
CATEGORIES:Events
ATTACH;FMTTYPE=image/png:https://cityofeverett.com/wp-content/uploads/2025/07/TND-Housing-and-Utility-Assistance-Web-e1771506229409.png
END:VEVENT
BEGIN:VEVENT
DTSTART;TZID=America/New_York:20251023T173000
DTEND;TZID=America/New_York:20251023T193000
DTSTAMP:20260422T060523
CREATED:20250922T194207Z
LAST-MODIFIED:20250930T144505Z
UID:10003668-1761240600-1761247800@cityofeverett.com
SUMMARY:Estamos Aqui 2025
DESCRIPTION:In celebration of Latino and Hispanic Heritage Month\, we invite you to ¡Estamos Aquí! A gallery exhibit showcasing diverse voices and experiences at Everett City Hall. \nGallery Exhibit – Open Oct. 2 through Oct. 23 on the first floor of City Hall.Live Performances – Every Thursday through October 23 in the ECTV Studio\, featuring music and dance from Salsa to Mariachi.Free Food – Enjoy complimentary food from local vendors during performances.Special Guests – DJ Tunes by DJ Tavo Entertainment\, hosted by Jeniffer Mariel.Community Support – In partnership with The Nan Project\, resources and support will be available for residents. \nLive Performance Schedule: \n\nThursday\, October 2: Kristalis y sus Nenas\nThursday\, October 9: Nico Shaw\nThursday\, October 16: Mariachi en Vivo\nThursday\, October 23: Primo Simon Y Amigos
URL:https://cityofeverett.com/events/estamos-aqui-2025/2025-10-23/
LOCATION:Everett City Hall\, 484 Broadway\, Everett\, MA\, 02149\, United States
CATEGORIES:Events
ATTACH;FMTTYPE=image/png:https://cityofeverett.com/wp-content/uploads/2025/09/Estamos-Aqui-1920x1080-1-e1759243463986.png
ORGANIZER;CN="Youth Development & Enrichment Department":MAILTO:Roberto.Velasquez@ci.everett.ma.us
END:VEVENT
BEGIN:VEVENT
DTSTART;TZID=America/New_York:20251023T180000
DTEND;TZID=America/New_York:20251023T193000
DTSTAMP:20260422T060523
CREATED:20250918T133603Z
LAST-MODIFIED:20250930T154917Z
UID:10003020-1761242400-1761247800@cityofeverett.com
SUMMARY:Faith in Action Everett
DESCRIPTION:CLICK HERE TO REGISTER \nClergy and faith leaders who serve Everett are invited to join Mayor Carlo DeMaria and City staff for an open conversation about the needs of their parishioners and the wider community. This gathering is also a chance to learn about the many City resources available to support residents. \nA complimentary lunch will be provided. Advance registration is required. please complete and submit the registration form here to attend.
URL:https://cityofeverett.com/events/faith-in-action-everett-10-23-25/
LOCATION:Everett City Hall\, 484 Broadway\, Everett\, MA\, 02149\, United States
CATEGORIES:Events
ATTACH;FMTTYPE=image/png:https://cityofeverett.com/wp-content/uploads/2025/09/Faith-in-Action-Everett-1920x1080-1-e1759247351538.png
ORGANIZER;CN="Diversity%2C Equity and Inclusion":MAILTO:cathy.draine@ci.everett.ma.us
END:VEVENT
BEGIN:VEVENT
DTSTART;TZID=America/New_York:20251023T190000
DTEND;TZID=America/New_York:20251023T200000
DTSTAMP:20260422T060523
CREATED:20251016T172530Z
LAST-MODIFIED:20251016T172530Z
UID:10003715-1761246000-1761249600@cityofeverett.com
SUMMARY:Pioneer Charter School Agenda 10-23-25
DESCRIPTION:Location: Please visit the PCSS website at\nhttps://pioneercss.org\nto access the meeting link. \n  \nClick here to download Agenda PDF \n  \n 
URL:https://cityofeverett.com/events/pioneer-charter-school-agenda-10-23-25/
LOCATION:Pioneer Charter School of Science\, 466 Broadway\, Everett\, MA\, 02149\, United States
CATEGORIES:Agendas
END:VEVENT
END:VCALENDAR