BEGIN:VCALENDAR
VERSION:2.0
PRODID:-//Everett, MA - Official Website - ECPv6.15.14//NONSGML v1.0//EN
CALSCALE:GREGORIAN
METHOD:PUBLISH
X-ORIGINAL-URL:https://cityofeverett.com
X-WR-CALDESC:Events for Everett, MA - Official Website
REFRESH-INTERVAL;VALUE=DURATION:PT1H
X-Robots-Tag:noindex
X-PUBLISHED-TTL:PT1H
BEGIN:VTIMEZONE
TZID:America/New_York
BEGIN:DAYLIGHT
TZOFFSETFROM:-0500
TZOFFSETTO:-0400
TZNAME:EDT
DTSTART:20250309T070000
END:DAYLIGHT
BEGIN:STANDARD
TZOFFSETFROM:-0400
TZOFFSETTO:-0500
TZNAME:EST
DTSTART:20251102T060000
END:STANDARD
BEGIN:DAYLIGHT
TZOFFSETFROM:-0500
TZOFFSETTO:-0400
TZNAME:EDT
DTSTART:20260308T070000
END:DAYLIGHT
BEGIN:STANDARD
TZOFFSETFROM:-0400
TZOFFSETTO:-0500
TZNAME:EST
DTSTART:20261101T060000
END:STANDARD
BEGIN:DAYLIGHT
TZOFFSETFROM:-0500
TZOFFSETTO:-0400
TZNAME:EDT
DTSTART:20270314T070000
END:DAYLIGHT
BEGIN:STANDARD
TZOFFSETFROM:-0400
TZOFFSETTO:-0500
TZNAME:EST
DTSTART:20271107T060000
END:STANDARD
END:VTIMEZONE
BEGIN:VEVENT
DTSTART;TZID=America/New_York:20260316T120000
DTEND;TZID=America/New_York:20260316T120000
DTSTAMP:20260423T133955
CREATED:20260311T132332Z
LAST-MODIFIED:20260311T132348Z
UID:10004072-1773662400-1773662400@cityofeverett.com
SUMMARY:Board of License Commission 03-16-26
DESCRIPTION:Everett City Hall \nClick here to download Agenda PDF
URL:https://cityofeverett.com/events/board-of-license-commission-03-16-26/
LOCATION:Everett City Hall\, 484 Broadway\, Everett\, MA\, 02149\, United States
CATEGORIES:Agendas
END:VEVENT
BEGIN:VEVENT
DTSTART;TZID=America/New_York:20260316T180000
DTEND;TZID=America/New_York:20260316T190000
DTSTAMP:20260423T133955
CREATED:20260310T203637Z
LAST-MODIFIED:20260310T203637Z
UID:10004071-1773684000-1773687600@cityofeverett.com
SUMMARY:Zoning Board of Appeals 03-16-26
DESCRIPTION:Keverian Room 3rd Floor\nEverett City Hall \n  \nClick here to download Agenda PDF
URL:https://cityofeverett.com/events/zoning-board-of-appeals-03-16-26/
LOCATION:Everett City Hall\, 484 Broadway\, Everett\, MA\, 02149\, United States
CATEGORIES:Agendas
END:VEVENT
BEGIN:VEVENT
DTSTART;TZID=America/New_York:20260316T180000
DTEND;TZID=America/New_York:20260316T190000
DTSTAMP:20260423T133955
CREATED:20260311T171428Z
LAST-MODIFIED:20260311T171428Z
UID:10004073-1773684000-1773687600@cityofeverett.com
SUMMARY:Board of Health 03-16-26
DESCRIPTION:Health Department 2nd Floor\, Rm. 20 \nClick here to download Agenda PDF
URL:https://cityofeverett.com/events/board-of-health-03-16-26/
LOCATION:Everett City Hall\, 484 Broadway\, Everett\, MA\, 02149\, United States
CATEGORIES:Agendas
END:VEVENT
BEGIN:VEVENT
DTSTART;TZID=America/New_York:20260316T180000
DTEND;TZID=America/New_York:20260316T190000
DTSTAMP:20260423T133955
CREATED:20260312T162121Z
LAST-MODIFIED:20260312T162121Z
UID:10004076-1773684000-1773687600@cityofeverett.com
SUMMARY:School Subcommittee on Finance and Negotiations 03-16-26
DESCRIPTION:EVERETT HIGH SCHOOL LIBRARY \nClick here to download Agenda PDF
URL:https://cityofeverett.com/events/school-subcommittee-on-finance-and-negotiations-03-16-26/
LOCATION:Everett High School Library\, 100 Elm St.\, Everett\, 02749\, United States
CATEGORIES:Agendas
END:VEVENT
BEGIN:VEVENT
DTSTART;TZID=America/New_York:20260316T183000
DTEND;TZID=America/New_York:20260316T193000
DTSTAMP:20260423T133955
CREATED:20260312T162751Z
LAST-MODIFIED:20260312T162751Z
UID:10004077-1773685800-1773689400@cityofeverett.com
SUMMARY:School Committee Meeting 03-16-26
DESCRIPTION:EVERETT HIGH SCHOOL LIBRARY \nOPEN SESSIONS MAY BE VIEWED LIVE ON THE EVERETT PUBLIC SCHOOLS WEBSITE:\nwww.everettpublicschools.org\nIndividuals who wish to participate in Public Comment must attend the\nmeeting inside the Everett High School Library.\nLive interpretation is offered\, in person\, for every Regular Meeting\nin Spanish\, Portuguese\, and Haitian Creole. \nClick here to download Agenda PDF
URL:https://cityofeverett.com/events/school-committee-meeting-03-16-26/
LOCATION:Everett High School Library\, 100 Elm St.\, Everett\, 02749\, United States
CATEGORIES:Agendas
END:VEVENT
BEGIN:VEVENT
DTSTART;TZID=America/New_York:20260316T190000
DTEND;TZID=America/New_York:20260316T200000
DTSTAMP:20260423T133955
CREATED:20260311T205011Z
LAST-MODIFIED:20260311T205011Z
UID:10004075-1773687600-1773691200@cityofeverett.com
SUMMARY:Mystic Valley Regional Charter School 03-16-26
DESCRIPTION:Click here to download Agenda PDF
URL:https://cityofeverett.com/events/mystic-valley-regional-charter-school-03-16-26/
LOCATION:Mystic Valley Reg Charter School\, 4 Laurel Street\, Malden\, MA\, United States
CATEGORIES:Agendas
END:VEVENT
END:VCALENDAR