BEGIN:VCALENDAR
VERSION:2.0
PRODID:-//Everett, MA - Official Website - ECPv6.15.14//NONSGML v1.0//EN
CALSCALE:GREGORIAN
METHOD:PUBLISH
X-WR-CALNAME:Everett, MA - Official Website
X-ORIGINAL-URL:https://cityofeverett.com
X-WR-CALDESC:Events for Everett, MA - Official Website
REFRESH-INTERVAL;VALUE=DURATION:PT1H
X-Robots-Tag:noindex
X-PUBLISHED-TTL:PT1H
BEGIN:VTIMEZONE
TZID:America/New_York
BEGIN:DAYLIGHT
TZOFFSETFROM:-0500
TZOFFSETTO:-0400
TZNAME:EDT
DTSTART:20250309T070000
END:DAYLIGHT
BEGIN:STANDARD
TZOFFSETFROM:-0400
TZOFFSETTO:-0500
TZNAME:EST
DTSTART:20251102T060000
END:STANDARD
BEGIN:DAYLIGHT
TZOFFSETFROM:-0500
TZOFFSETTO:-0400
TZNAME:EDT
DTSTART:20260308T070000
END:DAYLIGHT
BEGIN:STANDARD
TZOFFSETFROM:-0400
TZOFFSETTO:-0500
TZNAME:EST
DTSTART:20261101T060000
END:STANDARD
BEGIN:DAYLIGHT
TZOFFSETFROM:-0500
TZOFFSETTO:-0400
TZNAME:EDT
DTSTART:20270314T070000
END:DAYLIGHT
BEGIN:STANDARD
TZOFFSETFROM:-0400
TZOFFSETTO:-0500
TZNAME:EST
DTSTART:20271107T060000
END:STANDARD
END:VTIMEZONE
BEGIN:VEVENT
DTSTART;TZID=America/New_York:20260422T170000
DTEND;TZID=America/New_York:20260422T190000
DTSTAMP:20260422T014344
CREATED:20260415T162831Z
LAST-MODIFIED:20260415T162831Z
UID:10004125-1776877200-1776884400@cityofeverett.com
SUMMARY:Bike Safety Check-Ups with Landry's Bicycles
DESCRIPTION:Keep your bike safe and road-ready! The City and Landry’s Bicycles are offering free bike safety check-ups at West & Wellington Plaza on Wednesday\, April 22nd\, and Thursday\, May 14th from 5–7 PM. \nAppointments are encouraged to reserve a 15-minute slot. Limited walk-ins may be available. \nReserve your spot!
URL:https://cityofeverett.com/events/bike-safety-check-ups-with-landrys-bicycles/2026-04-22/
LOCATION:West & Wellington Plaza\, At the corner of West Street and Park Terrace\, Everett\, MA\, 02149\, United States
CATEGORIES:Events
ATTACH;FMTTYPE=image/png:https://cityofeverett.com/wp-content/uploads/2025/10/Free-Bike-Safety-Checks-West-Wellington-Web-e1776270402761.png
ORGANIZER;CN="Department of Transportation and Mobility":MAILTO:Jay.Monty@ci.everett.ma.us
END:VEVENT
END:VCALENDAR