BEGIN:VCALENDAR
VERSION:2.0
PRODID:-//Everett, MA - Official Website - ECPv6.15.14//NONSGML v1.0//EN
CALSCALE:GREGORIAN
METHOD:PUBLISH
X-WR-CALNAME:Everett, MA - Official Website
X-ORIGINAL-URL:https://cityofeverett.com
X-WR-CALDESC:Events for Everett, MA - Official Website
REFRESH-INTERVAL;VALUE=DURATION:PT1H
X-Robots-Tag:noindex
X-PUBLISHED-TTL:PT1H
BEGIN:VTIMEZONE
TZID:America/New_York
BEGIN:DAYLIGHT
TZOFFSETFROM:-0500
TZOFFSETTO:-0400
TZNAME:EDT
DTSTART:20210314T070000
END:DAYLIGHT
BEGIN:STANDARD
TZOFFSETFROM:-0400
TZOFFSETTO:-0500
TZNAME:EST
DTSTART:20211107T060000
END:STANDARD
BEGIN:DAYLIGHT
TZOFFSETFROM:-0500
TZOFFSETTO:-0400
TZNAME:EDT
DTSTART:20220313T070000
END:DAYLIGHT
BEGIN:STANDARD
TZOFFSETFROM:-0400
TZOFFSETTO:-0500
TZNAME:EST
DTSTART:20221106T060000
END:STANDARD
BEGIN:DAYLIGHT
TZOFFSETFROM:-0500
TZOFFSETTO:-0400
TZNAME:EDT
DTSTART:20230312T070000
END:DAYLIGHT
BEGIN:STANDARD
TZOFFSETFROM:-0400
TZOFFSETTO:-0500
TZNAME:EST
DTSTART:20231105T060000
END:STANDARD
END:VTIMEZONE
BEGIN:VEVENT
DTSTART;TZID=America/New_York:20221003T173000
DTEND;TZID=America/New_York:20221003T183000
DTSTAMP:20260424T004405
CREATED:20220929T153955Z
LAST-MODIFIED:20220929T154029Z
UID:10001074-1664818200-1664821800@cityofeverett.com
SUMMARY:School Subcommittee on Finance and Negotiations 10-03-22
DESCRIPTION:Subcommittee on Finance and Negotiations \nMonday\, October 3\, 2022\, at 5:30 p.m.\nEverett High School Library\, 100 Elm St.\, Everett\, MA.\nThe meeting is open to the public. \n  \nClick here to download Agenda PDF
URL:https://cityofeverett.com/events/school-subcommittee-on-finance-and-negotiations-10-03-22/
LOCATION:Everett High School Library\, 100 Elm St.\, Everett\, 02749\, United States
CATEGORIES:Agendas
END:VEVENT
BEGIN:VEVENT
DTSTART;TZID=America/New_York:20221003T180000
DTEND;TZID=America/New_York:20221003T190000
DTSTAMP:20260424T004405
CREATED:20220928T135637Z
LAST-MODIFIED:20220928T135824Z
UID:10001120-1664820000-1664823600@cityofeverett.com
SUMMARY:Planning Board 10-03-22
DESCRIPTION:Meeting of the Everett Planning Board \nEverett City Hall\, 3rd Floor\, Speaker George Keverian Room\nMonday\, October 3rd\, 2022 at 6:00 pm \n  \nClick here to download Agenda PDF
URL:https://cityofeverett.com/events/planning-board-10-03-22/
LOCATION:Everett City Hall\, 484 Broadway\, Everett\, MA\, 02149\, United States
CATEGORIES:Agendas
END:VEVENT
BEGIN:VEVENT
DTSTART;TZID=America/New_York:20221003T183000
DTEND;TZID=America/New_York:20221003T193000
DTSTAMP:20260424T004405
CREATED:20220928T172214Z
LAST-MODIFIED:20220928T172214Z
UID:10001122-1664821800-1664825400@cityofeverett.com
SUMMARY:Board of License Commission 10-03-22
DESCRIPTION:License Meeting \nMonday\, October 3\, 2022\nEverett City Hall\, Room 27 @ 6:30 PM \n  \nClick here to download Agenda PDF
URL:https://cityofeverett.com/events/board-of-license-commission-10-03-22/
LOCATION:Everett City Hall\, 484 Broadway\, Everett\, MA\, 02149\, United States
CATEGORIES:Agendas
END:VEVENT
BEGIN:VEVENT
DTSTART;TZID=America/New_York:20221003T183000
DTEND;TZID=America/New_York:20221003T193000
DTSTAMP:20260424T004405
CREATED:20220929T152928Z
LAST-MODIFIED:20220929T152928Z
UID:10001071-1664821800-1664825400@cityofeverett.com
SUMMARY:School Committee 10-03-22
DESCRIPTION:Everett School Committee Regular Meeting \nMonday\, October 3\, 2022\, At 6:30 P.M.\nEverett High School Library\n100 Elm St.\, Everett\, Ma 02149 \nOpen Sessions May Be Viewed Live On The Everett Public Schools Website:\nwww.everettpublicschools.org \n  \nClick here to download Agenda PDF
URL:https://cityofeverett.com/events/school-committee-10-03-22/
LOCATION:Everett High School Library\, 100 Elm St.\, Everett\, 02749\, United States
CATEGORIES:Agendas
END:VEVENT
END:VCALENDAR