BEGIN:VCALENDAR
VERSION:2.0
PRODID:-//Everett, MA - Official Website - ECPv6.15.14//NONSGML v1.0//EN
CALSCALE:GREGORIAN
METHOD:PUBLISH
X-WR-CALNAME:Everett, MA - Official Website
X-ORIGINAL-URL:https://cityofeverett.com
X-WR-CALDESC:Events for Everett, MA - Official Website
REFRESH-INTERVAL;VALUE=DURATION:PT1H
X-Robots-Tag:noindex
X-PUBLISHED-TTL:PT1H
BEGIN:VTIMEZONE
TZID:America/New_York
BEGIN:DAYLIGHT
TZOFFSETFROM:-0500
TZOFFSETTO:-0400
TZNAME:EDT
DTSTART:20210314T070000
END:DAYLIGHT
BEGIN:STANDARD
TZOFFSETFROM:-0400
TZOFFSETTO:-0500
TZNAME:EST
DTSTART:20211107T060000
END:STANDARD
BEGIN:DAYLIGHT
TZOFFSETFROM:-0500
TZOFFSETTO:-0400
TZNAME:EDT
DTSTART:20220313T070000
END:DAYLIGHT
BEGIN:STANDARD
TZOFFSETFROM:-0400
TZOFFSETTO:-0500
TZNAME:EST
DTSTART:20221106T060000
END:STANDARD
BEGIN:DAYLIGHT
TZOFFSETFROM:-0500
TZOFFSETTO:-0400
TZNAME:EDT
DTSTART:20230312T070000
END:DAYLIGHT
BEGIN:STANDARD
TZOFFSETFROM:-0400
TZOFFSETTO:-0500
TZNAME:EST
DTSTART:20231105T060000
END:STANDARD
END:VTIMEZONE
BEGIN:VEVENT
DTSTART;TZID=America/New_York:20221004T180000
DTEND;TZID=America/New_York:20221004T190000
DTSTAMP:20260423T231948
CREATED:20220928T134333Z
LAST-MODIFIED:20220928T134333Z
UID:10001116-1664906400-1664910000@cityofeverett.com
SUMMARY:City Council  – Joint Convention 10-04-22
DESCRIPTION:Joint Convention Of The City Council & School Committee  \nTuesday\, October 04\, 2022 6:00 PM\nEverett City Hall\, 484 Broadway\,\nCity Council Chambers\, 3rd Floor Everett\, MA 02149 \n  \nClick here to download Agenda PDF
URL:https://cityofeverett.com/events/city-council-joint-convention-10-04-22/
LOCATION:Everett City Hall\, 484 Broadway\, Everett\, MA\, 02149\, United States
CATEGORIES:Agendas
END:VEVENT
BEGIN:VEVENT
DTSTART;TZID=America/New_York:20221004T180000
DTEND;TZID=America/New_York:20221004T190000
DTSTAMP:20260423T231948
CREATED:20220928T135120Z
LAST-MODIFIED:20220928T135120Z
UID:10001118-1664906400-1664910000@cityofeverett.com
SUMMARY:School Committee  – Joint Convention 10-04-22
DESCRIPTION:Joint Convention Of The City Council & School Committee \nTuesday\, October 04\, 2022 6:00 PM\nEverett City Hall\, 484 Broadway\,\nCity Council Chambers\, 3rd Floor Everett\, MA 02149 \n  \nClick here to download Agenda PDF
URL:https://cityofeverett.com/events/school-committee-joint-convention-10-04-22/
LOCATION:Everett City Hall\, 484 Broadway\, Everett\, MA\, 02149\, United States
CATEGORIES:Agendas
END:VEVENT
END:VCALENDAR