BEGIN:VCALENDAR
VERSION:2.0
PRODID:-//Everett, MA - Official Website - ECPv6.15.14//NONSGML v1.0//EN
CALSCALE:GREGORIAN
METHOD:PUBLISH
X-ORIGINAL-URL:https://cityofeverett.com
X-WR-CALDESC:Events for Everett, MA - Official Website
REFRESH-INTERVAL;VALUE=DURATION:PT1H
X-Robots-Tag:noindex
X-PUBLISHED-TTL:PT1H
BEGIN:VTIMEZONE
TZID:America/New_York
BEGIN:DAYLIGHT
TZOFFSETFROM:-0500
TZOFFSETTO:-0400
TZNAME:EDT
DTSTART:20210314T070000
END:DAYLIGHT
BEGIN:STANDARD
TZOFFSETFROM:-0400
TZOFFSETTO:-0500
TZNAME:EST
DTSTART:20211107T060000
END:STANDARD
BEGIN:DAYLIGHT
TZOFFSETFROM:-0500
TZOFFSETTO:-0400
TZNAME:EDT
DTSTART:20220313T070000
END:DAYLIGHT
BEGIN:STANDARD
TZOFFSETFROM:-0400
TZOFFSETTO:-0500
TZNAME:EST
DTSTART:20221106T060000
END:STANDARD
BEGIN:DAYLIGHT
TZOFFSETFROM:-0500
TZOFFSETTO:-0400
TZNAME:EDT
DTSTART:20230312T070000
END:DAYLIGHT
BEGIN:STANDARD
TZOFFSETFROM:-0400
TZOFFSETTO:-0500
TZNAME:EST
DTSTART:20231105T060000
END:STANDARD
END:VTIMEZONE
BEGIN:VEVENT
DTSTART;TZID=America/New_York:20221005T130000
DTEND;TZID=America/New_York:20221005T140000
DTSTAMP:20260423T203202
CREATED:20220929T173605Z
LAST-MODIFIED:20220929T173605Z
UID:10001077-1664974800-1664978400@cityofeverett.com
SUMMARY:Metro Boston Homeland Security US&R Meeting 10-05-22
DESCRIPTION:METRO BOSTON HOMELAND SECURITY REGION\nUS&R Working Group Meeting \nOctober 5\, 2022\n1:00pm \nLocation:\nBoston Police Department 20 Vine St\nBoston\, MA 02129 \n  \nClick here to download Agenda PDF \n 
URL:https://cityofeverett.com/events/metro-boston-homeland-security-usr-meeting-10-05-22/
LOCATION:Boston Police Department\, 20 Vine Steet\, Boston\, MA\, 02129\, United States
CATEGORIES:Agendas
END:VEVENT
BEGIN:VEVENT
DTSTART;TZID=America/New_York:20221005T143000
DTEND;TZID=America/New_York:20221005T153000
DTSTAMP:20260423T203202
CREATED:20220929T174238Z
LAST-MODIFIED:20220929T174238Z
UID:10001081-1664980200-1664983800@cityofeverett.com
SUMMARY:Metro Boston Homeland Security HazMat/K9/EOD Meeting 10-05-22
DESCRIPTION:METRO BOSTON HOMELAND SECURITY REGION\nHazmat/K9/EOD Working Group Meeting \nOctober 5\, 2022\n2:30pm \nLocation:\nBoston Police Department\n20 Vine St\nBoston\, MA 02129 \n  \nClick here to download Agenda PDF
URL:https://cityofeverett.com/events/metro-boston-homeland-security-hazmat-k9-eod-meeting-10-05-22/
LOCATION:Boston Police Department\, 20 Vine Steet\, Boston\, MA\, 02129\, United States
CATEGORIES:Agendas
END:VEVENT
END:VCALENDAR