BEGIN:VCALENDAR
VERSION:2.0
PRODID:-//Everett, MA - Official Website - ECPv6.15.14//NONSGML v1.0//EN
CALSCALE:GREGORIAN
METHOD:PUBLISH
X-WR-CALNAME:Everett, MA - Official Website
X-ORIGINAL-URL:https://cityofeverett.com
X-WR-CALDESC:Events for Everett, MA - Official Website
REFRESH-INTERVAL;VALUE=DURATION:PT1H
X-Robots-Tag:noindex
X-PUBLISHED-TTL:PT1H
BEGIN:VTIMEZONE
TZID:America/New_York
BEGIN:DAYLIGHT
TZOFFSETFROM:-0500
TZOFFSETTO:-0400
TZNAME:EDT
DTSTART:20240310T070000
END:DAYLIGHT
BEGIN:STANDARD
TZOFFSETFROM:-0400
TZOFFSETTO:-0500
TZNAME:EST
DTSTART:20241103T060000
END:STANDARD
BEGIN:DAYLIGHT
TZOFFSETFROM:-0500
TZOFFSETTO:-0400
TZNAME:EDT
DTSTART:20250309T070000
END:DAYLIGHT
BEGIN:STANDARD
TZOFFSETFROM:-0400
TZOFFSETTO:-0500
TZNAME:EST
DTSTART:20251102T060000
END:STANDARD
BEGIN:DAYLIGHT
TZOFFSETFROM:-0500
TZOFFSETTO:-0400
TZNAME:EDT
DTSTART:20260308T070000
END:DAYLIGHT
BEGIN:STANDARD
TZOFFSETFROM:-0400
TZOFFSETTO:-0500
TZNAME:EST
DTSTART:20261101T060000
END:STANDARD
END:VTIMEZONE
BEGIN:VEVENT
DTSTART;TZID=America/New_York:20250624T183000
DTEND;TZID=America/New_York:20250624T200000
DTSTAMP:20260419T164855
CREATED:20250522T171439Z
LAST-MODIFIED:20250623T224303Z
UID:10002324-1750789800-1750795200@cityofeverett.com
SUMMARY:Everett-Somerville – Mystic River bicycle pedestrian bridge Public Meeting
DESCRIPTION:On 6/24\, at 6:30PM\, the Massachusetts Department of Transportation (MassDOT) will hold an online public information meeting to discuss the Everett – Somerville – Mystic River bicycle pedestrian bridge.\n\n\n\nVirtual: https://us02web.zoom.us/webinar/register/WN_pZQRKL2XTcqrrvVeWLr7BQ\n\nPlease visit the MassDOT website to learn more by clicking here.
URL:https://cityofeverett.com/events/everett-somerville-mystic-river-bicycle-pedestrian-bridge-public-meeting-06-24-25/
LOCATION:Zoom
CATEGORIES:Community Meeting
ATTACH;FMTTYPE=image/png:https://cityofeverett.com/wp-content/uploads/2025/05/MysticPedFlyer-English-Moved-to-Virtual-e1750718577667.png
END:VEVENT
END:VCALENDAR