BEGIN:VCALENDAR
VERSION:2.0
PRODID:-//Everett, MA - Official Website - ECPv6.15.14//NONSGML v1.0//EN
CALSCALE:GREGORIAN
METHOD:PUBLISH
X-ORIGINAL-URL:https://cityofeverett.com
X-WR-CALDESC:Events for Everett, MA - Official Website
REFRESH-INTERVAL;VALUE=DURATION:PT1H
X-Robots-Tag:noindex
X-PUBLISHED-TTL:PT1H
BEGIN:VTIMEZONE
TZID:America/New_York
BEGIN:DAYLIGHT
TZOFFSETFROM:-0500
TZOFFSETTO:-0400
TZNAME:EDT
DTSTART:20230312T070000
END:DAYLIGHT
BEGIN:STANDARD
TZOFFSETFROM:-0400
TZOFFSETTO:-0500
TZNAME:EST
DTSTART:20231105T060000
END:STANDARD
BEGIN:DAYLIGHT
TZOFFSETFROM:-0500
TZOFFSETTO:-0400
TZNAME:EDT
DTSTART:20240310T070000
END:DAYLIGHT
BEGIN:STANDARD
TZOFFSETFROM:-0400
TZOFFSETTO:-0500
TZNAME:EST
DTSTART:20241103T060000
END:STANDARD
BEGIN:DAYLIGHT
TZOFFSETFROM:-0500
TZOFFSETTO:-0400
TZNAME:EDT
DTSTART:20250309T070000
END:DAYLIGHT
BEGIN:STANDARD
TZOFFSETFROM:-0400
TZOFFSETTO:-0500
TZNAME:EST
DTSTART:20251102T060000
END:STANDARD
END:VTIMEZONE
BEGIN:VEVENT
DTSTART;TZID=America/New_York:20241231T110000
DTEND;TZID=America/New_York:20241231T110000
DTSTAMP:20260424T162818
CREATED:20241022T133606Z
LAST-MODIFIED:20241029T161524Z
UID:10002014-1735642800-1735642800@cityofeverett.com
SUMMARY:COA New Year's Eve Party
DESCRIPTION:Mayor Carlo DeMaria is pleased to announce the City of Everett’s Council on Aging (COA) will host the annual New Year’s Eve party on Tuesday\, Dec. 31\, 2024 beginning at 11 a.m. at Anthony’s in Malden (105 Canal Street\, Malden\, MA 02148). \nUpon arrival\, attendees will be greeted by the friendly staff at Anthony’s in the beautiful lounge with a fireplace for a light continental breakfast and coffee. Later\, attendees will ascend to the Blue Room (elevator available) to enjoy appetizers and possibly a cocktail before the main course. \nThe COA has chosen a delicious meal that will include garden salad\, minestrone soup\, roast beef with mushroom gravy\, roasted chicken\, mashed potatoes\, seasonal vegetables\, coffee\, and an ice cream sundae for dessert. To ring in the new year\, DJ Tommy Sheehan will be providing the music and attendees will be given noise makers and hats to conclude the event with a champagne toast. \nFor more information and to sign up\, please call 617-394-2270 to be connected to the Connolly Center or call the Connolly Center directly at 617-394-2323.
URL:https://cityofeverett.com/events/coa-nye-party-2024/
LOCATION:Anthony’s of Malden\, 105 Canal Street\, Malden\, MA\, 02148\, United States
CATEGORIES:Events
ATTACH;FMTTYPE=image/png:https://cityofeverett.com/wp-content/uploads/2024/10/COA-New-Years-Party_1920x1080-e1730218516325.png
ORGANIZER;CN="Council on Aging":MAILTO:Dale.Palma@ci.everett.ma.us
END:VEVENT
END:VCALENDAR