BEGIN:VCALENDAR
VERSION:2.0
PRODID:-//Everett, MA - Official Website - ECPv6.15.14//NONSGML v1.0//EN
CALSCALE:GREGORIAN
METHOD:PUBLISH
X-WR-CALNAME:Everett, MA - Official Website
X-ORIGINAL-URL:https://cityofeverett.com
X-WR-CALDESC:Events for Everett, MA - Official Website
REFRESH-INTERVAL;VALUE=DURATION:PT1H
X-Robots-Tag:noindex
X-PUBLISHED-TTL:PT1H
BEGIN:VTIMEZONE
TZID:America/New_York
BEGIN:DAYLIGHT
TZOFFSETFROM:-0500
TZOFFSETTO:-0400
TZNAME:EDT
DTSTART:20250309T070000
END:DAYLIGHT
BEGIN:STANDARD
TZOFFSETFROM:-0400
TZOFFSETTO:-0500
TZNAME:EST
DTSTART:20251102T060000
END:STANDARD
BEGIN:DAYLIGHT
TZOFFSETFROM:-0500
TZOFFSETTO:-0400
TZNAME:EDT
DTSTART:20260308T070000
END:DAYLIGHT
BEGIN:STANDARD
TZOFFSETFROM:-0400
TZOFFSETTO:-0500
TZNAME:EST
DTSTART:20261101T060000
END:STANDARD
BEGIN:DAYLIGHT
TZOFFSETFROM:-0500
TZOFFSETTO:-0400
TZNAME:EDT
DTSTART:20270314T070000
END:DAYLIGHT
BEGIN:STANDARD
TZOFFSETFROM:-0400
TZOFFSETTO:-0500
TZNAME:EST
DTSTART:20271107T060000
END:STANDARD
END:VTIMEZONE
BEGIN:VEVENT
DTSTART;TZID=America/New_York:20260323T153000
DTEND;TZID=America/New_York:20260323T153000
DTSTAMP:20260420T115242
CREATED:20260319T130917Z
LAST-MODIFIED:20260319T131056Z
UID:10004085-1774279800-1774279800@cityofeverett.com
SUMMARY:Francophonie Flag Raising Ceremony 2026
DESCRIPTION:Join us at City Hall for a Francophonie Flag Raising Ceremony honoring the history\, culture\, and lasting impact of Francophone communities here in Everett and around the world. \nThe afternoon will include student performances\, a city proclamation recognizing March as Francophonie Month\, and the ceremonial raising of the French flag. We’re also proud to welcome French Consul General Soykurt Mustafa\, who will share special remarks. \n\n\nDetails: \n\nMonday\, March 23\, 2026 @ 3:30 P.M.\nCity Hall\, 484 Broadway\nLight refreshments to follow in the Keverian Room\n\nAll are welcome!
URL:https://cityofeverett.com/events/francophonie-2026/
LOCATION:Everett City Hall\, 484 Broadway\, Everett\, MA\, 02149\, United States
CATEGORIES:Events
ATTACH;FMTTYPE=image/png:https://cityofeverett.com/wp-content/uploads/2026/03/franc-TV-e1773925152455.png
END:VEVENT
END:VCALENDAR