BEGIN:VCALENDAR
VERSION:2.0
PRODID:-//Everett, MA - Official Website - ECPv6.15.14//NONSGML v1.0//EN
CALSCALE:GREGORIAN
METHOD:PUBLISH
X-WR-CALNAME:Everett, MA - Official Website
X-ORIGINAL-URL:https://cityofeverett.com
X-WR-CALDESC:Events for Everett, MA - Official Website
REFRESH-INTERVAL;VALUE=DURATION:PT1H
X-Robots-Tag:noindex
X-PUBLISHED-TTL:PT1H
BEGIN:VTIMEZONE
TZID:America/New_York
BEGIN:DAYLIGHT
TZOFFSETFROM:-0500
TZOFFSETTO:-0400
TZNAME:EDT
DTSTART:20240310T070000
END:DAYLIGHT
BEGIN:STANDARD
TZOFFSETFROM:-0400
TZOFFSETTO:-0500
TZNAME:EST
DTSTART:20241103T060000
END:STANDARD
BEGIN:DAYLIGHT
TZOFFSETFROM:-0500
TZOFFSETTO:-0400
TZNAME:EDT
DTSTART:20250309T070000
END:DAYLIGHT
BEGIN:STANDARD
TZOFFSETFROM:-0400
TZOFFSETTO:-0500
TZNAME:EST
DTSTART:20251102T060000
END:STANDARD
BEGIN:DAYLIGHT
TZOFFSETFROM:-0500
TZOFFSETTO:-0400
TZNAME:EDT
DTSTART:20260308T070000
END:DAYLIGHT
BEGIN:STANDARD
TZOFFSETFROM:-0400
TZOFFSETTO:-0500
TZNAME:EST
DTSTART:20261101T060000
END:STANDARD
END:VTIMEZONE
BEGIN:VEVENT
DTSTART;TZID=America/New_York:20250604T170000
DTEND;TZID=America/New_York:20250604T190000
DTSTAMP:20260422T201819
CREATED:20241204T203450Z
LAST-MODIFIED:20250604T134551Z
UID:10002074-1749056400-1749063600@cityofeverett.com
SUMMARY:Community Office Hours
DESCRIPTION:Connect\nConnect with the City of Everett and share any questions\, concerns\, or thoughts with Mayor Carlo DeMaria’s Office at the Parlin Memorial Library. All are welcome to attend. \nQuestions?\nContact Executive Manager Phil Massa at 617-944-0210 or email Phil.Massa@ci.everett.ma.us.
URL:https://cityofeverett.com/events/community-office-hours-13/
LOCATION:Parlin Memorial Library\, 410 Broadway\, Everett\, MA\, 02149\, United States
CATEGORIES:Community Meeting
ATTACH;FMTTYPE=image/png:https://cityofeverett.com/wp-content/uploads/2024/12/CommunityOfficeHours_1920x1080-e1733342392867.png
ORGANIZER;CN="Mayor's Office":MAILTO:mayor@ci.everett.ma.us
END:VEVENT
BEGIN:VEVENT
DTSTART;TZID=America/New_York:20250616T173000
DTEND;TZID=America/New_York:20250616T183000
DTSTAMP:20260422T201819
CREATED:20250612T182510Z
LAST-MODIFIED:20250612T182510Z
UID:10002359-1750095000-1750098600@cityofeverett.com
SUMMARY:Sub-Committee on Finance & Negotiations
DESCRIPTION:EVERETT SCHOOL COMMITTEE\nFinance and Negotiations Subcommittee \nMonday\, June 16\, 2025\, at 5:30 p.m.\nEVERETT HIGH SCHOOL LIBRARY\n100 Elm St.\, Everett\, MA 02149 \n  \nClick here to download Agenda PDF
URL:https://cityofeverett.com/events/sub-committee-on-finance-negotiations/
LOCATION:Everett High School Library\, 100 Elm St.\, Everett\, 02749\, United States
CATEGORIES:Agendas
END:VEVENT
BEGIN:VEVENT
DTSTART;TZID=America/New_York:20250616T183000
DTEND;TZID=America/New_York:20250616T193000
DTSTAMP:20260422T201819
CREATED:20250612T181402Z
LAST-MODIFIED:20250612T181402Z
UID:10002358-1750098600-1750102200@cityofeverett.com
SUMMARY:School Committee Meeting 06-16-25
DESCRIPTION:EVERETT SCHOOL COMMITTEE\nREGULAR MEETING \nMonday\, June 16\, 2025\, at 6:30 p.m. \nEVERETT HIGH SCHOOL LIBRARY\n100 Elm St.\, Everett\, MA 02749 \nOPEN SESSIONS MAY BE VIEWED LIVE ON THE EVERETT PUBLIC SCHOOLS WEBSITE:\nwww.everettpublicschools.org \n  \nClick here to download Agenda PDF
URL:https://cityofeverett.com/events/school-committee-meeting-06-16-25/
LOCATION:Everett High School Library\, 100 Elm St.\, Everett\, 02749\, United States
CATEGORIES:Agendas
END:VEVENT
BEGIN:VEVENT
DTSTART;TZID=America/New_York:20250618T170000
DTEND;TZID=America/New_York:20250618T190000
DTSTAMP:20260422T201819
CREATED:20241204T203956Z
LAST-MODIFIED:20250604T134732Z
UID:10002075-1750266000-1750273200@cityofeverett.com
SUMMARY:Community Office Hours
DESCRIPTION:Connect\nConnect with the City of Everett and share any questions\, concerns\, or thoughts with Mayor Carlo DeMaria’s Office at the Parlin Memorial Library. All are welcome to attend. \nQuestions?\nContact Executive Manager Phil Massa at 617-944-0210 or email Phil.Massa@ci.everett.ma.us.
URL:https://cityofeverett.com/events/community-office-hours-14/
LOCATION:Parlin Memorial Library\, 410 Broadway\, Everett\, MA\, 02149\, United States
CATEGORIES:Community Meeting
ATTACH;FMTTYPE=image/png:https://cityofeverett.com/wp-content/uploads/2024/12/CommunityOfficeHours_1920x1080-e1733342392867.png
ORGANIZER;CN="Mayor's Office":MAILTO:mayor@ci.everett.ma.us
END:VEVENT
BEGIN:VEVENT
DTSTART;TZID=America/New_York:20250702T170000
DTEND;TZID=America/New_York:20250702T190000
DTSTAMP:20260422T201819
CREATED:20241204T204037Z
LAST-MODIFIED:20250604T134818Z
UID:10002076-1751475600-1751482800@cityofeverett.com
SUMMARY:Community Office Hours
DESCRIPTION:Connect\nConnect with the City of Everett and share any questions\, concerns\, or thoughts with Mayor Carlo DeMaria’s Office at the Parlin Memorial Library. All are welcome to attend. \nQuestions?\nContact Executive Manager Phil Massa at 617-944-0210 or email Phil.Massa@ci.everett.ma.us.
URL:https://cityofeverett.com/events/community-office-hours-15/
LOCATION:Parlin Memorial Library\, 410 Broadway\, Everett\, MA\, 02149\, United States
CATEGORIES:Community Meeting
ATTACH;FMTTYPE=image/png:https://cityofeverett.com/wp-content/uploads/2024/12/CommunityOfficeHours_1920x1080-e1733342392867.png
ORGANIZER;CN="Mayor's Office":MAILTO:mayor@ci.everett.ma.us
END:VEVENT
BEGIN:VEVENT
DTSTART;TZID=America/New_York:20250716T170000
DTEND;TZID=America/New_York:20250716T190000
DTSTAMP:20260422T201819
CREATED:20241204T204152Z
LAST-MODIFIED:20250604T134851Z
UID:10002077-1752685200-1752692400@cityofeverett.com
SUMMARY:Community Office Hours
DESCRIPTION:Connect\nConnect with the City of Everett and share any questions\, concerns\, or thoughts with Mayor Carlo DeMaria’s Office at the Parlin Memorial Library. All are welcome to attend. \nQuestions?\nContact Executive Manager Phil Massa at 617-944-0210 or email Phil.Massa@ci.everett.ma.us.
URL:https://cityofeverett.com/events/community-office-hours-16/
LOCATION:Parlin Memorial Library\, 410 Broadway\, Everett\, MA\, 02149\, United States
CATEGORIES:Community Meeting
ATTACH;FMTTYPE=image/png:https://cityofeverett.com/wp-content/uploads/2024/12/CommunityOfficeHours_1920x1080-e1733342392867.png
ORGANIZER;CN="Mayor's Office":MAILTO:mayor@ci.everett.ma.us
END:VEVENT
BEGIN:VEVENT
DTSTART;TZID=America/New_York:20250730T170000
DTEND;TZID=America/New_York:20250730T190000
DTSTAMP:20260422T201819
CREATED:20241204T204229Z
LAST-MODIFIED:20250604T134909Z
UID:10002078-1753894800-1753902000@cityofeverett.com
SUMMARY:Community Office Hours
DESCRIPTION:Connect\nConnect with the City of Everett and share any questions\, concerns\, or thoughts with Mayor Carlo DeMaria’s Office at the Parlin Memorial Library. All are welcome to attend. \nQuestions?\nContact Executive Manager Phil Massa at 617-944-0210 or email Phil.Massa@ci.everett.ma.us.
URL:https://cityofeverett.com/events/community-office-hours-17/
LOCATION:Parlin Memorial Library\, 410 Broadway\, Everett\, MA\, 02149\, United States
CATEGORIES:Community Meeting
ATTACH;FMTTYPE=image/png:https://cityofeverett.com/wp-content/uploads/2024/12/CommunityOfficeHours_1920x1080-e1733342392867.png
ORGANIZER;CN="Mayor's Office":MAILTO:mayor@ci.everett.ma.us
END:VEVENT
BEGIN:VEVENT
DTSTART;TZID=America/New_York:20250825T173000
DTEND;TZID=America/New_York:20250825T183000
DTSTAMP:20260422T201819
CREATED:20250821T175325Z
LAST-MODIFIED:20250821T175325Z
UID:10002962-1756143000-1756146600@cityofeverett.com
SUMMARY:Sub-Committee on Finance & Negotiations 08-25-25
DESCRIPTION:EVERETT SCHOOL COMMITTEE\nFinance and Negotiations Subcommittee \nMonday\, August 25\, 2025\, at 5:30 p.m.\nEVERETT HIGH SCHOOL LIBRARY\n100 Elm St.\, Everett\, MA 02149 \n  \nClick here to download Agenda PDF
URL:https://cityofeverett.com/events/sub-committee-on-finance-negotiations-08-25-25/
LOCATION:Everett High School Library\, 100 Elm St.\, Everett\, 02749\, United States
CATEGORIES:Agendas
END:VEVENT
BEGIN:VEVENT
DTSTART;TZID=America/New_York:20250825T183000
DTEND;TZID=America/New_York:20250825T193000
DTSTAMP:20260422T201819
CREATED:20250821T175953Z
LAST-MODIFIED:20250821T175953Z
UID:10002963-1756146600-1756150200@cityofeverett.com
SUMMARY:School Committee Meeting 08-25-25
DESCRIPTION:EVERETT SCHOOL COMMITTEE\nREGULAR MEETING \nMonday\, August 25\, 2025\, at 6:30 P.M.\nEVERETT HIGH SCHOOL LIBRARY\n100 Elm St.\, Everett\, MA 02149\nOPEN SESSIONS MAY BE VIEWED LIVE ON THE EVERETT PUBLIC SCHOOLS WEBSITE:\nwww.everettpublicschools.org \nindividuals who wish to participate in Public Comment must attend the\nmeeting inside the Everett High School Library. \nLive interpretation is offered\, in person\, for every Regular Meeting\nin Spanish\, Portuguese\, and Haitian Creole. \n  \nClick here to download Agenda PDF
URL:https://cityofeverett.com/events/school-committee-meeting-08-25-25/
LOCATION:Everett High School Library\, 100 Elm St.\, Everett\, 02749\, United States
CATEGORIES:Agendas
END:VEVENT
BEGIN:VEVENT
DTSTART;TZID=America/New_York:20250902T183000
DTEND;TZID=America/New_York:20250902T193000
DTSTAMP:20260422T201819
CREATED:20250828T165911Z
LAST-MODIFIED:20250828T165911Z
UID:10002975-1756837800-1756841400@cityofeverett.com
SUMMARY:School Committee Meeting 09-02-25
DESCRIPTION:EVERETT SCHOOL COMMITTEE  REGULAR MEETING \nTuesday\, September 2\, 2025\, at 6:30 p.m.\n100 Elm St.\, Everett\, MA 02149 \nOPEN SESSIONS MAY BE VIEWED LIVE ON THE EVERETT PUBLIC SCHOOLS WEBSITE:\nwww.everettpublicschools.org \nIndividuals who wish to participate in Public Comment must attend the\nmeeting inside the Everett High School Library. \nLive interpretation is offered\, in person\, for every Regular Meeting\nin Spanish\, Portuguese\, and Haitian Creole. \n  \nClick here to download Agenda PDF
URL:https://cityofeverett.com/events/school-committee-meeting-09-02-25/
LOCATION:Everett High School Library\, 100 Elm St.\, Everett\, 02749\, United States
CATEGORIES:Agendas
END:VEVENT
BEGIN:VEVENT
DTSTART;TZID=America/New_York:20250903T180000
DTEND;TZID=America/New_York:20250903T190000
DTSTAMP:20260422T201819
CREATED:20250828T170336Z
LAST-MODIFIED:20250828T170345Z
UID:10002976-1756922400-1756926000@cityofeverett.com
SUMMARY:Ad Hoc Superintendent Evaluation Subcommittee Meeting 09-03-25
DESCRIPTION:EVERETT SCHOOL COMMITTEE\nAd Hoc Superintendent Evaluation Subcommittee Meeting \nWednesday\, September 3\, 2025\, at 6 p.m.\nEVERETT HICH SCHOOL LIBRARY\n100 Elm St.\, Everett\, MA 02149 \n  \nClick here to download Agenda PDF
URL:https://cityofeverett.com/events/ad-hoc-superintendent-evaluation-subcommittee-meeting-09-03-25/
LOCATION:Everett High School Library\, 100 Elm St.\, Everett\, 02749\, United States
CATEGORIES:Agendas
END:VEVENT
BEGIN:VEVENT
DTSTART;TZID=America/New_York:20250909T180000
DTEND;TZID=America/New_York:20250909T190000
DTSTAMP:20260422T201819
CREATED:20250903T154314Z
LAST-MODIFIED:20250903T154314Z
UID:10002979-1757440800-1757444400@cityofeverett.com
SUMMARY:Library Board of Trustees 09-09-25
DESCRIPTION:REGULAR MEETING OF THE EVERETT PUBLIC LIBRARIES BOARD OF TRUSTEES  \nPARLIN MEMORIAL LIBRARY CONFERENCE ROOM\nTuesday\, September 9\, 2025\n6:00 PM \n  \nClick here to download Agenda PDF
URL:https://cityofeverett.com/events/library-board-of-trustees-09-09-25/
LOCATION:Parlin Memorial Library Conference Room\, 410 Broadway\, Everett\, MA\, 02149\, United States
CATEGORIES:Agendas
END:VEVENT
BEGIN:VEVENT
DTSTART;TZID=America/New_York:20250915T173000
DTEND;TZID=America/New_York:20250915T183000
DTSTAMP:20260422T201819
CREATED:20250911T171105Z
LAST-MODIFIED:20250911T171105Z
UID:10003002-1757957400-1757961000@cityofeverett.com
SUMMARY:Sub-Committee on Finance & Negotiations 09-15-25
DESCRIPTION:EVERETT SCHOOL COMMITTEE\nFinance and Negotiations Subcommittee \nMonday\, September 15\, 2025\, at 5:30 p.m.\nEVERETT HIGH SCHOOL LIBRARY\n100 Elm St.\, Everett\, MA 02149 \n  \nClick here to download Agenda PDF
URL:https://cityofeverett.com/events/sub-committee-on-finance-negotiations-09-15-25/
LOCATION:Everett High School Library\, 100 Elm St.\, Everett\, 02749\, United States
CATEGORIES:Agendas
END:VEVENT
BEGIN:VEVENT
DTSTART;TZID=America/New_York:20250915T183000
DTEND;TZID=America/New_York:20250915T193000
DTSTAMP:20260422T201819
CREATED:20250911T170325Z
LAST-MODIFIED:20250911T170325Z
UID:10003001-1757961000-1757964600@cityofeverett.com
SUMMARY:School Committee Meeting 09-15-25
DESCRIPTION:EVERETT SCHOOL COMMITTEE\nREGULAR MEETING \nMonday. September 15\, 2025\, at 6:30 p.m.\nEVERETT HICH SCHOOL LIBRARY\n100 Elm St.\, Everett\, MA 02149 \nOPEN SESSIONS MAY BE VIEWED LIVE ON THE EVERETT PUBLIC SCHOOLS WEBSITE:\nwww.everettpublicschools.org\nIndividuals who wish to participate in Public Comment must attend the\nmeeting inside the Everett High School Library.\nLive interpretation is offered\, in person\, for every Regular Meeting\nin Spanish\, Portuguese\, and Haitian Creole. \nClick here to download Agenda PDF \n 
URL:https://cityofeverett.com/events/school-committee-meeting-09-15-25/
LOCATION:Everett High School Library\, 100 Elm St.\, Everett\, 02749\, United States
CATEGORIES:Agendas
END:VEVENT
BEGIN:VEVENT
DTSTART;TZID=America/New_York:20250924T171000
DTEND;TZID=America/New_York:20250924T181000
DTSTAMP:20260422T201819
CREATED:20250922T185521Z
LAST-MODIFIED:20250922T185521Z
UID:10003028-1758733800-1758737400@cityofeverett.com
SUMMARY:Sub-Committee on Rules\, policy and Procedure Agenda 09-24-25
DESCRIPTION:EVERETT SCHOOL COMMITTEE\nRules\, Policy\, and Procedure Subcommittee \nWednesday\, September 24\,2025\, at 5:10 p.m.\nEVERETT HIGH SCHOOL LIBRARY\n100 Elm St.\, Everett\, MA 02149 \n  \nClick here to download Agenda PDF
URL:https://cityofeverett.com/events/sub-committee-on-rules-policy-and-procedure-agenda-09-24-25/
LOCATION:Everett High School Library\, 100 Elm St.\, Everett\, 02749\, United States
CATEGORIES:Agendas
END:VEVENT
BEGIN:VEVENT
DTSTART;TZID=America/New_York:20251006T173000
DTEND;TZID=America/New_York:20251006T183000
DTSTAMP:20260422T201819
CREATED:20251002T180144Z
LAST-MODIFIED:20251002T180209Z
UID:10003677-1759771800-1759775400@cityofeverett.com
SUMMARY:Sub-Committee on Finance & Negotiations 10-06-25
DESCRIPTION:EVERETT SCHOOL COMMITTEE\nFinance and Negotiations Subcommittee \nMonday\, October 6\, 2025 at 5:30 p.m.\nEVERETT HIGH SCHOOL LIBRARY\n100 Elm St.\, Everett\, MA 02149 \n  \nClick here to download Agenda PDF
URL:https://cityofeverett.com/events/sub-committee-on-finance-negotiations-10-06-25/
LOCATION:Everett High School Library\, 100 Elm St.\, Everett\, 02749\, United States
CATEGORIES:Agendas
END:VEVENT
BEGIN:VEVENT
DTSTART;TZID=America/New_York:20251006T183000
DTEND;TZID=America/New_York:20251006T193000
DTSTAMP:20260422T201819
CREATED:20251002T175609Z
LAST-MODIFIED:20251002T175651Z
UID:10003676-1759775400-1759779000@cityofeverett.com
SUMMARY:School Committee Meeting 10-06-25
DESCRIPTION:EVERETT SCHOOL COMMITTEE\nREGULAR MEETING \nMonday\, October 6\, 2025\, at 6:30 p.m.\nEVERETT HIGH SCHOOL LIBRARY\n100 Elm St.\, Everett\, MA 02149 \nOPEN SESSIONS MAY BE VIEWED LIVE\nON THE EVERETT PUBLIC SCHOOLS WEBSITE:\nwww.everettpublicschools.org \n  \nClick here to download Agenda PDF
URL:https://cityofeverett.com/events/school-committee-meeting-10-06-25/
LOCATION:Everett High School Library\, 100 Elm St.\, Everett\, 02749\, United States
CATEGORIES:Agendas
END:VEVENT
BEGIN:VEVENT
DTSTART;TZID=America/New_York:20251014T180000
DTEND;TZID=America/New_York:20251014T190000
DTSTAMP:20260422T201819
CREATED:20251008T153314Z
LAST-MODIFIED:20251008T153328Z
UID:10003694-1760464800-1760468400@cityofeverett.com
SUMMARY:Library Board of Trustees 10-14-25
DESCRIPTION:REGULAR MEETING OF THE EVERETT PUBLIC LIBRARIES BOARD OF TRUSTEES  \nPARLIN MEMORIAL LIBRARY CONFERENCE ROOM\nTuesday\, October 14\, 2025\n6:00 PM \n  \nClick here to download Agenda PDF
URL:https://cityofeverett.com/events/library-board-of-trustees-10-14-25/
LOCATION:Parlin Memorial Library Conference Room\, 410 Broadway\, Everett\, MA\, 02149\, United States
CATEGORIES:Agendas
END:VEVENT
BEGIN:VEVENT
DTSTART;TZID=America/New_York:20251020T173000
DTEND;TZID=America/New_York:20251020T183000
DTSTAMP:20260422T201819
CREATED:20251016T200643Z
LAST-MODIFIED:20251020T124038Z
UID:10003718-1760981400-1760985000@cityofeverett.com
SUMMARY:School Subcommittee on Finance and Negotiations 10-20-25 Cancelled - Reschedule TBA
DESCRIPTION:EVERETT SCHOOL COMMITTEE \nFinance and Negotiations Subcommittee  \nMonday\, October 20\, 2025\, at 5:30 p.m.\nEVERETT HIGH SCHOOL LIBRARY\n100 Elm St.\, Everett\, MA 02149 \n  \nClick here to download Agenda PDF
URL:https://cityofeverett.com/events/school-subcommittee-on-finance-and-negotiations-10-20-25/
LOCATION:Everett High School Library\, 100 Elm St.\, Everett\, 02749\, United States
CATEGORIES:Agendas
END:VEVENT
BEGIN:VEVENT
DTSTART;TZID=America/New_York:20251020T183000
DTEND;TZID=America/New_York:20251020T193000
DTSTAMP:20260422T201819
CREATED:20251016T201416Z
LAST-MODIFIED:20251016T201416Z
UID:10003719-1760985000-1760988600@cityofeverett.com
SUMMARY:School Committee Meeting 10-20-25
DESCRIPTION:EVERETT SCHOOL COMMITTEE\nREGULAR MEETING \nMonday\, October 20\, 2025\, at 6:30 p.m.\nEVERETT HIGH SCHOOL LIBRARY\n100 Elm St.\, Everett\, MA 02149 \nOPEN SESSIONS MAY BE VIEWED LIVE\nON THE EVERETT PUBLIC SCHOOLS WEBSITE:\nwww.everettpublicschools.org \n  \nClick here to download Agenda PDF
URL:https://cityofeverett.com/events/school-committee-meeting-10-20-25/
LOCATION:Everett High School Library\, 100 Elm St.\, Everett\, 02749\, United States
CATEGORIES:Agendas
END:VEVENT
BEGIN:VEVENT
DTSTART;TZID=America/New_York:20251103T173000
DTEND;TZID=America/New_York:20251103T183000
DTSTAMP:20260422T201819
CREATED:20251030T163934Z
LAST-MODIFIED:20251030T163934Z
UID:10003736-1762191000-1762194600@cityofeverett.com
SUMMARY:School Subcommittee on Finance and Negotiations 11-03-25
DESCRIPTION:EVERETT HICH SCHOOL LIBRARY\n100 Elm St.\, Everett\, MA 02149 \n  \nClick here to download Agenda PDF
URL:https://cityofeverett.com/events/school-subcommittee-on-finance-and-negotiations-11-03-25/
LOCATION:Everett High School Library\, 100 Elm St.\, Everett\, 02749\, United States
CATEGORIES:Agendas
END:VEVENT
BEGIN:VEVENT
DTSTART;TZID=America/New_York:20251103T183000
DTEND;TZID=America/New_York:20251103T193000
DTSTAMP:20260422T201819
CREATED:20251030T163423Z
LAST-MODIFIED:20251103T193852Z
UID:10003734-1762194600-1762198200@cityofeverett.com
SUMMARY:School Committee Meeting 11-03-25
DESCRIPTION:EVERETT HIGH SCHOOL LIBRARY\n100 Elm St.\, Everett\, MA 02149 \nOPEN SESSIONS MAY BE VIEWED LIVE ON THE EVERETT PUBLIC SCHOOLS WEBSITE:\nwww.everettpublicschools.org \n  \nClick here to download Agenda PDF \n 
URL:https://cityofeverett.com/events/school-committee-meeting-11-03-25/
LOCATION:Everett High School Library\, 100 Elm St.\, Everett\, 02749\, United States
CATEGORIES:Agendas
END:VEVENT
BEGIN:VEVENT
DTSTART;TZID=America/New_York:20251117T173000
DTEND;TZID=America/New_York:20251117T183000
DTSTAMP:20260422T201819
CREATED:20251113T192344Z
LAST-MODIFIED:20251113T192344Z
UID:10003818-1763400600-1763404200@cityofeverett.com
SUMMARY:School Subcommittee on Finance and Negotiations 11-17-25
DESCRIPTION:EVERETT HIGH SCHOOL LIBRARY\n100 Elm St.\, Everett\, MA 02149 \n  \nClick here to download Agenda PDF
URL:https://cityofeverett.com/events/school-subcommittee-on-finance-and-negotiations-11-17-25/
LOCATION:Everett High School Library\, 100 Elm St.\, Everett\, 02749\, United States
CATEGORIES:Agendas
END:VEVENT
BEGIN:VEVENT
DTSTART;TZID=America/New_York:20251117T183000
DTEND;TZID=America/New_York:20251117T193000
DTSTAMP:20260422T201819
CREATED:20251113T191946Z
LAST-MODIFIED:20251113T192010Z
UID:10003817-1763404200-1763407800@cityofeverett.com
SUMMARY:School Committee Meeting 11-17-25
DESCRIPTION:EVERETT HIGH SCHOOL LIBRARY\n100 Elm St.\, Everett\, MA 02149 \nOPEN SESSIONS MAY BE VIEWED LIVE\nON THE EVERETT PUBLIC SCHOOLS WEBSITE:\nwww.everettpublicschools.org \n  \nClick here to download Agenda PDF
URL:https://cityofeverett.com/events/school-committee-meeting-11-17-25/
LOCATION:Everett High School Library\, 100 Elm St.\, Everett\, 02749\, United States
CATEGORIES:Agendas
END:VEVENT
BEGIN:VEVENT
DTSTART;TZID=America/New_York:20251118T180000
DTEND;TZID=America/New_York:20251118T190000
DTSTAMP:20260422T201819
CREATED:20251106T180014Z
LAST-MODIFIED:20251106T180014Z
UID:10003809-1763488800-1763492400@cityofeverett.com
SUMMARY:Library Board of Trustees 11-18-25
DESCRIPTION:PARLIN MEMORIAL LIBRARY CONFERENCE ROOM \n  \nClick here to download Agenda PDF
URL:https://cityofeverett.com/events/library-board-of-trustees-11-18-25/
LOCATION:Parlin Memorial Library Conference Room\, 410 Broadway\, Everett\, MA\, 02149\, United States
CATEGORIES:Agendas
END:VEVENT
BEGIN:VEVENT
DTSTART;TZID=America/New_York:20251201T180000
DTEND;TZID=America/New_York:20251201T190000
DTSTAMP:20260422T201819
CREATED:20251126T200220Z
LAST-MODIFIED:20251126T200220Z
UID:10003834-1764612000-1764615600@cityofeverett.com
SUMMARY:School Subcommittee on Finance and Negotiations 12-01-25
DESCRIPTION:EVERETT HIGH SCHOOL LIBRARY \n  \nClick here to download Agenda PDF
URL:https://cityofeverett.com/events/school-subcommittee-on-finance-and-negotiations-12-01-25/
LOCATION:Everett High School Library\, 100 Elm St.\, Everett\, 02749\, United States
CATEGORIES:Agendas
END:VEVENT
BEGIN:VEVENT
DTSTART;TZID=America/New_York:20251201T183000
DTEND;TZID=America/New_York:20251201T193000
DTSTAMP:20260422T201819
CREATED:20251126T200834Z
LAST-MODIFIED:20251126T200841Z
UID:10003835-1764613800-1764617400@cityofeverett.com
SUMMARY:School Committee Meeting 12-01-25
DESCRIPTION:EVERETT HIGH SCHOOL LIBRARY \nOPEN SESSIONS MAY BE VIEWED LIVE ON THE EVERETT PUBLIC SCHOOLS WEBSITE\nwww.everettpublicschools.org \nIndividuals who wish to participate in Public Comment must attend the meeting inside the Everett High School Library.\nLive interpretation is offered\, in person\, for every Regular Meeting\nin Spanish\, Portuguese\, and Haitian Creole. \n  \nClick here to download Agenda PDF
URL:https://cityofeverett.com/events/school-committee-meeting-12-01-25/
LOCATION:Everett High School Library\, 100 Elm St.\, Everett\, 02749\, United States
CATEGORIES:Agendas
END:VEVENT
BEGIN:VEVENT
DTSTART;TZID=America/New_York:20251205T170000
DTEND;TZID=America/New_York:20251205T200000
DTSTAMP:20260422T201819
CREATED:20251107T190653Z
LAST-MODIFIED:20251119T153902Z
UID:10003811-1764954000-1764964800@cityofeverett.com
SUMMARY:City of Everett's Annual Christmas Tree Lighting 2025
DESCRIPTION:Join Mayor Carlo DeMaria and his family as they light up Everett’s beautiful Christmas tree and officially kick off the holiday season with the most wonderful celebration of the year! \nHoliday Fun for EveryoneEnjoy an evening full of joy and excitement with live musical performances\, train rides\, holiday characters\, face painting\, balloon creations\, food\, giveaways and more (note: Lines close at 7:30 p.m.)! Don’t miss Santa and Mrs. Claus as they make their grand arrival down Broadway at 5 p.m.\, led by the Everett Police and Fire Departments and Everett High School’s award-winning band. \nSensory-Friendly OptionsFor anyone who may need them\, noise-canceling headphones and sunglasses will be available to pick up at the DEI Office from Nov. 24–Dec. 4\, or at the Mayor’s Tent during the event. The items will be available first-come\, first-served and while supplies last. There will also be a sensory break room available at the Parlin Library for anyone who may need a calming space during the event. \nCozy Up by the FireNeed a little break from the action? Gather around the fire pits with a cup of hot chocolate and some popcorn while watching a classic holiday movie on the big LED screen. \nMeet Santa & Mrs. ClausHead over to the Parlin Library for photos with Santa and Mrs. Claus! While you wait\, attendees can enjoy holiday crafts and storytelling to keep the spirit bright. \nAll residents and their families are invited to join this magical evening as we celebrate the start of the holiday season in Everett!
URL:https://cityofeverett.com/events/tree-lighting-2025/
LOCATION:Everett Square\, 158 School St.\, Everett\, MA\, 02149\, United States
CATEGORIES:Events
ATTACH;FMTTYPE=image/png:https://cityofeverett.com/wp-content/uploads/2025/11/Tree-Lighting-Web-1-e1763061667477.png
END:VEVENT
BEGIN:VEVENT
DTSTART;TZID=America/New_York:20251209T180000
DTEND;TZID=America/New_York:20251209T190000
DTSTAMP:20260422T201819
CREATED:20251204T141037Z
LAST-MODIFIED:20251204T141037Z
UID:10003842-1765303200-1765306800@cityofeverett.com
SUMMARY:Library Board of Trustees 12-09-25
DESCRIPTION:PARLIN MEMORIAL LIBRARY CONFERENCE ROOM \n  \nClick here to download Agenda PDF
URL:https://cityofeverett.com/events/library-board-of-trustees-12-09-25/
LOCATION:Parlin Memorial Library Conference Room\, 410 Broadway\, Everett\, MA\, 02149\, United States
CATEGORIES:Agendas
END:VEVENT
BEGIN:VEVENT
DTSTART;TZID=America/New_York:20251215T180000
DTEND;TZID=America/New_York:20251215T190000
DTSTAMP:20260422T201819
CREATED:20251211T193436Z
LAST-MODIFIED:20251211T193436Z
UID:10003862-1765821600-1765825200@cityofeverett.com
SUMMARY:School Subcommittee on Finance and Negotiations 12-15-25
DESCRIPTION:EVERETT HIGH SCHOOL LIBRARY \n  \nClick here to download Agenda PDF
URL:https://cityofeverett.com/events/school-subcommittee-on-finance-and-negotiations-12-15-25/
LOCATION:Everett High School Library\, 100 Elm St.\, Everett\, 02749\, United States
CATEGORIES:Agendas
END:VEVENT
END:VCALENDAR