BEGIN:VCALENDAR
VERSION:2.0
PRODID:-//Everett, MA - Official Website - ECPv6.15.14//NONSGML v1.0//EN
CALSCALE:GREGORIAN
METHOD:PUBLISH
X-ORIGINAL-URL:https://cityofeverett.com
X-WR-CALDESC:Events for Everett, MA - Official Website
REFRESH-INTERVAL;VALUE=DURATION:PT1H
X-Robots-Tag:noindex
X-PUBLISHED-TTL:PT1H
BEGIN:VTIMEZONE
TZID:America/New_York
BEGIN:DAYLIGHT
TZOFFSETFROM:-0500
TZOFFSETTO:-0400
TZNAME:EDT
DTSTART:20250309T070000
END:DAYLIGHT
BEGIN:STANDARD
TZOFFSETFROM:-0400
TZOFFSETTO:-0500
TZNAME:EST
DTSTART:20251102T060000
END:STANDARD
BEGIN:DAYLIGHT
TZOFFSETFROM:-0500
TZOFFSETTO:-0400
TZNAME:EDT
DTSTART:20260308T070000
END:DAYLIGHT
BEGIN:STANDARD
TZOFFSETFROM:-0400
TZOFFSETTO:-0500
TZNAME:EST
DTSTART:20261101T060000
END:STANDARD
BEGIN:DAYLIGHT
TZOFFSETFROM:-0500
TZOFFSETTO:-0400
TZNAME:EDT
DTSTART:20270314T070000
END:DAYLIGHT
BEGIN:STANDARD
TZOFFSETFROM:-0400
TZOFFSETTO:-0500
TZNAME:EST
DTSTART:20271107T060000
END:STANDARD
END:VTIMEZONE
BEGIN:VEVENT
DTSTART;TZID=America/New_York:20260429T070000
DTEND;TZID=America/New_York:20260429T080000
DTSTAMP:20260424T203830
CREATED:20260421T154758Z
LAST-MODIFIED:20260421T154758Z
UID:10004130-1777446000-1777449600@cityofeverett.com
SUMMARY:Madeline English School Council 04-29-26
DESCRIPTION:Madeline English Cafeteria \nClick here to download Agenda PDF \n\n\n\n\n                \n                        PhoneThis field is for validation purposes and should be left unchanged.Help Us Improve Our WebsiteDid you find what you needed today?\n			\n					\n					Yes\n			\n			\n					\n					No\n			Great!Anything we can improve on this page?Sorry about that.How can we improve this page?
URL:https://cityofeverett.com/events/madeline-english-school-council-04-29-26/
LOCATION:Madeline English School\, 105 Woodville Street\, Everett\, MA\, 02149\, United States
CATEGORIES:Agendas
END:VEVENT
END:VCALENDAR