BEGIN:VCALENDAR
VERSION:2.0
PRODID:-//Everett, MA - Official Website - ECPv6.15.14//NONSGML v1.0//EN
CALSCALE:GREGORIAN
METHOD:PUBLISH
X-WR-CALNAME:Everett, MA - Official Website
X-ORIGINAL-URL:https://cityofeverett.com
X-WR-CALDESC:Events for Everett, MA - Official Website
REFRESH-INTERVAL;VALUE=DURATION:PT1H
X-Robots-Tag:noindex
X-PUBLISHED-TTL:PT1H
BEGIN:VTIMEZONE
TZID:America/New_York
BEGIN:DAYLIGHT
TZOFFSETFROM:-0500
TZOFFSETTO:-0400
TZNAME:EDT
DTSTART:20220313T070000
END:DAYLIGHT
BEGIN:STANDARD
TZOFFSETFROM:-0400
TZOFFSETTO:-0500
TZNAME:EST
DTSTART:20221106T060000
END:STANDARD
BEGIN:DAYLIGHT
TZOFFSETFROM:-0500
TZOFFSETTO:-0400
TZNAME:EDT
DTSTART:20230312T070000
END:DAYLIGHT
BEGIN:STANDARD
TZOFFSETFROM:-0400
TZOFFSETTO:-0500
TZNAME:EST
DTSTART:20231105T060000
END:STANDARD
BEGIN:DAYLIGHT
TZOFFSETFROM:-0500
TZOFFSETTO:-0400
TZNAME:EDT
DTSTART:20240310T070000
END:DAYLIGHT
BEGIN:STANDARD
TZOFFSETFROM:-0400
TZOFFSETTO:-0500
TZNAME:EST
DTSTART:20241103T060000
END:STANDARD
BEGIN:DAYLIGHT
TZOFFSETFROM:-0500
TZOFFSETTO:-0400
TZNAME:EDT
DTSTART:20250309T070000
END:DAYLIGHT
BEGIN:STANDARD
TZOFFSETFROM:-0400
TZOFFSETTO:-0500
TZNAME:EST
DTSTART:20251102T060000
END:STANDARD
BEGIN:DAYLIGHT
TZOFFSETFROM:-0500
TZOFFSETTO:-0400
TZNAME:EDT
DTSTART:20260308T070000
END:DAYLIGHT
BEGIN:STANDARD
TZOFFSETFROM:-0400
TZOFFSETTO:-0500
TZNAME:EST
DTSTART:20261101T060000
END:STANDARD
END:VTIMEZONE
BEGIN:VEVENT
DTSTART;TZID=America/New_York:20251019T150000
DTEND;TZID=America/New_York:20251019T200000
DTSTAMP:20260420T142612
CREATED:20250922T145828Z
LAST-MODIFIED:20250930T152648Z
UID:10003024-1760886000-1760904000@cityofeverett.com
SUMMARY:Diwali Festival 2025
DESCRIPTION:Join us for Everett’s very first Diwali Festival\, a vibrant celebration of community and culture! Enjoy an afternoon filled with delicious food\, lively music\, exciting activities and unique vendors. \nThis special event will feature a live performance by Miss Pooja\, one of the most popular Punjabi singers in the world. Don’t miss this opportunity to experience the joy\, traditions and togetherness of Diwali right here in Everett! \nBring your family and friends to be part of this memorable first-time celebration in our city! \n\n\n\n\n                \n                        X/TwitterThis field is for validation purposes and should be left unchanged.Help Us Improve Our WebsiteDid you find what you needed today?\n			\n					\n					Yes\n			\n			\n					\n					No\n			Great!Anything we can improve on this page?Sorry about that.How can we improve this page?
URL:https://cityofeverett.com/events/diwali-festival-2025/
LOCATION:Rivergreen Park\, 1 Rivergreen Drive\, Everett\, MA\, 02149\, United States
CATEGORIES:Events
ATTACH;FMTTYPE=image/png:https://cityofeverett.com/wp-content/uploads/2025/09/Diwali-Festival-1920x1080-1-e1759245124325.png
ORGANIZER;CN="Diversity%2C Equity and Inclusion":MAILTO:cathy.draine@ci.everett.ma.us
END:VEVENT
BEGIN:VEVENT
DTSTART;TZID=America/New_York:20250920T120000
DTEND;TZID=America/New_York:20250920T180000
DTSTAMP:20260420T142612
CREATED:20250805T202137Z
LAST-MODIFIED:20250911T183438Z
UID:10002692-1758369600-1758391200@cityofeverett.com
SUMMARY:Fiesta Del Río 2025
DESCRIPTION:Join us for the 4th annual Fiesta Del Río\, Everett’s signature Hispanic Heritage Month celebration! This vibrant community event highlights and honors Hispanic-owned businesses\, organizations and cultural programs that make a lasting impact in our city. \nEnjoy a day full of music\, art\, family-friendly activities and incredible food from local vendors. \nThis can’t-miss event is made possible through partnerships with Rumba\, El Mundo Boston and La Hora Del Café\, as well as a variety of talented artists who will be performing throughout the event. \nCome celebrate community\, culture and connection with us at Fiesta Del Río! \n \n\n\n\n                \n                        CompanyThis field is for validation purposes and should be left unchanged.Help Us Improve Our WebsiteDid you find what you needed today?\n			\n					\n					Yes\n			\n			\n					\n					No\n			Great!Anything we can improve on this page?Sorry about that.How can we improve this page?
URL:https://cityofeverett.com/events/fiesta-del-rio-2025/
LOCATION:Rivergreen Park\, 1 Rivergreen Drive\, Everett\, MA\, 02149\, United States
CATEGORIES:Events
ATTACH;FMTTYPE=image/png:https://cityofeverett.com/wp-content/uploads/2025/08/FiestaDelRio_8.5x11-ENG-e1754425129920.png
END:VEVENT
BEGIN:VEVENT
DTSTART;TZID=America/New_York:20250906T090000
DTEND;TZID=America/New_York:20250906T130000
DTSTAMP:20260420T142612
CREATED:20250826T144840Z
LAST-MODIFIED:20250826T144840Z
UID:10002960-1757149200-1757163600@cityofeverett.com
SUMMARY:Hazardous Waste Day 2025
DESCRIPTION:Mayor Carlo DeMaria and the City of Everett invite residents to safely dispose of hazardous materials at Hazardous Waste Day. Proof of Everett residency is required to participate and will be checked on site. \n\nAccepted Items\nGeneral Household Materials: Acids\, aerosol cans\, batteries\, art/hobby supplies\, moth balls\, oil-based paints & thinners\, varnish\, strippers\, solvents\, wood preservatives\, fluorescent bulbs and more. \nLawn & Garden: Gasoline\, fire starters\, pesticides\, herbicides\, pool chemicals and small propane tanks (for grills/camping). \nBathroom Products: Hair dye\, nail polish remover and toilet cleaners. \nLaundry: Bleach\, spray starch\, spot removers and whiteners. \nKitchen: Drain cleaners\, lighter fluid and oven cleaners. \nAutomotive: Antifreeze\, auto batteries\, brake fluid\, carburetor cleaner\, transmission fluid\, waste fuels\, solvents and degreasers. \n\nItems Not Accepted\n\n\nAppliances\, furniture\, bulk items or electronics. \n\n\nAmmunition\, fireworks\, explosives or gunpowder. \n\n\nMedical sharps\, prescription medications or radioactive materials. \n\n\nGas/metal cylinders (other than propane)\, asbestos or polychlorinated biphenyls (PCB). \n\n\nTires and latex paint (latex paint can be dried with kitty litter and placed in household trash). \n\n\nThe City reserves the right to exclude any other items that are not listed here but are not accepted by the hazardous waste company. \n\nFor more information\, please call 617-394-2270. \n\n\n\n                \n                        NameThis field is for validation purposes and should be left unchanged.Help Us Improve Our WebsiteDid you find what you needed today?\n			\n					\n					Yes\n			\n			\n					\n					No\n			Great!Anything we can improve on this page?Sorry about that.How can we improve this page?
URL:https://cityofeverett.com/events/hazardous-waste-day-2025/
LOCATION:Rivergreen Park\, 1 Rivergreen Drive\, Everett\, MA\, 02149\, United States
CATEGORIES:Events
ATTACH;FMTTYPE=image/png:https://cityofeverett.com/wp-content/uploads/2025/08/Hazardous-Waste-Day-Social-e1756219357340.png
END:VEVENT
BEGIN:VEVENT
DTSTART;TZID=America/New_York:20250510T110000
DTEND;TZID=America/New_York:20250510T140000
DTSTAMP:20260420T142612
CREATED:20250424T181235Z
LAST-MODIFIED:20250510T001140Z
UID:10002269-1746874800-1746885600@cityofeverett.com
SUMMARY:Spring Family Bike Ride
DESCRIPTION:REGISTER HERE \nCome join us on Mother’s Day weekend with an activity for the whole family to enjoy! On May 10th from 11:00 a.m. to 2:00 p.m.\, join the Everett Active Transportation Advisory Committee and Bike to the Sea for a FREE five-mile bike ride along the Northern Strand Trail and post-ride activities such as bingo\, coloring\, chalk\, prizes\, food\, and beverages! A lot of smiles and memories will be made. \nMeet us at the Rivergreen Park playground on Rivergreen Drive at 11:00 a.m. \nFREE BlueBikes available upon request at registration. Register in advance today! \nVehicle parking available on Rivergreen Drive. Bike Parking available at the playground. \nREGISTER HERE \nPlease reach out to eric.molinari@ci.everett.ma.us with any questions. \n\n\n\n                \n                        InstagramThis field is for validation purposes and should be left unchanged.Help Us Improve Our WebsiteDid you find what you needed today?\n			\n					\n					Yes\n			\n			\n					\n					No\n			Great!Anything we can improve on this page?Sorry about that.How can we improve this page?
URL:https://cityofeverett.com/events/spring-family-bike-ride-2025/
LOCATION:Rivergreen Park\, 1 Rivergreen Drive\, Everett\, MA\, 02149\, United States
CATEGORIES:Events
ATTACH;FMTTYPE=image/jpeg:https://cityofeverett.com/wp-content/uploads/2025/04/Spring-Family-Bike-Ride-SM-Post-e1745517834488.jpg
ORGANIZER;CN="Everett Active Transportation Advisory Committee":MAILTO:contact@everettatac.org
END:VEVENT
BEGIN:VEVENT
DTSTART;TZID=America/New_York:20240928T130000
DTEND;TZID=America/New_York:20240928T180000
DTSTAMP:20260420T142612
CREATED:20240923T115040Z
LAST-MODIFIED:20240925T190917Z
UID:10001973-1727528400-1727546400@cityofeverett.com
SUMMARY:Fiesta Del Río
DESCRIPTION:In celebration of Hispanic Heritage Month\, Mayor Carlo DeMaria is pleased to announce the City of Everett will host Fiesta Del Río on Saturday\, September 28 from 1 p.m. to 6 p.m. at Rivergreen Park. The event will feature a vibrant lineup of musical performances by local and emerging artists\, as well as a variety of delicious dishes from Hispanic-owned restaurants. \n\n\n\n                \n                        CommentsThis field is for validation purposes and should be left unchanged.Help Us Improve Our WebsiteDid you find what you needed today?\n			\n					\n					Yes\n			\n			\n					\n					No\n			Great!Anything we can improve on this page?Sorry about that.How can we improve this page?
URL:https://cityofeverett.com/events/fiesta-del-rio-2024-2/
LOCATION:Rivergreen Park\, 1 Rivergreen Drive\, Everett\, MA\, 02149\, United States
CATEGORIES:Events
ATTACH;FMTTYPE=image/png:https://cityofeverett.com/wp-content/uploads/2024/09/Celebrating-Hispanic-Heritage-e1727291165851.png
ORGANIZER;CN="Planning & Development":MAILTO:Matt.Lattanzi@ci.everett.ma.us
END:VEVENT
BEGIN:VEVENT
DTSTART;TZID=America/New_York:20240921T130000
DTEND;TZID=America/New_York:20240921T180000
DTSTAMP:20260420T142612
CREATED:20240905T144708Z
LAST-MODIFIED:20240921T154933Z
UID:10001935-1726923600-1726941600@cityofeverett.com
SUMMARY:Fiesta Del Río
DESCRIPTION:In celebration of Hispanic Heritage Month\, Mayor Carlo DeMaria is pleased to announce the City of Everett will host Fiesta Del Río on Saturday\, September 21 from 1 p.m. to 6 p.m. at Rivergreen Park. The event will feature a vibrant lineup of musical performances by local and emerging artists\, as well as a variety of delicious dishes from Hispanic-owned restaurants. \n\n\n\n                \n                        EmailThis field is for validation purposes and should be left unchanged.Help Us Improve Our WebsiteDid you find what you needed today?\n			\n					\n					Yes\n			\n			\n					\n					No\n			Great!Anything we can improve on this page?Sorry about that.How can we improve this page?
URL:https://cityofeverett.com/events/fiesta-del-rio-2024/
LOCATION:Rivergreen Park\, 1 Rivergreen Drive\, Everett\, MA\, 02149\, United States
CATEGORIES:Events
ATTACH;FMTTYPE=image/png:https://cityofeverett.com/wp-content/uploads/2024/09/Celebrating-Hispanic-Heritage-edited-e1725547435656.png
ORGANIZER;CN="Planning & Development":MAILTO:Matt.Lattanzi@ci.everett.ma.us
END:VEVENT
BEGIN:VEVENT
DTSTART;TZID=America/New_York:20240824T090000
DTEND;TZID=America/New_York:20240824T130000
DTSTAMP:20260420T142612
CREATED:20240812T113613Z
LAST-MODIFIED:20250311T165733Z
UID:10001905-1724490000-1724504400@cityofeverett.com
SUMMARY:Hazardous Waste Day 2024
DESCRIPTION:City of Everett to Host Hazardous Waste Day\nAn opportunity for Everett residents to safely dispose of hazardous materials \nMayor Carlo DeMaria is pleased to announce the City of Everett will host Hazardous Waste Day for residents to dispose of hazardous materials on Saturday\, August 24 from 9 a.m. to 1 p.m.\, at the Rivergreen Park parking lot (1 Rivergreen Drive). Please be prepared to show proof of residency because it is required to participate and will be checked on site. \n“Properly disposing hazardous waste items is essential to keeping our environment clean\,” said Mayor DeMaria. “The City of Everett is committed to maintaining a clean community\, and thanks to this event\, we can ensure that these items will be properly disposed.” \nPickup Available\nIn an effort to increase accessibility for all residents to participate in this cleanup initiative\, the City is now offering a pickup option for older adults (age 62+) and persons with disabilities. The pickup dates will be between Aug. 19 through Aug. 23\, from 9 a.m. to 2 p.m. for a member of the City team to pick up eligible hazardous waste items. The deadline to request a scheduled pickup is at 12 p.m. on Thursday\, Aug. 15. For more information and to schedule a pickup\, please call 617-394-2270. \nItems that will be accepted for disposal are as follows:\n\nGeneral Household Materials: Acids (Corrosives)\, Aerosol Cans\, Art Supplies\, Batteries\, Chemistry Set Chemicals\, Fiberglass Resins\, Polishes for Furniture\, Metal & Floors\, Hobby Supplies (Rubber Cement\, Airplane Glue\, etc.)\, Moth Balls/Crystals\, Oil Paint & Paint Thinners\, Varnish\, Stain & Shellac (No Latex Paint Allowed)\, Paint Strippers\, Photography Chemicals\, Rug & Upholstery Cleaners\, Solvent Adhesives\, Turpentine & Other Paint Solvents\, Wood Preservatives\, Fluorescent Light Bulbs.\nLawn and Garden Materials: Flammable Liquids/Gasoline\, Flea & Tick Powders\, Fire Starters\, Fungicides\, Herbicides\, Insecticides\, No-Pest Strips\, Pesticides\, Poisons\, Pool Chemicals\, SMALL Propane Tanks (For Portable Grills & Camping).\nBathroom Products: Hair Dye\, Nail Polish Remover\, Toilet Cleaners.\nLaundry Materials: Brighteners\, Chlorine Bleach\, Spot Removers\, Spray Starch\, Whiteners.\nKitchen Materials: Drain Cleaners\, Lighter Fluids\, Oven Cleaners.\nAutomotive Products: Antifreeze\, Batteries (Auto\, Motorcycles\, etc.)\, Brake Fluid\, Carburetor Cleaner\, Radiator Flush\, Solvents & Degreasers\, Tire Cleaners\, Transmission Fluid\, Waste Fuels (Gasoline\, Kerosene\, etc.).\n\nItems that will NOT be accepted for disposal are as follows:\n\nAppliances\, Ammunition\, Bulk Items\, Fireworks\, Furniture\, Explosives\, Gunpowder\, Unknown Cylinders\, Asbestos\, Commercial Clean Outs\, Electronics\, Gas Cylinders (Other than Propane)\, Metal tanks other than Propane (e.g. Freon\, Helium\, Acetylene)\, Hypodermic Needles & Medical Sharps\, Prescription Medications\, PCBs\, Radioactive Materials\, Smoke Detectors\, Tires and Latex Paint.*\n\n*Latex paint containers can be filled with kitty litter and disposed in your regular trash. \nPlease note that the City has the right to exclude any item not listed that is not accepted by the hazardous waste company. \nImportant Information\n\nThe registration deadline is firm. If a resident misses the deadline to schedule a pickup\, they still have the option of participating by visiting the Rivergreen location through their own means.\nThe resident must be present at the residence for collection of hazardous waste. Items cannot be left curbside.\nRescheduling a pickup is not available. There will not be a second visit if the resident misses their scheduled pickup.\nOnly the items that were noted upon registration will be collected.\n\nFor questions or concerns\, please call 617-394-2270. \n \n\n\n\n                \n                        X/TwitterThis field is for validation purposes and should be left unchanged.Help Us Improve Our WebsiteDid you find what you needed today?\n			\n					\n					Yes\n			\n			\n					\n					No\n			Great!Anything we can improve on this page?Sorry about that.How can we improve this page?
URL:https://cityofeverett.com/events/hazardous-waste-day-2024/
LOCATION:Rivergreen Park\, 1 Rivergreen Drive\, Everett\, MA\, 02149\, United States
CATEGORIES:Events
ATTACH;FMTTYPE=image/png:https://cityofeverett.com/wp-content/uploads/2024/08/2024-Hazardous-Waste-Day-TV-e1723463041873.png
END:VEVENT
BEGIN:VEVENT
DTSTART;TZID=America/New_York:20230930T090000
DTEND;TZID=America/New_York:20230930T130000
DTSTAMP:20260420T142612
CREATED:20230921T145558Z
LAST-MODIFIED:20250311T165804Z
UID:10001505-1696064400-1696078800@cityofeverett.com
SUMMARY:Hazardous Waste Day 2023
DESCRIPTION:City of Everett to Host Hazardous Waste Day\nAn opportunity for Everett residents to safely dispose of hazardous materials \nMayor Carlo DeMaria is pleased to announce the City of Everett will host a Hazardous Waste Day for residents to dispose of hazardous materials on Saturday\, Sept. 30 from 9 a.m. to 1 p.m.\, at the Rivergreen Park parking lot\, 1 Rivergreen Drive. Please be prepared to show proof of residency because it is required to participate and will be checked on site. \nThe City will be partnering with Trident Environmental Group\, a specialty waste company\, to help dispose the hazardous items collected. \n“Properly disposing hazardous waste items is essential to keeping our environment clean\,” said Mayor DeMaria. “The City of Everett is committed to maintaining a clean community\, and by partnering with Trident Environmental Group\, we can ensure that these items will be properly disposed.” \nItems that will be accepted for disposal are as follows:\n\nGeneral Household Materials: Acids (Corrosives)\, Aerosol Cans\, Art Supplies\, Batteries\, Chemistry Set Chemicals\, Fiberglass Resins\, Furniture\, Floor\, Metal Polishes & Strippers (For Furniture\, Floors\, etc.)\, Hobby Supplies (Rubber Cement\, Airplane Glue\, etc.)\, Moth Balls/Crystals\, Oil Paint & Paint Thinners\, Varnish\, Stain & Shellac (No Latex Paint Allowed)\, Paint Strippers\, Photography Chemicals\, Rug & Upholstery Cleaners\, Solvent Adhesives\, Turpentine & Other Paint Solvents\, Wood Preservatives\, Fluorescent Light Bulbs.\nLawn and Garden Materials: Flammable Liquids/Gasoline\, Flea & Tick Powders\, Fire Starters\, Fungicides\, Herbicides\, Insecticides\, No-Pest Strips\, Pesticides\, Poisons\, Pool Chemicals\, SMALL Propane Tanks (For Portable Grills & Camping).\nBathroom Products: Hair Dye\, Nail Polish Remover\, Toilet Cleaners.\nLaundry Materials: Brighteners\, Chlorine Bleach\, Spot Removers\, Spray Starch\, Whiteners.\nKitchen Materials: Drain Cleaners\, Lighter Fluids\, Oven Cleaners.\nAutomotive Products: Antifreeze\, Batteries (Auto\, Motorcycles\, etc.)\, Brake Fluid\, Carburetor Cleaner\, Radiator Flush\, Solvents & Degreasers\, Tire Cleaners\, Transmission Fluid\, Waste Fuels (Gasoline\, Kerosene\, etc.).\n\nItems that will NOT be accepted for disposal are as follows:\n\nAppliances\, Ammunition\, Fireworks\, Explosives\, Gunpowder\, Unknown Cylinders\, etc.\, Asbestos\, Commercial Hazardous Waste\, Electronics\, Gas Cylinders (Other than Propane)\, Metal tanks\, Other than Propane (e.g. Freon\, Helium\, Acetylene)\, Hypodermic Needles & Medical Sharps\, Prescription Medications\, PCBs\, Radioactive Materials\, Smoke Detectors\, Tires and Latex Paint.*\n\n*Latex paint containers can be filled with kitty litter and disposed in your regular trash. \n\n\n\n                \n                        InstagramThis field is for validation purposes and should be left unchanged.Help Us Improve Our WebsiteDid you find what you needed today?\n			\n					\n					Yes\n			\n			\n					\n					No\n			Great!Anything we can improve on this page?Sorry about that.How can we improve this page?
URL:https://cityofeverett.com/events/hazardous-waste-day-2023/
LOCATION:Rivergreen Park\, 1 Rivergreen Drive\, Everett\, MA\, 02149\, United States
CATEGORIES:Events
ATTACH;FMTTYPE=image/png:https://cityofeverett.com/wp-content/uploads/2023/09/Hazardous-Waste-Day-2023-Banner-e1695307489820.png
END:VEVENT
BEGIN:VEVENT
DTSTART;TZID=America/New_York:20230624T090000
DTEND;TZID=America/New_York:20230624T130000
DTSTAMP:20260420T142612
CREATED:20230615T135247Z
LAST-MODIFIED:20230615T150711Z
UID:10001433-1687597200-1687611600@cityofeverett.com
SUMMARY:Shredding Day
DESCRIPTION:Mayor DeMaria Announces Shredding Day for Residents \nAn opportunity for residents to properly shred and dispose of old or unwanted documents for free \nMayor Carlo DeMaria is pleased to announce the City of Everett will be hosting a shredding day for residents to shred and properly dispose of any old or unwanted documents. The shredding day will take place on Saturday\, June 24\, from 9 a.m. to 1 p.m. at the Rivergreen parking lot located at 1 Rivergreen Drive. \nThe City has partnered with Mass Bay Credit Union and Stericycle to provide the opportunity for residents to properly shred old documents that may contain sensitive details pertaining to their personal information as it is important to keep your private information protected. This event offers a chance to safely and securely shred these documents and any others you would like to discard. \n“Properly shredding important documents containing sensitive information is important to keeping your private information protected\,” said Mayor DeMaria. “We wanted to offer residents the chance to safely and securely dispose of these documents\, and by partnering with Mass Bay Credit Union and Stericycle\, we can ensure that these items will be properly shredded.” \nPlease be prepared to show proof of residency when you arrive because this event is for Everett residents only. Residents can bring many types of old or unwanted documents that are commonly found in homes\, such as the following: \n\nFinancial documents\nMedical records\nNewspapers\nLegal documents\nReceipts & invoices\nTax records\nW-2 and W-4 forms\nUtility bills\nBank statements\nContracts\nCanceled checks\nCredit card statements\nPay stubs\nAny other documents containing personal information\n\nFor more information\, please contact 617-394-2270. \n\n\n\n                \n                        URLThis field is for validation purposes and should be left unchanged.Help Us Improve Our WebsiteDid you find what you needed today?\n			\n					\n					Yes\n			\n			\n					\n					No\n			Great!Anything we can improve on this page?Sorry about that.How can we improve this page?
URL:https://cityofeverett.com/events/shredding-day/
LOCATION:Rivergreen Park\, 1 Rivergreen Drive\, Everett\, MA\, 02149\, United States
CATEGORIES:Events
ATTACH;FMTTYPE=image/png:https://cityofeverett.com/wp-content/uploads/2023/06/Shredding-Day-FB-Banner-e1686841622790.png
END:VEVENT
BEGIN:VEVENT
DTSTART;TZID=America/New_York:20230422T080000
DTEND;TZID=America/New_York:20230422T120000
DTSTAMP:20260420T142612
CREATED:20230328T164625Z
LAST-MODIFIED:20230412T121537Z
UID:10001244-1682150400-1682164800@cityofeverett.com
SUMMARY:Earth Day Celebration
DESCRIPTION:Mayor Carlo DeMaria invites all residents to join us as we clean up and plant new life at Rivergreen Park in celebration of Earth Day!\nEarth Day is recognized every year on April 22 to celebrate the anniversary of the birth of the modern environmental movement. It also serves as a reminder to us all to take care of our planet. The City will be taking part in celebrating Earth Day by hosting our annual clean up effort. \n \nThere will be many activities for all ages and abilities from big lift to sedentary tasks. Throughout the event\, our community will be creating and maintaining new life by planting trees and shrubs\, putting down mulch in wooded areas\, mixing and spreading seed to create wildflowers and creating homes for birds. We will also be improving areas by picking up trash and debris\, cleaning up the dock\, raking phragmites to create nests for critters and remove invasive plant species that harm the environment and kill native plants. \n \nIn addition\, there will be activities for participants after the cleanup including a cookout\, boat and canoe rides as well as demonstrations from the Everett High School and Wentworth Crew teams on the Malden River for all who participated to say thank you for helping us in this tremendous community clean-up effort. \n \nRegister Now!\nPlease complete the registration form by clicking here. Please remember to click ‘submit’ once you have finished filling out the form. \nhttps://forms.gle/tF9VHsRRZhM2fqgx7 \n\n\n\n                \n                        PhoneThis field is for validation purposes and should be left unchanged.Help Us Improve Our WebsiteDid you find what you needed today?\n			\n					\n					Yes\n			\n			\n					\n					No\n			Great!Anything we can improve on this page?Sorry about that.How can we improve this page?
URL:https://cityofeverett.com/events/celebrate-earth-day/
LOCATION:Rivergreen Park\, 1 Rivergreen Drive\, Everett\, MA\, 02149\, United States
CATEGORIES:Events
ATTACH;FMTTYPE=image/png:https://cityofeverett.com/wp-content/uploads/2023/03/Celebrate-Earth-Day-Banner-e1680030164219.png
END:VEVENT
END:VCALENDAR